Workbook

Sheet Utilizadores com hits
A1: Parceiro nº | B1: Data | C1: Nota nº | D1: Utilizador | E1: Utilizador ID | F1: B utilizador | G1: Nota ID | H1: Comentário | I1: Cor Utilizador | J1: Nº | R1: Copiar esta coluna para o fórum
A2: 245 | B2: 2018-03-27 | C2: 200003 | D2: Anamar | E2: 203473 | F2: :flag-pt: | G2: 184566956 | I2: black | J2: =ROW()-1 -> 1 | K2: =IF(AND($A2<>"",$C2<>""),CONCATENATE("[size=85][b]",IF(LEN(A2)<3,CONCATENATE("[color=",Definicoes_Instrucoes!$B$5,"]",MID("000",1,3-LEN(A2)),"[/color]"),""),"[color=",Definicoes_Instrucoes!$B$1,"]",A2,"[/color]",IF(A2=1,CONCATENATE(" parceiro","[color=",Definicoes_Instrucoes!$B$5,"]","s","[/color]")," parceiros")," de hit, nota nº ",IF(LEN(C2)<6,CONCATENATE("[color=",Definicoes_Instrucoes!$B$5,"]",MID("000000",1,6-LEN(C2)),"[/color]"),""),"[color=",Definicoes_Instrucoes!$B$2,"]",C2,"[/color]","[/b]"),"") -> [size=85][b][color=red]245[/color] parceiros de hit, nota nº [color=black]200003[/color][/b] | L2: =IF($B2<>""," - ","") -> - | M2: =IF($B2<>"",CONCATENATE(" [b]","[color=",Definicoes_Instrucoes!$B$3,"]",$B2,"[/color]","[/b]"),"") -> [b][color=#005188]2018-03-27[/color][/b] | N2: =IF($F2<>"",CONCATENATE(" - ",$F2),"") -> - :flag-pt: | O2: =IF(AND($D2<>"",$G2<>"",$I2<>""),CONCATENATE(" ",IF($G2<>"",CONCATENATE("[url=https://pt.eurobilltracker.com/notes/?id=",$G2,"]"),""),"[color=",$I2,"][b]",$D2,"[/b][/color]",IF($G2<>"","[/url]","")),"") -> [url=https://pt.eurobilltracker.com/notes/?id=184566956][color=black][b]Anamar[/b][/color][/url] | P2: =IF($H2<>"",CONCATENATE(" – [color=",Definicoes_Instrucoes!$B$4,"]",$H2,"[/color]"),"") | Q2: =IF($B2<>"","[/size]","") -> [/size] | R2: =IF(AND($A2<>"",$B2<>"",$C2<>"",$D2<>"",$F2<>"",$G2<>"",$I2<>""),CONCATENATE(K2,L2,M2,N2,O2,P2,Q2),"") -> [size=85][b][color=red]245[/color] parceiros de hit, nota nº [color=black]200003[/color][/b] - [b][color=#005188]2018-03-27[/color][/b] - :flag-pt: [url=https://pt.eurobilltracker.com/notes/?id=184566956][color=black][b]Anamar[/b][/color][/url][/size]
A3: 244 | B3: 2018-03-25 | C3: 180126 | D3: HelderM | E3: 135701 | F3: :flag-pt: | G3: 179418695 | I3: black | J3: =ROW()-1 -> 2 | K3: =IF(AND($A3<>"",$C3<>""),CONCATENATE("[size=85][b]",IF(LEN(A3)<3,CONCATENATE("[color=",Definicoes_Instrucoes!$B$5,"]",MID("000",1,3-LEN(A3)),"[/color]"),""),"[color=",Definicoes_Instrucoes!$B$1,"]",A3,"[/color]",IF(A3=1,CONCATENATE(" parceiro","[color=",Definicoes_Instrucoes!$B$5,"]","s","[/color]")," parceiros")," de hit, nota nº ",IF(LEN(C3)<6,CONCATENATE("[color=",Definicoes_Instrucoes!$B$5,"]",MID("000000",1,6-LEN(C3)),"[/color]"),""),"[color=",Definicoes_Instrucoes!$B$2,"]",C3,"[/color]","[/b]"),"") -> [size=85][b][color=red]244[/color] parceiros de hit, nota nº [color=black]180126[/color][/b] | L3: =IF($B3<>""," - ","") -> - | M3: =IF($B3<>"",CONCATENATE(" [b]","[color=",Definicoes_Instrucoes!$B$3,"]",$B3,"[/color]","[/b]"),"") -> [b][color=#005188]2018-03-25[/color][/b] | N3: =IF($F3<>"",CONCATENATE(" - ",$F3),"") -> - :flag-pt: | O3: =IF(AND($D3<>"",$G3<>"",$I3<>""),CONCATENATE(" ",IF($G3<>"",CONCATENATE("[url=https://pt.eurobilltracker.com/notes/?id=",$G3,"]"),""),"[color=",$I3,"][b]",$D3,"[/b][/color]",IF($G3<>"","[/url]","")),"") -> [url=https://pt.eurobilltracker.com/notes/?id=179418695][color=black][b]HelderM[/b][/color][/url] | P3: =IF($H3<>"",CONCATENATE(" – [color=",Definicoes_Instrucoes!$B$4,"]",$H3,"[/color]"),"") | Q3: =IF($B3<>"","[/size]","") -> [/size] | R3: =IF(AND($A3<>"",$B3<>"",$C3<>"",$D3<>"",$F3<>"",$G3<>"",$I3<>""),CONCATENATE(K3,L3,M3,N3,O3,P3,Q3),"") -> [size=85][b][color=red]244[/color] parceiros de hit, nota nº [color=black]180126[/color][/b] - [b][color=#005188]2018-03-25[/color][/b] - :flag-pt: [url=https://pt.eurobilltracker.com/notes/?id=179418695][color=black][b]HelderM[/b][/color][/url][/size]
A4: 243 | B4: 2018-02-10 | C4: 181258 | D4: lsc03 | E4: 186444 | F4: :flag-pt: | G4: 179683688 | I4: black | J4: =ROW()-1 -> 3 | K4: =IF(AND($A4<>"",$C4<>""),CONCATENATE("[size=85][b]",IF(LEN(A4)<3,CONCATENATE("[color=",Definicoes_Instrucoes!$B$5,"]",MID("000",1,3-LEN(A4)),"[/color]"),""),"[color=",Definicoes_Instrucoes!$B$1,"]",A4,"[/color]",IF(A4=1,CONCATENATE(" parceiro","[color=",Definicoes_Instrucoes!$B$5,"]","s","[/color]")," parceiros")," de hit, nota nº ",IF(LEN(C4)<6,CONCATENATE("[color=",Definicoes_Instrucoes!$B$5,"]",MID("000000",1,6-LEN(C4)),"[/color]"),""),"[color=",Definicoes_Instrucoes!$B$2,"]",C4,"[/color]","[/b]"),"") -> [size=85][b][color=red]243[/color] parceiros de hit, nota nº [color=black]181258[/color][/b] | L4: =IF($B4<>""," - ","") -> - | M4: =IF($B4<>"",CONCATENATE(" [b]","[color=",Definicoes_Instrucoes!$B$3,"]",$B4,"[/color]","[/b]"),"") -> [b][color=#005188]2018-02-10[/color][/b] | N4: =IF($F4<>"",CONCATENATE(" - ",$F4),"") -> - :flag-pt: | O4: =IF(AND($D4<>"",$G4<>"",$I4<>""),CONCATENATE(" ",IF($G4<>"",CONCATENATE("[url=https://pt.eurobilltracker.com/notes/?id=",$G4,"]"),""),"[color=",$I4,"][b]",$D4,"[/b][/color]",IF($G4<>"","[/url]","")),"") -> [url=https://pt.eurobilltracker.com/notes/?id=179683688][color=black][b]lsc03[/b][/color][/url] | P4: =IF($H4<>"",CONCATENATE(" – [color=",Definicoes_Instrucoes!$B$4,"]",$H4,"[/color]"),"") | Q4: =IF($B4<>"","[/size]","") -> [/size] | R4: =IF(AND($A4<>"",$B4<>"",$C4<>"",$D4<>"",$F4<>"",$G4<>"",$I4<>""),CONCATENATE(K4,L4,M4,N4,O4,P4,Q4),"") -> [size=85][b][color=red]243[/color] parceiros de hit, nota nº [color=black]181258[/color][/b] - [b][color=#005188]2018-02-10[/color][/b] - :flag-pt: [url=https://pt.eurobilltracker.com/notes/?id=179683688][color=black][b]lsc03[/b][/color][/url][/size]
A5: 242 | B5: 2018-01-20 | C5: 132475 | D5: mb99 | E5: 68868 | F5: :flag-pt: | G5: 158003620 | I5: black | J5: =ROW()-1 -> 4 | K5: =IF(AND($A5<>"",$C5<>""),CONCATENATE("[size=85][b]",IF(LEN(A5)<3,CONCATENATE("[color=",Definicoes_Instrucoes!$B$5,"]",MID("000",1,3-LEN(A5)),"[/color]"),""),"[color=",Definicoes_Instrucoes!$B$1,"]",A5,"[/color]",IF(A5=1,CONCATENATE(" parceiro","[color=",Definicoes_Instrucoes!$B$5,"]","s","[/color]")," parceiros")," de hit, nota nº ",IF(LEN(C5)<6,CONCATENATE("[color=",Definicoes_Instrucoes!$B$5,"]",MID("000000",1,6-LEN(C5)),"[/color]"),""),"[color=",Definicoes_Instrucoes!$B$2,"]",C5,"[/color]","[/b]"),"") -> [size=85][b][color=red]242[/color] parceiros de hit, nota nº [color=black]132475[/color][/b] | L5: =IF($B5<>""," - ","") -> - | M5: =IF($B5<>"",CONCATENATE(" [b]","[color=",Definicoes_Instrucoes!$B$3,"]",$B5,"[/color]","[/b]"),"") -> [b][color=#005188]2018-01-20[/color][/b] | N5: =IF($F5<>"",CONCATENATE(" - ",$F5),"") -> - :flag-pt: | O5: =IF(AND($D5<>"",$G5<>"",$I5<>""),CONCATENATE(" ",IF($G5<>"",CONCATENATE("[url=https://pt.eurobilltracker.com/notes/?id=",$G5,"]"),""),"[color=",$I5,"][b]",$D5,"[/b][/color]",IF($G5<>"","[/url]","")),"") -> [url=https://pt.eurobilltracker.com/notes/?id=158003620][color=black][b]mb99[/b][/color][/url] | P5: =IF($H5<>"",CONCATENATE(" – [color=",Definicoes_Instrucoes!$B$4,"]",$H5,"[/color]"),"") | Q5: =IF($B5<>"","[/size]","") -> [/size] | R5: =IF(AND($A5<>"",$B5<>"",$C5<>"",$D5<>"",$F5<>"",$G5<>"",$I5<>""),CONCATENATE(K5,L5,M5,N5,O5,P5,Q5),"") -> [size=85][b][color=red]242[/color] parceiros de hit, nota nº [color=black]132475[/color][/b] - [b][color=#005188]2018-01-20[/color][/b] - :flag-pt: [url=https://pt.eurobilltracker.com/notes/?id=158003620][color=black][b]mb99[/b][/color][/url][/size]
A6: 241 | B6: 2018-01-17 | C6: 195077 | D6: Paulzab | E6: 73054 | F6: :flag-be: | G6: 182874976 | I6: black | J6: =ROW()-1 -> 5 | K6: =IF(AND($A6<>"",$C6<>""),CONCATENATE("[size=85][b]",IF(LEN(A6)<3,CONCATENATE("[color=",Definicoes_Instrucoes!$B$5,"]",MID("000",1,3-LEN(A6)),"[/color]"),""),"[color=",Definicoes_Instrucoes!$B$1,"]",A6,"[/color]",IF(A6=1,CONCATENATE(" parceiro","[color=",Definicoes_Instrucoes!$B$5,"]","s","[/color]")," parceiros")," de hit, nota nº ",IF(LEN(C6)<6,CONCATENATE("[color=",Definicoes_Instrucoes!$B$5,"]",MID("000000",1,6-LEN(C6)),"[/color]"),""),"[color=",Definicoes_Instrucoes!$B$2,"]",C6,"[/color]","[/b]"),"") -> [size=85][b][color=red]241[/color] parceiros de hit, nota nº [color=black]195077[/color][/b] | L6: =IF($B6<>""," - ","") -> - | M6: =IF($B6<>"",CONCATENATE(" [b]","[color=",Definicoes_Instrucoes!$B$3,"]",$B6,"[/color]","[/b]"),"") -> [b][color=#005188]2018-01-17[/color][/b] | N6: =IF($F6<>"",CONCATENATE(" - ",$F6),"") -> - :flag-be: | O6: =IF(AND($D6<>"",$G6<>"",$I6<>""),CONCATENATE(" ",IF($G6<>"",CONCATENATE("[url=https://pt.eurobilltracker.com/notes/?id=",$G6,"]"),""),"[color=",$I6,"][b]",$D6,"[/b][/color]",IF($G6<>"","[/url]","")),"") -> [url=https://pt.eurobilltracker.com/notes/?id=182874976][color=black][b]Paulzab[/b][/color][/url] | P6: =IF($H6<>"",CONCATENATE(" – [color=",Definicoes_Instrucoes!$B$4,"]",$H6,"[/color]"),"") | Q6: =IF($B6<>"","[/size]","") -> [/size] | R6: =IF(AND($A6<>"",$B6<>"",$C6<>"",$D6<>"",$F6<>"",$G6<>"",$I6<>""),CONCATENATE(K6,L6,M6,N6,O6,P6,Q6),"") -> [size=85][b][color=red]241[/color] parceiros de hit, nota nº [color=black]195077[/color][/b] - [b][color=#005188]2018-01-17[/color][/b] - :flag-be: [url=https://pt.eurobilltracker.com/notes/?id=182874976][color=black][b]Paulzab[/b][/color][/url][/size]
A7: 240 | B7: 2018-01-14 | C7: 194863 | D7: Claudio-Rapido | E7: 104532 | F7: :flag-it: | G7: 182814245 | I7: black | J7: =ROW()-1 -> 6 | K7: =IF(AND($A7<>"",$C7<>""),CONCATENATE("[size=85][b]",IF(LEN(A7)<3,CONCATENATE("[color=",Definicoes_Instrucoes!$B$5,"]",MID("000",1,3-LEN(A7)),"[/color]"),""),"[color=",Definicoes_Instrucoes!$B$1,"]",A7,"[/color]",IF(A7=1,CONCATENATE(" parceiro","[color=",Definicoes_Instrucoes!$B$5,"]","s","[/color]")," parceiros")," de hit, nota nº ",IF(LEN(C7)<6,CONCATENATE("[color=",Definicoes_Instrucoes!$B$5,"]",MID("000000",1,6-LEN(C7)),"[/color]"),""),"[color=",Definicoes_Instrucoes!$B$2,"]",C7,"[/color]","[/b]"),"") -> [size=85][b][color=red]240[/color] parceiros de hit, nota nº [color=black]194863[/color][/b] | L7: =IF($B7<>""," - ","") -> - | M7: =IF($B7<>"",CONCATENATE(" [b]","[color=",Definicoes_Instrucoes!$B$3,"]",$B7,"[/color]","[/b]"),"") -> [b][color=#005188]2018-01-14[/color][/b] | N7: =IF($F7<>"",CONCATENATE(" - ",$F7),"") -> - :flag-it: | O7: =IF(AND($D7<>"",$G7<>"",$I7<>""),CONCATENATE(" ",IF($G7<>"",CONCATENATE("[url=https://pt.eurobilltracker.com/notes/?id=",$G7,"]"),""),"[color=",$I7,"][b]",$D7,"[/b][/color]",IF($G7<>"","[/url]","")),"") -> [url=https://pt.eurobilltracker.com/notes/?id=182814245][color=black][b]Claudio-Rapido[/b][/color][/url] | P7: =IF($H7<>"",CONCATENATE(" – [color=",Definicoes_Instrucoes!$B$4,"]",$H7,"[/color]"),"") | Q7: =IF($B7<>"","[/size]","") -> [/size] | R7: =IF(AND($A7<>"",$B7<>"",$C7<>"",$D7<>"",$F7<>"",$G7<>"",$I7<>""),CONCATENATE(K7,L7,M7,N7,O7,P7,Q7),"") -> [size=85][b][color=red]240[/color] parceiros de hit, nota nº [color=black]194863[/color][/b] - [b][color=#005188]2018-01-14[/color][/b] - :flag-it: [url=https://pt.eurobilltracker.com/notes/?id=182814245][color=black][b]Claudio-Rapido[/b][/color][/url][/size]
A8: 239 | B8: 2018-01-11 | C8: 194356 | D8: mike0958 | E8: 91448 | F8: :flag-at: | G8: 182731888 | I8: black | J8: =ROW()-1 -> 7 | K8: =IF(AND($A8<>"",$C8<>""),CONCATENATE("[size=85][b]",IF(LEN(A8)<3,CONCATENATE("[color=",Definicoes_Instrucoes!$B$5,"]",MID("000",1,3-LEN(A8)),"[/color]"),""),"[color=",Definicoes_Instrucoes!$B$1,"]",A8,"[/color]",IF(A8=1,CONCATENATE(" parceiro","[color=",Definicoes_Instrucoes!$B$5,"]","s","[/color]")," parceiros")," de hit, nota nº ",IF(LEN(C8)<6,CONCATENATE("[color=",Definicoes_Instrucoes!$B$5,"]",MID("000000",1,6-LEN(C8)),"[/color]"),""),"[color=",Definicoes_Instrucoes!$B$2,"]",C8,"[/color]","[/b]"),"") -> [size=85][b][color=red]239[/color] parceiros de hit, nota nº [color=black]194356[/color][/b] | L8: =IF($B8<>""," - ","") -> - | M8: =IF($B8<>"",CONCATENATE(" [b]","[color=",Definicoes_Instrucoes!$B$3,"]",$B8,"[/color]","[/b]"),"") -> [b][color=#005188]2018-01-11[/color][/b] | N8: =IF($F8<>"",CONCATENATE(" - ",$F8),"") -> - :flag-at: | O8: =IF(AND($D8<>"",$G8<>"",$I8<>""),CONCATENATE(" ",IF($G8<>"",CONCATENATE("[url=https://pt.eurobilltracker.com/notes/?id=",$G8,"]"),""),"[color=",$I8,"][b]",$D8,"[/b][/color]",IF($G8<>"","[/url]","")),"") -> [url=https://pt.eurobilltracker.com/notes/?id=182731888][color=black][b]mike0958[/b][/color][/url] | P8: =IF($H8<>"",CONCATENATE(" – [color=",Definicoes_Instrucoes!$B$4,"]",$H8,"[/color]"),"") | Q8: =IF($B8<>"","[/size]","") -> [/size] | R8: =IF(AND($A8<>"",$B8<>"",$C8<>"",$D8<>"",$F8<>"",$G8<>"",$I8<>""),CONCATENATE(K8,L8,M8,N8,O8,P8,Q8),"") -> [size=85][b][color=red]239[/color] parceiros de hit, nota nº [color=black]194356[/color][/b] - [b][color=#005188]2018-01-11[/color][/b] - :flag-at: [url=https://pt.eurobilltracker.com/notes/?id=182731888][color=black][b]mike0958[/b][/color][/url][/size]
A9: 238 | B9: 2018-01-09 | C9: 194017 | D9: KiloOscar | E9: 151692 | F9: :flag-at: | G9: 182671347 | I9: black | J9: =ROW()-1 -> 8 | K9: =IF(AND($A9<>"",$C9<>""),CONCATENATE("[size=85][b]",IF(LEN(A9)<3,CONCATENATE("[color=",Definicoes_Instrucoes!$B$5,"]",MID("000",1,3-LEN(A9)),"[/color]"),""),"[color=",Definicoes_Instrucoes!$B$1,"]",A9,"[/color]",IF(A9=1,CONCATENATE(" parceiro","[color=",Definicoes_Instrucoes!$B$5,"]","s","[/color]")," parceiros")," de hit, nota nº ",IF(LEN(C9)<6,CONCATENATE("[color=",Definicoes_Instrucoes!$B$5,"]",MID("000000",1,6-LEN(C9)),"[/color]"),""),"[color=",Definicoes_Instrucoes!$B$2,"]",C9,"[/color]","[/b]"),"") -> [size=85][b][color=red]238[/color] parceiros de hit, nota nº [color=black]194017[/color][/b] | L9: =IF($B9<>""," - ","") -> - | M9: =IF($B9<>"",CONCATENATE(" [b]","[color=",Definicoes_Instrucoes!$B$3,"]",$B9,"[/color]","[/b]"),"") -> [b][color=#005188]2018-01-09[/color][/b] | N9: =IF($F9<>"",CONCATENATE(" - ",$F9),"") -> - :flag-at: | O9: =IF(AND($D9<>"",$G9<>"",$I9<>""),CONCATENATE(" ",IF($G9<>"",CONCATENATE("[url=https://pt.eurobilltracker.com/notes/?id=",$G9,"]"),""),"[color=",$I9,"][b]",$D9,"[/b][/color]",IF($G9<>"","[/url]","")),"") -> [url=https://pt.eurobilltracker.com/notes/?id=182671347][color=black][b]KiloOscar[/b][/color][/url] | P9: =IF($H9<>"",CONCATENATE(" – [color=",Definicoes_Instrucoes!$B$4,"]",$H9,"[/color]"),"") | Q9: =IF($B9<>"","[/size]","") -> [/size] | R9: =IF(AND($A9<>"",$B9<>"",$C9<>"",$D9<>"",$F9<>"",$G9<>"",$I9<>""),CONCATENATE(K9,L9,M9,N9,O9,P9,Q9),"") -> [size=85][b][color=red]238[/color] parceiros de hit, nota nº [color=black]194017[/color][/b] - [b][color=#005188]2018-01-09[/color][/b] - :flag-at: [url=https://pt.eurobilltracker.com/notes/?id=182671347][color=black][b]KiloOscar[/b][/color][/url][/size]
A10: 237 | B10: 2018-01-04 | C10: 193420 | D10: sinehera | E10: 91222 | F10: :flag-at: | G10: 182536513 | I10: black | J10: =ROW()-1 -> 9 | K10: =IF(AND($A10<>"",$C10<>""),CONCATENATE("[size=85][b]",IF(LEN(A10)<3,CONCATENATE("[color=",Definicoes_Instrucoes!$B$5,"]",MID("000",1,3-LEN(A10)),"[/color]"),""),"[color=",Definicoes_Instrucoes!$B$1,"]",A10,"[/color]",IF(A10=1,CONCATENATE(" parceiro","[color=",Definicoes_Instrucoes!$B$5,"]","s","[/color]")," parceiros")," de hit, nota nº ",IF(LEN(C10)<6,CONCATENATE("[color=",Definicoes_Instrucoes!$B$5,"]",MID("000000",1,6-LEN(C10)),"[/color]"),""),"[color=",Definicoes_Instrucoes!$B$2,"]",C10,"[/color]","[/b]"),"") -> [size=85][b][color=red]237[/color] parceiros de hit, nota nº [color=black]193420[/color][/b] | L10: =IF($B10<>""," - ","") -> - | M10: =IF($B10<>"",CONCATENATE(" [b]","[color=",Definicoes_Instrucoes!$B$3,"]",$B10,"[/color]","[/b]"),"") -> [b][color=#005188]2018-01-04[/color][/b] | N10: =IF($F10<>"",CONCATENATE(" - ",$F10),"") -> - :flag-at: | O10: =IF(AND($D10<>"",$G10<>"",$I10<>""),CONCATENATE(" ",IF($G10<>"",CONCATENATE("[url=https://pt.eurobilltracker.com/notes/?id=",$G10,"]"),""),"[color=",$I10,"][b]",$D10,"[/b][/color]",IF($G10<>"","[/url]","")),"") -> [url=https://pt.eurobilltracker.com/notes/?id=182536513][color=black][b]sinehera[/b][/color][/url] | P10: =IF($H10<>"",CONCATENATE(" – [color=",Definicoes_Instrucoes!$B$4,"]",$H10,"[/color]"),"") | Q10: =IF($B10<>"","[/size]","") -> [/size] | R10: =IF(AND($A10<>"",$B10<>"",$C10<>"",$D10<>"",$F10<>"",$G10<>"",$I10<>""),CONCATENATE(K10,L10,M10,N10,O10,P10,Q10),"") -> [size=85][b][color=red]237[/color] parceiros de hit, nota nº [color=black]193420[/color][/b] - [b][color=#005188]2018-01-04[/color][/b] - :flag-at: [url=https://pt.eurobilltracker.com/notes/?id=182536513][color=black][b]sinehera[/b][/color][/url][/size]
A11: 236 | B11: 2018-01-04 | C11: 193393 | D11: Ich & Friends | E11: 191767 | F11: :flag-de: | G11: 182528889 | I11: black | J11: =ROW()-1 -> 10 | K11: =IF(AND($A11<>"",$C11<>""),CONCATENATE("[size=85][b]",IF(LEN(A11)<3,CONCATENATE("[color=",Definicoes_Instrucoes!$B$5,"]",MID("000",1,3-LEN(A11)),"[/color]"),""),"[color=",Definicoes_Instrucoes!$B$1,"]",A11,"[/color]",IF(A11=1,CONCATENATE(" parceiro","[color=",Definicoes_Instrucoes!$B$5,"]","s","[/color]")," parceiros")," de hit, nota nº ",IF(LEN(C11)<6,CONCATENATE("[color=",Definicoes_Instrucoes!$B$5,"]",MID("000000",1,6-LEN(C11)),"[/color]"),""),"[color=",Definicoes_Instrucoes!$B$2,"]",C11,"[/color]","[/b]"),"") -> [size=85][b][color=red]236[/color] parceiros de hit, nota nº [color=black]193393[/color][/b] | L11: =IF($B11<>""," - ","") -> - | M11: =IF($B11<>"",CONCATENATE(" [b]","[color=",Definicoes_Instrucoes!$B$3,"]",$B11,"[/color]","[/b]"),"") -> [b][color=#005188]2018-01-04[/color][/b] | N11: =IF($F11<>"",CONCATENATE(" - ",$F11),"") -> - :flag-de: | O11: =IF(AND($D11<>"",$G11<>"",$I11<>""),CONCATENATE(" ",IF($G11<>"",CONCATENATE("[url=https://pt.eurobilltracker.com/notes/?id=",$G11,"]"),""),"[color=",$I11,"][b]",$D11,"[/b][/color]",IF($G11<>"","[/url]","")),"") -> [url=https://pt.eurobilltracker.com/notes/?id=182528889][color=black][b]Ich & Friends[/b][/color][/url] | P11: =IF($H11<>"",CONCATENATE(" – [color=",Definicoes_Instrucoes!$B$4,"]",$H11,"[/color]"),"") | Q11: =IF($B11<>"","[/size]","") -> [/size] | R11: =IF(AND($A11<>"",$B11<>"",$C11<>"",$D11<>"",$F11<>"",$G11<>"",$I11<>""),CONCATENATE(K11,L11,M11,N11,O11,P11,Q11),"") -> [size=85][b][color=red]236[/color] parceiros de hit, nota nº [color=black]193393[/color][/b] - [b][color=#005188]2018-01-04[/color][/b] - :flag-de: [url=https://pt.eurobilltracker.com/notes/?id=182528889][color=black][b]Ich & Friends[/b][/color][/url][/size]
A12: 235 | B12: 2018-01-03 | C12: 193382 | D12: Wechsler | E12: 137399 | F12: :flag-fr: | G12: 182525136 | I12: black | J12: =ROW()-1 -> 11 | K12: =IF(AND($A12<>"",$C12<>""),CONCATENATE("[size=85][b]",IF(LEN(A12)<3,CONCATENATE("[color=",Definicoes_Instrucoes!$B$5,"]",MID("000",1,3-LEN(A12)),"[/color]"),""),"[color=",Definicoes_Instrucoes!$B$1,"]",A12,"[/color]",IF(A12=1,CONCATENATE(" parceiro","[color=",Definicoes_Instrucoes!$B$5,"]","s","[/color]")," parceiros")," de hit, nota nº ",IF(LEN(C12)<6,CONCATENATE("[color=",Definicoes_Instrucoes!$B$5,"]",MID("000000",1,6-LEN(C12)),"[/color]"),""),"[color=",Definicoes_Instrucoes!$B$2,"]",C12,"[/color]","[/b]"),"") -> [size=85][b][color=red]235[/color] parceiros de hit, nota nº [color=black]193382[/color][/b] | L12: =IF($B12<>""," - ","") -> - | M12: =IF($B12<>"",CONCATENATE(" [b]","[color=",Definicoes_Instrucoes!$B$3,"]",$B12,"[/color]","[/b]"),"") -> [b][color=#005188]2018-01-03[/color][/b] | N12: =IF($F12<>"",CONCATENATE(" - ",$F12),"") -> - :flag-fr: | O12: =IF(AND($D12<>"",$G12<>"",$I12<>""),CONCATENATE(" ",IF($G12<>"",CONCATENATE("[url=https://pt.eurobilltracker.com/notes/?id=",$G12,"]"),""),"[color=",$I12,"][b]",$D12,"[/b][/color]",IF($G12<>"","[/url]","")),"") -> [url=https://pt.eurobilltracker.com/notes/?id=182525136][color=black][b]Wechsler[/b][/color][/url] | P12: =IF($H12<>"",CONCATENATE(" – [color=",Definicoes_Instrucoes!$B$4,"]",$H12,"[/color]"),"") | Q12: =IF($B12<>"","[/size]","") -> [/size] | R12: =IF(AND($A12<>"",$B12<>"",$C12<>"",$D12<>"",$F12<>"",$G12<>"",$I12<>""),CONCATENATE(K12,L12,M12,N12,O12,P12,Q12),"") -> [size=85][b][color=red]235[/color] parceiros de hit, nota nº [color=black]193382[/color][/b] - [b][color=#005188]2018-01-03[/color][/b] - :flag-fr: [url=https://pt.eurobilltracker.com/notes/?id=182525136][color=black][b]Wechsler[/b][/color][/url][/size]
A13: 234 | B13: 2017-12-16 | C13: 192087 | D13: cornjac | E13: 28502 | F13: :flag-nl: | G13: 181985174 | I13: black | J13: =ROW()-1 -> 12 | K13: =IF(AND($A13<>"",$C13<>""),CONCATENATE("[size=85][b]",IF(LEN(A13)<3,CONCATENATE("[color=",Definicoes_Instrucoes!$B$5,"]",MID("000",1,3-LEN(A13)),"[/color]"),""),"[color=",Definicoes_Instrucoes!$B$1,"]",A13,"[/color]",IF(A13=1,CONCATENATE(" parceiro","[color=",Definicoes_Instrucoes!$B$5,"]","s","[/color]")," parceiros")," de hit, nota nº ",IF(LEN(C13)<6,CONCATENATE("[color=",Definicoes_Instrucoes!$B$5,"]",MID("000000",1,6-LEN(C13)),"[/color]"),""),"[color=",Definicoes_Instrucoes!$B$2,"]",C13,"[/color]","[/b]"),"") -> [size=85][b][color=red]234[/color] parceiros de hit, nota nº [color=black]192087[/color][/b] | L13: =IF($B13<>""," - ","") -> - | M13: =IF($B13<>"",CONCATENATE(" [b]","[color=",Definicoes_Instrucoes!$B$3,"]",$B13,"[/color]","[/b]"),"") -> [b][color=#005188]2017-12-16[/color][/b] | N13: =IF($F13<>"",CONCATENATE(" - ",$F13),"") -> - :flag-nl: | O13: =IF(AND($D13<>"",$G13<>"",$I13<>""),CONCATENATE(" ",IF($G13<>"",CONCATENATE("[url=https://pt.eurobilltracker.com/notes/?id=",$G13,"]"),""),"[color=",$I13,"][b]",$D13,"[/b][/color]",IF($G13<>"","[/url]","")),"") -> [url=https://pt.eurobilltracker.com/notes/?id=181985174][color=black][b]cornjac[/b][/color][/url] | P13: =IF($H13<>"",CONCATENATE(" – [color=",Definicoes_Instrucoes!$B$4,"]",$H13,"[/color]"),"") | Q13: =IF($B13<>"","[/size]","") -> [/size] | R13: =IF(AND($A13<>"",$B13<>"",$C13<>"",$D13<>"",$F13<>"",$G13<>"",$I13<>""),CONCATENATE(K13,L13,M13,N13,O13,P13,Q13),"") -> [size=85][b][color=red]234[/color] parceiros de hit, nota nº [color=black]192087[/color][/b] - [b][color=#005188]2017-12-16[/color][/b] - :flag-nl: [url=https://pt.eurobilltracker.com/notes/?id=181985174][color=black][b]cornjac[/b][/color][/url][/size]
... A81: 166 | B81: 2015-01-31 | C81: 113457 | D81: CAPITAO | E81: 151595 | F81: :flag-pt: | G81: 143805107 | I81: black | J81: =ROW()-1 -> 80 | K81: =IF(AND($A81<>"",$C81<>""),CONCATENATE("[size=85][b]",IF(LEN(A81)<3,CONCATENATE("[color=",Definicoes_Instrucoes!$B$5,"]",MID("000",1,3-LEN(A81)),"[/color]"),""),"[color=",Definicoes_Instrucoes!$B$1,"]",A81,"[/color]",IF(A81=1,CONCATENATE(" parceiro","[color=",Definicoes_Instrucoes!$B$5,"]","s","[/color]")," parceiros")," de hit, nota nº ",IF(LEN(C81)<6,CONCATENATE("[color=",Definicoes_Instrucoes!$B$5,"]",MID("000000",1,6-LEN(C81)),"[/color]"),""),"[color=",Definicoes_Instrucoes!$B$2,"]",C81,"[/color]","[/b]"),"") -> [size=85][b][color=red]166[/color] parceiros de hit, nota nº [color=black]113457[/color][/b] | L81: =IF($B81<>""," - ","") -> - | M81: =IF($B81<>"",CONCATENATE(" [b]","[color=",Definicoes_Instrucoes!$B$3,"]",$B81,"[/color]","[/b]"),"") -> [b][color=#005188]2015-01-31[/color][/b] | N81: =IF($F81<>"",CONCATENATE(" - ",$F81),"") -> - :flag-pt: | O81: =IF(AND($D81<>"",$G81<>"",$I81<>""),CONCATENATE(" ",IF($G81<>"",CONCATENATE("[url=https://pt.eurobilltracker.com/notes/?id=",$G81,"]"),""),"[color=",$I81,"][b]",$D81,"[/b][/color]",IF($G81<>"","[/url]","")),"") -> [url=https://pt.eurobilltracker.com/notes/?id=143805107][color=black][b]CAPITAO[/b][/color][/url] | P81: =IF($H81<>"",CONCATENATE(" – [color=",Definicoes_Instrucoes!$B$4,"]",$H81,"[/color]"),"") | Q81: =IF($B81<>"","[/size]","") -> [/size] | R81: =IF(AND($A81<>"",$B81<>"",$C81<>"",$D81<>"",$F81<>"",$G81<>"",$I81<>""),CONCATENATE(K81,L81,M81,N81,O81,P81,Q81),"") -> [size=85][b][color=red]166[/color] parceiros de hit, nota nº [color=black]113457[/color][/b] - [b][color=#005188]2015-01-31[/color][/b] - :flag-pt: [url=https://pt.eurobilltracker.com/notes/?id=143805107][color=black][b]CAPITAO[/b][/color][/url][/size]
A82: 165 | B82: 2014-11-28 | C82: 115125 | D82: Kastanhola | E82: 191596 | F82: :flag-pt: | G82: 146147587 | H82: Este foi especial... | I82: black | J82: =ROW()-1 -> 81 | K82: =IF(AND($A82<>"",$C82<>""),CONCATENATE("[size=85][b]",IF(LEN(A82)<3,CONCATENATE("[color=",Definicoes_Instrucoes!$B$5,"]",MID("000",1,3-LEN(A82)),"[/color]"),""),"[color=",Definicoes_Instrucoes!$B$1,"]",A82,"[/color]",IF(A82=1,CONCATENATE(" parceiro","[color=",Definicoes_Instrucoes!$B$5,"]","s","[/color]")," parceiros")," de hit, nota nº ",IF(LEN(C82)<6,CONCATENATE("[color=",Definicoes_Instrucoes!$B$5,"]",MID("000000",1,6-LEN(C82)),"[/color]"),""),"[color=",Definicoes_Instrucoes!$B$2,"]",C82,"[/color]","[/b]"),"") -> [size=85][b][color=red]165[/color] parceiros de hit, nota nº [color=black]115125[/color][/b] | L82: =IF($B82<>""," - ","") -> - | M82: =IF($B82<>"",CONCATENATE(" [b]","[color=",Definicoes_Instrucoes!$B$3,"]",$B82,"[/color]","[/b]"),"") -> [b][color=#005188]2014-11-28[/color][/b] | N82: =IF($F82<>"",CONCATENATE(" - ",$F82),"") -> - :flag-pt: | O82: =IF(AND($D82<>"",$G82<>"",$I82<>""),CONCATENATE(" ",IF($G82<>"",CONCATENATE("[url=https://pt.eurobilltracker.com/notes/?id=",$G82,"]"),""),"[color=",$I82,"][b]",$D82,"[/b][/color]",IF($G82<>"","[/url]","")),"") -> [url=https://pt.eurobilltracker.com/notes/?id=146147587][color=black][b]Kastanhola[/b][/color][/url] | P82: =IF($H82<>"",CONCATENATE(" – [color=",Definicoes_Instrucoes!$B$4,"]",$H82,"[/color]"),"") -> – [color=orange]Este foi especial...[/color] | Q82: =IF($B82<>"","[/size]","") -> [/size] | R82: =IF(AND($A82<>"",$B82<>"",$C82<>"",$D82<>"",$F82<>"",$G82<>"",$I82<>""),CONCATENATE(K82,L82,M82,N82,O82,P82,Q82),"") -> [size=85][b][color=red]165[/color] parceiros de hit, nota nº [color=black]115125[/color][/b] - [b][color=#005188]2014-11-28[/color][/b] - :flag-pt: [url=https://pt.eurobilltracker.com/notes/?id=146147587][color=black][b]Kastanhola[/b][/color][/url] – [color=orange]Este foi especial...[/color][/size]
A83: 164 | B83: 2014-10-03 | C83: 113563 | D83: Math Murderer | E83: 92714 | F83: :flag-de: | G83: 144082667 | I83: black | J83: =ROW()-1 -> 82 | K83: =IF(AND($A83<>"",$C83<>""),CONCATENATE("[size=85][b]",IF(LEN(A83)<3,CONCATENATE("[color=",Definicoes_Instrucoes!$B$5,"]",MID("000",1,3-LEN(A83)),"[/color]"),""),"[color=",Definicoes_Instrucoes!$B$1,"]",A83,"[/color]",IF(A83=1,CONCATENATE(" parceiro","[color=",Definicoes_Instrucoes!$B$5,"]","s","[/color]")," parceiros")," de hit, nota nº ",IF(LEN(C83)<6,CONCATENATE("[color=",Definicoes_Instrucoes!$B$5,"]",MID("000000",1,6-LEN(C83)),"[/color]"),""),"[color=",Definicoes_Instrucoes!$B$2,"]",C83,"[/color]","[/b]"),"") -> [size=85][b][color=red]164[/color] parceiros de hit, nota nº [color=black]113563[/color][/b] | L83: =IF($B83<>""," - ","") -> - | M83: =IF($B83<>"",CONCATENATE(" [b]","[color=",Definicoes_Instrucoes!$B$3,"]",$B83,"[/color]","[/b]"),"") -> [b][color=#005188]2014-10-03[/color][/b] | N83: =IF($F83<>"",CONCATENATE(" - ",$F83),"") -> - :flag-de: | O83: =IF(AND($D83<>"",$G83<>"",$I83<>""),CONCATENATE(" ",IF($G83<>"",CONCATENATE("[url=https://pt.eurobilltracker.com/notes/?id=",$G83,"]"),""),"[color=",$I83,"][b]",$D83,"[/b][/color]",IF($G83<>"","[/url]","")),"") -> [url=https://pt.eurobilltracker.com/notes/?id=144082667][color=black][b]Math Murderer[/b][/color][/url] | P83: =IF($H83<>"",CONCATENATE(" – [color=",Definicoes_Instrucoes!$B$4,"]",$H83,"[/color]"),"") | Q83: =IF($B83<>"","[/size]","") -> [/size] | R83: =IF(AND($A83<>"",$B83<>"",$C83<>"",$D83<>"",$F83<>"",$G83<>"",$I83<>""),CONCATENATE(K83,L83,M83,N83,O83,P83,Q83),"") -> [size=85][b][color=red]164[/color] parceiros de hit, nota nº [color=black]113563[/color][/b] - [b][color=#005188]2014-10-03[/color][/b] - :flag-de: [url=https://pt.eurobilltracker.com/notes/?id=144082667][color=black][b]Math Murderer[/b][/color][/url][/size]
A84: 163 | B84: 2014-08-28 | C84: 112240 | D84: Treasure | E84: 167883 | F84: :flag-lu: | G84: 142817660 | H84: O meu primeiro hit triplo | I84: black | J84: =ROW()-1 -> 83 | K84: =IF(AND($A84<>"",$C84<>""),CONCATENATE("[size=85][b]",IF(LEN(A84)<3,CONCATENATE("[color=",Definicoes_Instrucoes!$B$5,"]",MID("000",1,3-LEN(A84)),"[/color]"),""),"[color=",Definicoes_Instrucoes!$B$1,"]",A84,"[/color]",IF(A84=1,CONCATENATE(" parceiro","[color=",Definicoes_Instrucoes!$B$5,"]","s","[/color]")," parceiros")," de hit, nota nº ",IF(LEN(C84)<6,CONCATENATE("[color=",Definicoes_Instrucoes!$B$5,"]",MID("000000",1,6-LEN(C84)),"[/color]"),""),"[color=",Definicoes_Instrucoes!$B$2,"]",C84,"[/color]","[/b]"),"") -> [size=85][b][color=red]163[/color] parceiros de hit, nota nº [color=black]112240[/color][/b] | L84: =IF($B84<>""," - ","") -> - | M84: =IF($B84<>"",CONCATENATE(" [b]","[color=",Definicoes_Instrucoes!$B$3,"]",$B84,"[/color]","[/b]"),"") -> [b][color=#005188]2014-08-28[/color][/b] | N84: =IF($F84<>"",CONCATENATE(" - ",$F84),"") -> - :flag-lu: | O84: =IF(AND($D84<>"",$G84<>"",$I84<>""),CONCATENATE(" ",IF($G84<>"",CONCATENATE("[url=https://pt.eurobilltracker.com/notes/?id=",$G84,"]"),""),"[color=",$I84,"][b]",$D84,"[/b][/color]",IF($G84<>"","[/url]","")),"") -> [url=https://pt.eurobilltracker.com/notes/?id=142817660][color=black][b]Treasure[/b][/color][/url] | P84: =IF($H84<>"",CONCATENATE(" – [color=",Definicoes_Instrucoes!$B$4,"]",$H84,"[/color]"),"") -> – [color=orange]O meu primeiro hit triplo[/color] | Q84: =IF($B84<>"","[/size]","") -> [/size] | R84: =IF(AND($A84<>"",$B84<>"",$C84<>"",$D84<>"",$F84<>"",$G84<>"",$I84<>""),CONCATENATE(K84,L84,M84,N84,O84,P84,Q84),"") -> [size=85][b][color=red]163[/color] parceiros de hit, nota nº [color=black]112240[/color][/b] - [b][color=#005188]2014-08-28[/color][/b] - :flag-lu: [url=https://pt.eurobilltracker.com/notes/?id=142817660][color=black][b]Treasure[/b][/color][/url] – [color=orange]O meu primeiro hit triplo[/color][/size]
A85: 162 | B85: 2014-08-28 | C85: 112240 | D85: Mil€s66 | E85: 77674 | F85: :flag-de: | G85: 142817660 | H85: O meu primeiro hit triplo | I85: black | J85: =ROW()-1 -> 84 | K85: =IF(AND($A85<>"",$C85<>""),CONCATENATE("[size=85][b]",IF(LEN(A85)<3,CONCATENATE("[color=",Definicoes_Instrucoes!$B$5,"]",MID("000",1,3-LEN(A85)),"[/color]"),""),"[color=",Definicoes_Instrucoes!$B$1,"]",A85,"[/color]",IF(A85=1,CONCATENATE(" parceiro","[color=",Definicoes_Instrucoes!$B$5,"]","s","[/color]")," parceiros")," de hit, nota nº ",IF(LEN(C85)<6,CONCATENATE("[color=",Definicoes_Instrucoes!$B$5,"]",MID("000000",1,6-LEN(C85)),"[/color]"),""),"[color=",Definicoes_Instrucoes!$B$2,"]",C85,"[/color]","[/b]"),"") -> [size=85][b][color=red]162[/color] parceiros de hit, nota nº [color=black]112240[/color][/b] | L85: =IF($B85<>""," - ","") -> - | M85: =IF($B85<>"",CONCATENATE(" [b]","[color=",Definicoes_Instrucoes!$B$3,"]",$B85,"[/color]","[/b]"),"") -> [b][color=#005188]2014-08-28[/color][/b] | N85: =IF($F85<>"",CONCATENATE(" - ",$F85),"") -> - :flag-de: | O85: =IF(AND($D85<>"",$G85<>"",$I85<>""),CONCATENATE(" ",IF($G85<>"",CONCATENATE("[url=https://pt.eurobilltracker.com/notes/?id=",$G85,"]"),""),"[color=",$I85,"][b]",$D85,"[/b][/color]",IF($G85<>"","[/url]","")),"") -> [url=https://pt.eurobilltracker.com/notes/?id=142817660][color=black][b]Mil€s66[/b][/color][/url] | P85: =IF($H85<>"",CONCATENATE(" – [color=",Definicoes_Instrucoes!$B$4,"]",$H85,"[/color]"),"") -> – [color=orange]O meu primeiro hit triplo[/color] | Q85: =IF($B85<>"","[/size]","") -> [/size] | R85: =IF(AND($A85<>"",$B85<>"",$C85<>"",$D85<>"",$F85<>"",$G85<>"",$I85<>""),CONCATENATE(K85,L85,M85,N85,O85,P85,Q85),"") -> [size=85][b][color=red]162[/color] parceiros de hit, nota nº [color=black]112240[/color][/b] - [b][color=#005188]2014-08-28[/color][/b] - :flag-de: [url=https://pt.eurobilltracker.com/notes/?id=142817660][color=black][b]Mil€s66[/b][/color][/url] – [color=orange]O meu primeiro hit triplo[/color][/size]
A86: 161 | B86: 2014-06-25 | C86: 94103 | D86: HorstNDH | E86: 132563 | F86: :flag-de: | G86: 117821973 | I86: black | J86: =ROW()-1 -> 85 | K86: =IF(AND($A86<>"",$C86<>""),CONCATENATE("[size=85][b]",IF(LEN(A86)<3,CONCATENATE("[color=",Definicoes_Instrucoes!$B$5,"]",MID("000",1,3-LEN(A86)),"[/color]"),""),"[color=",Definicoes_Instrucoes!$B$1,"]",A86,"[/color]",IF(A86=1,CONCATENATE(" parceiro","[color=",Definicoes_Instrucoes!$B$5,"]","s","[/color]")," parceiros")," de hit, nota nº ",IF(LEN(C86)<6,CONCATENATE("[color=",Definicoes_Instrucoes!$B$5,"]",MID("000000",1,6-LEN(C86)),"[/color]"),""),"[color=",Definicoes_Instrucoes!$B$2,"]",C86,"[/color]","[/b]"),"") -> [size=85][b][color=red]161[/color] parceiros de hit, nota nº [color=#E1EBF2]0[/color][color=black]94103[/color][/b] | L86: =IF($B86<>""," - ","") -> - | M86: =IF($B86<>"",CONCATENATE(" [b]","[color=",Definicoes_Instrucoes!$B$3,"]",$B86,"[/color]","[/b]"),"") -> [b][color=#005188]2014-06-25[/color][/b] | N86: =IF($F86<>"",CONCATENATE(" - ",$F86),"") -> - :flag-de: | O86: =IF(AND($D86<>"",$G86<>"",$I86<>""),CONCATENATE(" ",IF($G86<>"",CONCATENATE("[url=https://pt.eurobilltracker.com/notes/?id=",$G86,"]"),""),"[color=",$I86,"][b]",$D86,"[/b][/color]",IF($G86<>"","[/url]","")),"") -> [url=https://pt.eurobilltracker.com/notes/?id=117821973][color=black][b]HorstNDH[/b][/color][/url] | P86: =IF($H86<>"",CONCATENATE(" – [color=",Definicoes_Instrucoes!$B$4,"]",$H86,"[/color]"),"") | Q86: =IF($B86<>"","[/size]","") -> [/size] | R86: =IF(AND($A86<>"",$B86<>"",$C86<>"",$D86<>"",$F86<>"",$G86<>"",$I86<>""),CONCATENATE(K86,L86,M86,N86,O86,P86,Q86),"") -> [size=85][b][color=red]161[/color] parceiros de hit, nota nº [color=#E1EBF2]0[/color][color=black]94103[/color][/b] - [b][color=#005188]2014-06-25[/color][/b] - :flag-de: [url=https://pt.eurobilltracker.com/notes/?id=117821973][color=black][b]HorstNDH[/b][/color][/url][/size]
A87: 160 | B87: 2014-06-22 | C87: 103122 | D87: Valdoleiros | E87: 57166 | F87: :flag-pt: | G87: 130650307 | I87: black | J87: =ROW()-1 -> 86 | K87: =IF(AND($A87<>"",$C87<>""),CONCATENATE("[size=85][b]",IF(LEN(A87)<3,CONCATENATE("[color=",Definicoes_Instrucoes!$B$5,"]",MID("000",1,3-LEN(A87)),"[/color]"),""),"[color=",Definicoes_Instrucoes!$B$1,"]",A87,"[/color]",IF(A87=1,CONCATENATE(" parceiro","[color=",Definicoes_Instrucoes!$B$5,"]","s","[/color]")," parceiros")," de hit, nota nº ",IF(LEN(C87)<6,CONCATENATE("[color=",Definicoes_Instrucoes!$B$5,"]",MID("000000",1,6-LEN(C87)),"[/color]"),""),"[color=",Definicoes_Instrucoes!$B$2,"]",C87,"[/color]","[/b]"),"") -> [size=85][b][color=red]160[/color] parceiros de hit, nota nº [color=black]103122[/color][/b] | L87: =IF($B87<>""," - ","") -> - | M87: =IF($B87<>"",CONCATENATE(" [b]","[color=",Definicoes_Instrucoes!$B$3,"]",$B87,"[/color]","[/b]"),"") -> [b][color=#005188]2014-06-22[/color][/b] | N87: =IF($F87<>"",CONCATENATE(" - ",$F87),"") -> - :flag-pt: | O87: =IF(AND($D87<>"",$G87<>"",$I87<>""),CONCATENATE(" ",IF($G87<>"",CONCATENATE("[url=https://pt.eurobilltracker.com/notes/?id=",$G87,"]"),""),"[color=",$I87,"][b]",$D87,"[/b][/color]",IF($G87<>"","[/url]","")),"") -> [url=https://pt.eurobilltracker.com/notes/?id=130650307][color=black][b]Valdoleiros[/b][/color][/url] | P87: =IF($H87<>"",CONCATENATE(" – [color=",Definicoes_Instrucoes!$B$4,"]",$H87,"[/color]"),"") | Q87: =IF($B87<>"","[/size]","") -> [/size] | R87: =IF(AND($A87<>"",$B87<>"",$C87<>"",$D87<>"",$F87<>"",$G87<>"",$I87<>""),CONCATENATE(K87,L87,M87,N87,O87,P87,Q87),"") -> [size=85][b][color=red]160[/color] parceiros de hit, nota nº [color=black]103122[/color][/b] - [b][color=#005188]2014-06-22[/color][/b] - :flag-pt: [url=https://pt.eurobilltracker.com/notes/?id=130650307][color=black][b]Valdoleiros[/b][/color][/url][/size]
A88: 159 | B88: 2014-04-26 | C88: 107613 | D88: monica84 | E88: 124628 | F88: :flag-pt: | G88: 138479184 | I88: black | J88: =ROW()-1 -> 87 | K88: =IF(AND($A88<>"",$C88<>""),CONCATENATE("[size=85][b]",IF(LEN(A88)<3,CONCATENATE("[color=",Definicoes_Instrucoes!$B$5,"]",MID("000",1,3-LEN(A88)),"[/color]"),""),"[color=",Definicoes_Instrucoes!$B$1,"]",A88,"[/color]",IF(A88=1,CONCATENATE(" parceiro","[color=",Definicoes_Instrucoes!$B$5,"]","s","[/color]")," parceiros")," de hit, nota nº ",IF(LEN(C88)<6,CONCATENATE("[color=",Definicoes_Instrucoes!$B$5,"]",MID("000000",1,6-LEN(C88)),"[/color]"),""),"[color=",Definicoes_Instrucoes!$B$2,"]",C88,"[/color]","[/b]"),"") -> [size=85][b][color=red]159[/color] parceiros de hit, nota nº [color=black]107613[/color][/b] | L88: =IF($B88<>""," - ","") -> - | M88: =IF($B88<>"",CONCATENATE(" [b]","[color=",Definicoes_Instrucoes!$B$3,"]",$B88,"[/color]","[/b]"),"") -> [b][color=#005188]2014-04-26[/color][/b] | N88: =IF($F88<>"",CONCATENATE(" - ",$F88),"") -> - :flag-pt: | O88: =IF(AND($D88<>"",$G88<>"",$I88<>""),CONCATENATE(" ",IF($G88<>"",CONCATENATE("[url=https://pt.eurobilltracker.com/notes/?id=",$G88,"]"),""),"[color=",$I88,"][b]",$D88,"[/b][/color]",IF($G88<>"","[/url]","")),"") -> [url=https://pt.eurobilltracker.com/notes/?id=138479184][color=black][b]monica84[/b][/color][/url] | P88: =IF($H88<>"",CONCATENATE(" – [color=",Definicoes_Instrucoes!$B$4,"]",$H88,"[/color]"),"") | Q88: =IF($B88<>"","[/size]","") -> [/size] | R88: =IF(AND($A88<>"",$B88<>"",$C88<>"",$D88<>"",$F88<>"",$G88<>"",$I88<>""),CONCATENATE(K88,L88,M88,N88,O88,P88,Q88),"") -> [size=85][b][color=red]159[/color] parceiros de hit, nota nº [color=black]107613[/color][/b] - [b][color=#005188]2014-04-26[/color][/b] - :flag-pt: [url=https://pt.eurobilltracker.com/notes/?id=138479184][color=black][b]monica84[/b][/color][/url][/size]
A89: 158 | B89: 2014-04-20 | C89: 83599 | D89: Aaron | E89: 10505 | F89: :flag-de: | G89: 103236411 | I89: black | J89: =ROW()-1 -> 88 | K89: =IF(AND($A89<>"",$C89<>""),CONCATENATE("[size=85][b]",IF(LEN(A89)<3,CONCATENATE("[color=",Definicoes_Instrucoes!$B$5,"]",MID("000",1,3-LEN(A89)),"[/color]"),""),"[color=",Definicoes_Instrucoes!$B$1,"]",A89,"[/color]",IF(A89=1,CONCATENATE(" parceiro","[color=",Definicoes_Instrucoes!$B$5,"]","s","[/color]")," parceiros")," de hit, nota nº ",IF(LEN(C89)<6,CONCATENATE("[color=",Definicoes_Instrucoes!$B$5,"]",MID("000000",1,6-LEN(C89)),"[/color]"),""),"[color=",Definicoes_Instrucoes!$B$2,"]",C89,"[/color]","[/b]"),"") -> [size=85][b][color=red]158[/color] parceiros de hit, nota nº [color=#E1EBF2]0[/color][color=black]83599[/color][/b] | L89: =IF($B89<>""," - ","") -> - | M89: =IF($B89<>"",CONCATENATE(" [b]","[color=",Definicoes_Instrucoes!$B$3,"]",$B89,"[/color]","[/b]"),"") -> [b][color=#005188]2014-04-20[/color][/b] | N89: =IF($F89<>"",CONCATENATE(" - ",$F89),"") -> - :flag-de: | O89: =IF(AND($D89<>"",$G89<>"",$I89<>""),CONCATENATE(" ",IF($G89<>"",CONCATENATE("[url=https://pt.eurobilltracker.com/notes/?id=",$G89,"]"),""),"[color=",$I89,"][b]",$D89,"[/b][/color]",IF($G89<>"","[/url]","")),"") -> [url=https://pt.eurobilltracker.com/notes/?id=103236411][color=black][b]Aaron[/b][/color][/url] | P89: =IF($H89<>"",CONCATENATE(" – [color=",Definicoes_Instrucoes!$B$4,"]",$H89,"[/color]"),"") | Q89: =IF($B89<>"","[/size]","") -> [/size] | R89: =IF(AND($A89<>"",$B89<>"",$C89<>"",$D89<>"",$F89<>"",$G89<>"",$I89<>""),CONCATENATE(K89,L89,M89,N89,O89,P89,Q89),"") -> [size=85][b][color=red]158[/color] parceiros de hit, nota nº [color=#E1EBF2]0[/color][color=black]83599[/color][/b] - [b][color=#005188]2014-04-20[/color][/b] - :flag-de: [url=https://pt.eurobilltracker.com/notes/?id=103236411][color=black][b]Aaron[/b][/color][/url][/size]
A90: 157 | B90: 2013-11-30 | C90: 104690 | D90: santosvitor | E90: 175506 | F90: :flag-pt: | G90: 132977201 | I90: black | J90: =ROW()-1 -> 89 | K90: =IF(AND($A90<>"",$C90<>""),CONCATENATE("[size=85][b]",IF(LEN(A90)<3,CONCATENATE("[color=",Definicoes_Instrucoes!$B$5,"]",MID("000",1,3-LEN(A90)),"[/color]"),""),"[color=",Definicoes_Instrucoes!$B$1,"]",A90,"[/color]",IF(A90=1,CONCATENATE(" parceiro","[color=",Definicoes_Instrucoes!$B$5,"]","s","[/color]")," parceiros")," de hit, nota nº ",IF(LEN(C90)<6,CONCATENATE("[color=",Definicoes_Instrucoes!$B$5,"]",MID("000000",1,6-LEN(C90)),"[/color]"),""),"[color=",Definicoes_Instrucoes!$B$2,"]",C90,"[/color]","[/b]"),"") -> [size=85][b][color=red]157[/color] parceiros de hit, nota nº [color=black]104690[/color][/b] | L90: =IF($B90<>""," - ","") -> - | M90: =IF($B90<>"",CONCATENATE(" [b]","[color=",Definicoes_Instrucoes!$B$3,"]",$B90,"[/color]","[/b]"),"") -> [b][color=#005188]2013-11-30[/color][/b] | N90: =IF($F90<>"",CONCATENATE(" - ",$F90),"") -> - :flag-pt: | O90: =IF(AND($D90<>"",$G90<>"",$I90<>""),CONCATENATE(" ",IF($G90<>"",CONCATENATE("[url=https://pt.eurobilltracker.com/notes/?id=",$G90,"]"),""),"[color=",$I90,"][b]",$D90,"[/b][/color]",IF($G90<>"","[/url]","")),"") -> [url=https://pt.eurobilltracker.com/notes/?id=132977201][color=black][b]santosvitor[/b][/color][/url] | P90: =IF($H90<>"",CONCATENATE(" – [color=",Definicoes_Instrucoes!$B$4,"]",$H90,"[/color]"),"") | Q90: =IF($B90<>"","[/size]","") -> [/size] | R90: =IF(AND($A90<>"",$B90<>"",$C90<>"",$D90<>"",$F90<>"",$G90<>"",$I90<>""),CONCATENATE(K90,L90,M90,N90,O90,P90,Q90),"") -> [size=85][b][color=red]157[/color] parceiros de hit, nota nº [color=black]104690[/color][/b] - [b][color=#005188]2013-11-30[/color][/b] - :flag-pt: [url=https://pt.eurobilltracker.com/notes/?id=132977201][color=black][b]santosvitor[/b][/color][/url][/size]
A91: 156 | B91: 2013-11-15 | C91: 104206 | D91: A. Simões | E91: 165982 | F91: :flag-pt: | G91: 132025038 | I91: black | J91: =ROW()-1 -> 90 | K91: =IF(AND($A91<>"",$C91<>""),CONCATENATE("[size=85][b]",IF(LEN(A91)<3,CONCATENATE("[color=",Definicoes_Instrucoes!$B$5,"]",MID("000",1,3-LEN(A91)),"[/color]"),""),"[color=",Definicoes_Instrucoes!$B$1,"]",A91,"[/color]",IF(A91=1,CONCATENATE(" parceiro","[color=",Definicoes_Instrucoes!$B$5,"]","s","[/color]")," parceiros")," de hit, nota nº ",IF(LEN(C91)<6,CONCATENATE("[color=",Definicoes_Instrucoes!$B$5,"]",MID("000000",1,6-LEN(C91)),"[/color]"),""),"[color=",Definicoes_Instrucoes!$B$2,"]",C91,"[/color]","[/b]"),"") -> [size=85][b][color=red]156[/color] parceiros de hit, nota nº [color=black]104206[/color][/b] | L91: =IF($B91<>""," - ","") -> - | M91: =IF($B91<>"",CONCATENATE(" [b]","[color=",Definicoes_Instrucoes!$B$3,"]",$B91,"[/color]","[/b]"),"") -> [b][color=#005188]2013-11-15[/color][/b] | N91: =IF($F91<>"",CONCATENATE(" - ",$F91),"") -> - :flag-pt: | O91: =IF(AND($D91<>"",$G91<>"",$I91<>""),CONCATENATE(" ",IF($G91<>"",CONCATENATE("[url=https://pt.eurobilltracker.com/notes/?id=",$G91,"]"),""),"[color=",$I91,"][b]",$D91,"[/b][/color]",IF($G91<>"","[/url]","")),"") -> [url=https://pt.eurobilltracker.com/notes/?id=132025038][color=black][b]A. Simões[/b][/color][/url] | P91: =IF($H91<>"",CONCATENATE(" – [color=",Definicoes_Instrucoes!$B$4,"]",$H91,"[/color]"),"") | Q91: =IF($B91<>"","[/size]","") -> [/size] | R91: =IF(AND($A91<>"",$B91<>"",$C91<>"",$D91<>"",$F91<>"",$G91<>"",$I91<>""),CONCATENATE(K91,L91,M91,N91,O91,P91,Q91),"") -> [size=85][b][color=red]156[/color] parceiros de hit, nota nº [color=black]104206[/color][/b] - [b][color=#005188]2013-11-15[/color][/b] - :flag-pt: [url=https://pt.eurobilltracker.com/notes/?id=132025038][color=black][b]A. Simões[/b][/color][/url][/size]
A92: 155 | B92: 2013-11-12 | C92: 93989 | D92: foofighta | E92: 31123 | F92: :flag-at: | G92: 117231692 | I92: black | J92: =ROW()-1 -> 91 | K92: =IF(AND($A92<>"",$C92<>""),CONCATENATE("[size=85][b]",IF(LEN(A92)<3,CONCATENATE("[color=",Definicoes_Instrucoes!$B$5,"]",MID("000",1,3-LEN(A92)),"[/color]"),""),"[color=",Definicoes_Instrucoes!$B$1,"]",A92,"[/color]",IF(A92=1,CONCATENATE(" parceiro","[color=",Definicoes_Instrucoes!$B$5,"]","s","[/color]")," parceiros")," de hit, nota nº ",IF(LEN(C92)<6,CONCATENATE("[color=",Definicoes_Instrucoes!$B$5,"]",MID("000000",1,6-LEN(C92)),"[/color]"),""),"[color=",Definicoes_Instrucoes!$B$2,"]",C92,"[/color]","[/b]"),"") -> [size=85][b][color=red]155[/color] parceiros de hit, nota nº [color=#E1EBF2]0[/color][color=black]93989[/color][/b] | L92: =IF($B92<>""," - ","") -> - | M92: =IF($B92<>"",CONCATENATE(" [b]","[color=",Definicoes_Instrucoes!$B$3,"]",$B92,"[/color]","[/b]"),"") -> [b][color=#005188]2013-11-12[/color][/b] | N92: =IF($F92<>"",CONCATENATE(" - ",$F92),"") -> - :flag-at: | O92: =IF(AND($D92<>"",$G92<>"",$I92<>""),CONCATENATE(" ",IF($G92<>"",CONCATENATE("[url=https://pt.eurobilltracker.com/notes/?id=",$G92,"]"),""),"[color=",$I92,"][b]",$D92,"[/b][/color]",IF($G92<>"","[/url]","")),"") -> [url=https://pt.eurobilltracker.com/notes/?id=117231692][color=black][b]foofighta[/b][/color][/url] | P92: =IF($H92<>"",CONCATENATE(" – [color=",Definicoes_Instrucoes!$B$4,"]",$H92,"[/color]"),"") | Q92: =IF($B92<>"","[/size]","") -> [/size] | R92: =IF(AND($A92<>"",$B92<>"",$C92<>"",$D92<>"",$F92<>"",$G92<>"",$I92<>""),CONCATENATE(K92,L92,M92,N92,O92,P92,Q92),"") -> [size=85][b][color=red]155[/color] parceiros de hit, nota nº [color=#E1EBF2]0[/color][color=black]93989[/color][/b] - [b][color=#005188]2013-11-12[/color][/b] - :flag-at: [url=https://pt.eurobilltracker.com/notes/?id=117231692][color=black][b]foofighta[/b][/color][/url][/size]
A93: 154 | B93: 2013-11-04 | C93: 104128 | D93: braga21 | E93: 133202 | F93: :flag-pt: | G93: 132024831 | I93: black | J93: =ROW()-1 -> 92 | K93: =IF(AND($A93<>"",$C93<>""),CONCATENATE("[size=85][b]",IF(LEN(A93)<3,CONCATENATE("[color=",Definicoes_Instrucoes!$B$5,"]",MID("000",1,3-LEN(A93)),"[/color]"),""),"[color=",Definicoes_Instrucoes!$B$1,"]",A93,"[/color]",IF(A93=1,CONCATENATE(" parceiro","[color=",Definicoes_Instrucoes!$B$5,"]","s","[/color]")," parceiros")," de hit, nota nº ",IF(LEN(C93)<6,CONCATENATE("[color=",Definicoes_Instrucoes!$B$5,"]",MID("000000",1,6-LEN(C93)),"[/color]"),""),"[color=",Definicoes_Instrucoes!$B$2,"]",C93,"[/color]","[/b]"),"") -> [size=85][b][color=red]154[/color] parceiros de hit, nota nº [color=black]104128[/color][/b] | L93: =IF($B93<>""," - ","") -> - | M93: =IF($B93<>"",CONCATENATE(" [b]","[color=",Definicoes_Instrucoes!$B$3,"]",$B93,"[/color]","[/b]"),"") -> [b][color=#005188]2013-11-04[/color][/b] | N93: =IF($F93<>"",CONCATENATE(" - ",$F93),"") -> - :flag-pt: | O93: =IF(AND($D93<>"",$G93<>"",$I93<>""),CONCATENATE(" ",IF($G93<>"",CONCATENATE("[url=https://pt.eurobilltracker.com/notes/?id=",$G93,"]"),""),"[color=",$I93,"][b]",$D93,"[/b][/color]",IF($G93<>"","[/url]","")),"") -> [url=https://pt.eurobilltracker.com/notes/?id=132024831][color=black][b]braga21[/b][/color][/url] | P93: =IF($H93<>"",CONCATENATE(" – [color=",Definicoes_Instrucoes!$B$4,"]",$H93,"[/color]"),"") | Q93: =IF($B93<>"","[/size]","") -> [/size] | R93: =IF(AND($A93<>"",$B93<>"",$C93<>"",$D93<>"",$F93<>"",$G93<>"",$I93<>""),CONCATENATE(K93,L93,M93,N93,O93,P93,Q93),"") -> [size=85][b][color=red]154[/color] parceiros de hit, nota nº [color=black]104128[/color][/b] - [b][color=#005188]2013-11-04[/color][/b] - :flag-pt: [url=https://pt.eurobilltracker.com/notes/?id=132024831][color=black][b]braga21[/b][/color][/url][/size]
A94: 153 | B94: 2013-07-14 | C94: 95919 | D94: lexiepexie | E94: 160785 | F94: :flag-pt: | G94: 120290117 | I94: black | J94: =ROW()-1 -> 93 | K94: =IF(AND($A94<>"",$C94<>""),CONCATENATE("[size=85][b]",IF(LEN(A94)<3,CONCATENATE("[color=",Definicoes_Instrucoes!$B$5,"]",MID("000",1,3-LEN(A94)),"[/color]"),""),"[color=",Definicoes_Instrucoes!$B$1,"]",A94,"[/color]",IF(A94=1,CONCATENATE(" parceiro","[color=",Definicoes_Instrucoes!$B$5,"]","s","[/color]")," parceiros")," de hit, nota nº ",IF(LEN(C94)<6,CONCATENATE("[color=",Definicoes_Instrucoes!$B$5,"]",MID("000000",1,6-LEN(C94)),"[/color]"),""),"[color=",Definicoes_Instrucoes!$B$2,"]",C94,"[/color]","[/b]"),"") -> [size=85][b][color=red]153[/color] parceiros de hit, nota nº [color=#E1EBF2]0[/color][color=black]95919[/color][/b] | L94: =IF($B94<>""," - ","") -> - | M94: =IF($B94<>"",CONCATENATE(" [b]","[color=",Definicoes_Instrucoes!$B$3,"]",$B94,"[/color]","[/b]"),"") -> [b][color=#005188]2013-07-14[/color][/b] | N94: =IF($F94<>"",CONCATENATE(" - ",$F94),"") -> - :flag-pt: | O94: =IF(AND($D94<>"",$G94<>"",$I94<>""),CONCATENATE(" ",IF($G94<>"",CONCATENATE("[url=https://pt.eurobilltracker.com/notes/?id=",$G94,"]"),""),"[color=",$I94,"][b]",$D94,"[/b][/color]",IF($G94<>"","[/url]","")),"") -> [url=https://pt.eurobilltracker.com/notes/?id=120290117][color=black][b]lexiepexie[/b][/color][/url] | P94: =IF($H94<>"",CONCATENATE(" – [color=",Definicoes_Instrucoes!$B$4,"]",$H94,"[/color]"),"") | Q94: =IF($B94<>"","[/size]","") -> [/size] | R94: =IF(AND($A94<>"",$B94<>"",$C94<>"",$D94<>"",$F94<>"",$G94<>"",$I94<>""),CONCATENATE(K94,L94,M94,N94,O94,P94,Q94),"") -> [size=85][b][color=red]153[/color] parceiros de hit, nota nº [color=#E1EBF2]0[/color][color=black]95919[/color][/b] - [b][color=#005188]2013-07-14[/color][/b] - :flag-pt: [url=https://pt.eurobilltracker.com/notes/?id=120290117][color=black][b]lexiepexie[/b][/color][/url][/size]
A95: 152 | B95: 2013-07-06 | C95: 98951 | D95: EnricoDB2 | E95: 58214 | F95: :flag-nl: | G95: 125706249 | I95: black | J95: =ROW()-1 -> 94 | K95: =IF(AND($A95<>"",$C95<>""),CONCATENATE("[size=85][b]",IF(LEN(A95)<3,CONCATENATE("[color=",Definicoes_Instrucoes!$B$5,"]",MID("000",1,3-LEN(A95)),"[/color]"),""),"[color=",Definicoes_Instrucoes!$B$1,"]",A95,"[/color]",IF(A95=1,CONCATENATE(" parceiro","[color=",Definicoes_Instrucoes!$B$5,"]","s","[/color]")," parceiros")," de hit, nota nº ",IF(LEN(C95)<6,CONCATENATE("[color=",Definicoes_Instrucoes!$B$5,"]",MID("000000",1,6-LEN(C95)),"[/color]"),""),"[color=",Definicoes_Instrucoes!$B$2,"]",C95,"[/color]","[/b]"),"") -> [size=85][b][color=red]152[/color] parceiros de hit, nota nº [color=#E1EBF2]0[/color][color=black]98951[/color][/b] | L95: =IF($B95<>""," - ","") -> - | M95: =IF($B95<>"",CONCATENATE(" [b]","[color=",Definicoes_Instrucoes!$B$3,"]",$B95,"[/color]","[/b]"),"") -> [b][color=#005188]2013-07-06[/color][/b] | N95: =IF($F95<>"",CONCATENATE(" - ",$F95),"") -> - :flag-nl: | O95: =IF(AND($D95<>"",$G95<>"",$I95<>""),CONCATENATE(" ",IF($G95<>"",CONCATENATE("[url=https://pt.eurobilltracker.com/notes/?id=",$G95,"]"),""),"[color=",$I95,"][b]",$D95,"[/b][/color]",IF($G95<>"","[/url]","")),"") -> [url=https://pt.eurobilltracker.com/notes/?id=125706249][color=black][b]EnricoDB2[/b][/color][/url] | P95: =IF($H95<>"",CONCATENATE(" – [color=",Definicoes_Instrucoes!$B$4,"]",$H95,"[/color]"),"") | Q95: =IF($B95<>"","[/size]","") -> [/size] | R95: =IF(AND($A95<>"",$B95<>"",$C95<>"",$D95<>"",$F95<>"",$G95<>"",$I95<>""),CONCATENATE(K95,L95,M95,N95,O95,P95,Q95),"") -> [size=85][b][color=red]152[/color] parceiros de hit, nota nº [color=#E1EBF2]0[/color][color=black]98951[/color][/b] - [b][color=#005188]2013-07-06[/color][/b] - :flag-nl: [url=https://pt.eurobilltracker.com/notes/?id=125706249][color=black][b]EnricoDB2[/b][/color][/url][/size]
A96: 151 | B96: 2013-06-01 | C96: 99618 | D96: maarsy | E96: 121187 | F96: :flag-be: | G96: 125964541 | I96: black | J96: =ROW()-1 -> 95 | K96: =IF(AND($A96<>"",$C96<>""),CONCATENATE("[size=85][b]",IF(LEN(A96)<3,CONCATENATE("[color=",Definicoes_Instrucoes!$B$5,"]",MID("000",1,3-LEN(A96)),"[/color]"),""),"[color=",Definicoes_Instrucoes!$B$1,"]",A96,"[/color]",IF(A96=1,CONCATENATE(" parceiro","[color=",Definicoes_Instrucoes!$B$5,"]","s","[/color]")," parceiros")," de hit, nota nº ",IF(LEN(C96)<6,CONCATENATE("[color=",Definicoes_Instrucoes!$B$5,"]",MID("000000",1,6-LEN(C96)),"[/color]"),""),"[color=",Definicoes_Instrucoes!$B$2,"]",C96,"[/color]","[/b]"),"") -> [size=85][b][color=red]151[/color] parceiros de hit, nota nº [color=#E1EBF2]0[/color][color=black]99618[/color][/b] | L96: =IF($B96<>""," - ","") -> - | M96: =IF($B96<>"",CONCATENATE(" [b]","[color=",Definicoes_Instrucoes!$B$3,"]",$B96,"[/color]","[/b]"),"") -> [b][color=#005188]2013-06-01[/color][/b] | N96: =IF($F96<>"",CONCATENATE(" - ",$F96),"") -> - :flag-be: | O96: =IF(AND($D96<>"",$G96<>"",$I96<>""),CONCATENATE(" ",IF($G96<>"",CONCATENATE("[url=https://pt.eurobilltracker.com/notes/?id=",$G96,"]"),""),"[color=",$I96,"][b]",$D96,"[/b][/color]",IF($G96<>"","[/url]","")),"") -> [url=https://pt.eurobilltracker.com/notes/?id=125964541][color=black][b]maarsy[/b][/color][/url] | P96: =IF($H96<>"",CONCATENATE(" – [color=",Definicoes_Instrucoes!$B$4,"]",$H96,"[/color]"),"") | Q96: =IF($B96<>"","[/size]","") -> [/size] | R96: =IF(AND($A96<>"",$B96<>"",$C96<>"",$D96<>"",$F96<>"",$G96<>"",$I96<>""),CONCATENATE(K96,L96,M96,N96,O96,P96,Q96),"") -> [size=85][b][color=red]151[/color] parceiros de hit, nota nº [color=#E1EBF2]0[/color][color=black]99618[/color][/b] - [b][color=#005188]2013-06-01[/color][/b] - :flag-be: [url=https://pt.eurobilltracker.com/notes/?id=125964541][color=black][b]maarsy[/b][/color][/url][/size]
A97: 150 | B97: 2013-05-16 | C97: 66897 | D97: Rafaelus | E97: 149073 | F97: :flag-si: | G97: 77496664 | I97: black | J97: =ROW()-1 -> 96 | K97: =IF(AND($A97<>"",$C97<>""),CONCATENATE("[size=85][b]",IF(LEN(A97)<3,CONCATENATE("[color=",Definicoes_Instrucoes!$B$5,"]",MID("000",1,3-LEN(A97)),"[/color]"),""),"[color=",Definicoes_Instrucoes!$B$1,"]",A97,"[/color]",IF(A97=1,CONCATENATE(" parceiro","[color=",Definicoes_Instrucoes!$B$5,"]","s","[/color]")," parceiros")," de hit, nota nº ",IF(LEN(C97)<6,CONCATENATE("[color=",Definicoes_Instrucoes!$B$5,"]",MID("000000",1,6-LEN(C97)),"[/color]"),""),"[color=",Definicoes_Instrucoes!$B$2,"]",C97,"[/color]","[/b]"),"") -> [size=85][b][color=red]150[/color] parceiros de hit, nota nº [color=#E1EBF2]0[/color][color=black]66897[/color][/b] | L97: =IF($B97<>""," - ","") -> - | M97: =IF($B97<>"",CONCATENATE(" [b]","[color=",Definicoes_Instrucoes!$B$3,"]",$B97,"[/color]","[/b]"),"") -> [b][color=#005188]2013-05-16[/color][/b] | N97: =IF($F97<>"",CONCATENATE(" - ",$F97),"") -> - :flag-si: | O97: =IF(AND($D97<>"",$G97<>"",$I97<>""),CONCATENATE(" ",IF($G97<>"",CONCATENATE("[url=https://pt.eurobilltracker.com/notes/?id=",$G97,"]"),""),"[color=",$I97,"][b]",$D97,"[/b][/color]",IF($G97<>"","[/url]","")),"") -> [url=https://pt.eurobilltracker.com/notes/?id=77496664][color=black][b]Rafaelus[/b][/color][/url] | P97: =IF($H97<>"",CONCATENATE(" – [color=",Definicoes_Instrucoes!$B$4,"]",$H97,"[/color]"),"") | Q97: =IF($B97<>"","[/size]","") -> [/size] | R97: =IF(AND($A97<>"",$B97<>"",$C97<>"",$D97<>"",$F97<>"",$G97<>"",$I97<>""),CONCATENATE(K97,L97,M97,N97,O97,P97,Q97),"") -> [size=85][b][color=red]150[/color] parceiros de hit, nota nº [color=#E1EBF2]0[/color][color=black]66897[/color][/b] - [b][color=#005188]2013-05-16[/color][/b] - :flag-si: [url=https://pt.eurobilltracker.com/notes/?id=77496664][color=black][b]Rafaelus[/b][/color][/url][/size]
... A190: 57 | B190: 2008-06-21 | C190: 28807 | D190: João Rodrigues Presidencial Tou | E190: 76532 | F190: :flag-pt: | G190: 34035752 | I190: black | J190: =ROW()-1 -> 189 | K190: =IF(AND($A190<>"",$C190<>""),CONCATENATE("[size=85][b]",IF(LEN(A190)<3,CONCATENATE("[color=",Definicoes_Instrucoes!$B$5,"]",MID("000",1,3-LEN(A190)),"[/color]"),""),"[color=",Definicoes_Instrucoes!$B$1,"]",A190,"[/color]",IF(A190=1,CONCATENATE(" parceiro","[color=",Definicoes_Instrucoes!$B$5,"]","s","[/color]")," parceiros")," de hit, nota nº ",IF(LEN(C190)<6,CONCATENATE("[color=",Definicoes_Instrucoes!$B$5,"]",MID("000000",1,6-LEN(C190)),"[/color]"),""),"[color=",Definicoes_Instrucoes!$B$2,"]",C190,"[/color]","[/b]"),"") -> [size=85][b][color=#E1EBF2]0[/color][color=red]57[/color] parceiros de hit, nota nº [color=#E1EBF2]0[/color][color=black]28807[/color][/b] | L190: =IF($B190<>""," - ","") -> - | M190: =IF($B190<>"",CONCATENATE(" [b]","[color=",Definicoes_Instrucoes!$B$3,"]",$B190,"[/color]","[/b]"),"") -> [b][color=#005188]2008-06-21[/color][/b] | N190: =IF($F190<>"",CONCATENATE(" - ",$F190),"") -> - :flag-pt: | O190: =IF(AND($D190<>"",$G190<>"",$I190<>""),CONCATENATE(" ",IF($G190<>"",CONCATENATE("[url=https://pt.eurobilltracker.com/notes/?id=",$G190,"]"),""),"[color=",$I190,"][b]",$D190,"[/b][/color]",IF($G190<>"","[/url]","")),"") -> [url=https://pt.eurobilltracker.com/notes/?id=34035752][color=black][b]João Rodrigues Presidencial Tou[/b][/color][/url] | P190: =IF($H190<>"",CONCATENATE(" – [color=",Definicoes_Instrucoes!$B$4,"]",$H190,"[/color]"),"") | Q190: =IF($B190<>"","[/size]","") -> [/size] | R190: =IF(AND($A190<>"",$B190<>"",$C190<>"",$D190<>"",$F190<>"",$G190<>"",$I190<>""),CONCATENATE(K190,L190,M190,N190,O190,P190,Q190),"") -> [size=85][b][color=#E1EBF2]0[/color][color=red]57[/color] parceiros de hit, nota nº [color=#E1EBF2]0[/color][color=black]28807[/color][/b] - [b][color=#005188]2008-06-21[/color][/b] - :flag-pt: [url=https://pt.eurobilltracker.com/notes/?id=34035752][color=black][b]João Rodrigues Presidencial Tou[/b][/color][/url][/size]
A191: 56 | B191: 2008-06-13 | C191: 29675 | D191: Mr & Mrs Burky | E191: 32954 | F191: :flag-at: | G191: 35369436 | H191: O meu primeiro hit totalmente internacional | I191: black | J191: =ROW()-1 -> 190 | K191: =IF(AND($A191<>"",$C191<>""),CONCATENATE("[size=85][b]",IF(LEN(A191)<3,CONCATENATE("[color=",Definicoes_Instrucoes!$B$5,"]",MID("000",1,3-LEN(A191)),"[/color]"),""),"[color=",Definicoes_Instrucoes!$B$1,"]",A191,"[/color]",IF(A191=1,CONCATENATE(" parceiro","[color=",Definicoes_Instrucoes!$B$5,"]","s","[/color]")," parceiros")," de hit, nota nº ",IF(LEN(C191)<6,CONCATENATE("[color=",Definicoes_Instrucoes!$B$5,"]",MID("000000",1,6-LEN(C191)),"[/color]"),""),"[color=",Definicoes_Instrucoes!$B$2,"]",C191,"[/color]","[/b]"),"") -> [size=85][b][color=#E1EBF2]0[/color][color=red]56[/color] parceiros de hit, nota nº [color=#E1EBF2]0[/color][color=black]29675[/color][/b] | L191: =IF($B191<>""," - ","") -> - | M191: =IF($B191<>"",CONCATENATE(" [b]","[color=",Definicoes_Instrucoes!$B$3,"]",$B191,"[/color]","[/b]"),"") -> [b][color=#005188]2008-06-13[/color][/b] | N191: =IF($F191<>"",CONCATENATE(" - ",$F191),"") -> - :flag-at: | O191: =IF(AND($D191<>"",$G191<>"",$I191<>""),CONCATENATE(" ",IF($G191<>"",CONCATENATE("[url=https://pt.eurobilltracker.com/notes/?id=",$G191,"]"),""),"[color=",$I191,"][b]",$D191,"[/b][/color]",IF($G191<>"","[/url]","")),"") -> [url=https://pt.eurobilltracker.com/notes/?id=35369436][color=black][b]Mr & Mrs Burky[/b][/color][/url] | P191: =IF($H191<>"",CONCATENATE(" – [color=",Definicoes_Instrucoes!$B$4,"]",$H191,"[/color]"),"") -> – [color=orange]O meu primeiro hit totalmente internacional[/color] | Q191: =IF($B191<>"","[/size]","") -> [/size] | R191: =IF(AND($A191<>"",$B191<>"",$C191<>"",$D191<>"",$F191<>"",$G191<>"",$I191<>""),CONCATENATE(K191,L191,M191,N191,O191,P191,Q191),"") -> [size=85][b][color=#E1EBF2]0[/color][color=red]56[/color] parceiros de hit, nota nº [color=#E1EBF2]0[/color][color=black]29675[/color][/b] - [b][color=#005188]2008-06-13[/color][/b] - :flag-at: [url=https://pt.eurobilltracker.com/notes/?id=35369436][color=black][b]Mr & Mrs Burky[/b][/color][/url] – [color=orange]O meu primeiro hit totalmente internacional[/color][/size]
A192: 55 | B192: 2008-06-07 | C192: 43807 | D192: Alvega | E192: 69985 | F192: :flag-pt: | G192: 47477051 | I192: black | J192: =ROW()-1 -> 191 | K192: =IF(AND($A192<>"",$C192<>""),CONCATENATE("[size=85][b]",IF(LEN(A192)<3,CONCATENATE("[color=",Definicoes_Instrucoes!$B$5,"]",MID("000",1,3-LEN(A192)),"[/color]"),""),"[color=",Definicoes_Instrucoes!$B$1,"]",A192,"[/color]",IF(A192=1,CONCATENATE(" parceiro","[color=",Definicoes_Instrucoes!$B$5,"]","s","[/color]")," parceiros")," de hit, nota nº ",IF(LEN(C192)<6,CONCATENATE("[color=",Definicoes_Instrucoes!$B$5,"]",MID("000000",1,6-LEN(C192)),"[/color]"),""),"[color=",Definicoes_Instrucoes!$B$2,"]",C192,"[/color]","[/b]"),"") -> [size=85][b][color=#E1EBF2]0[/color][color=red]55[/color] parceiros de hit, nota nº [color=#E1EBF2]0[/color][color=black]43807[/color][/b] | L192: =IF($B192<>""," - ","") -> - | M192: =IF($B192<>"",CONCATENATE(" [b]","[color=",Definicoes_Instrucoes!$B$3,"]",$B192,"[/color]","[/b]"),"") -> [b][color=#005188]2008-06-07[/color][/b] | N192: =IF($F192<>"",CONCATENATE(" - ",$F192),"") -> - :flag-pt: | O192: =IF(AND($D192<>"",$G192<>"",$I192<>""),CONCATENATE(" ",IF($G192<>"",CONCATENATE("[url=https://pt.eurobilltracker.com/notes/?id=",$G192,"]"),""),"[color=",$I192,"][b]",$D192,"[/b][/color]",IF($G192<>"","[/url]","")),"") -> [url=https://pt.eurobilltracker.com/notes/?id=47477051][color=black][b]Alvega[/b][/color][/url] | P192: =IF($H192<>"",CONCATENATE(" – [color=",Definicoes_Instrucoes!$B$4,"]",$H192,"[/color]"),"") | Q192: =IF($B192<>"","[/size]","") -> [/size] | R192: =IF(AND($A192<>"",$B192<>"",$C192<>"",$D192<>"",$F192<>"",$G192<>"",$I192<>""),CONCATENATE(K192,L192,M192,N192,O192,P192,Q192),"") -> [size=85][b][color=#E1EBF2]0[/color][color=red]55[/color] parceiros de hit, nota nº [color=#E1EBF2]0[/color][color=black]43807[/color][/b] - [b][color=#005188]2008-06-07[/color][/b] - :flag-pt: [url=https://pt.eurobilltracker.com/notes/?id=47477051][color=black][b]Alvega[/b][/color][/url][/size]
A193: 54 | B193: 2008-05-29 | C193: 42805 | D193: mpg | E193: 53500 | F193: :flag-pt: | G193: 45883886 | I193: black | J193: =ROW()-1 -> 192 | K193: =IF(AND($A193<>"",$C193<>""),CONCATENATE("[size=85][b]",IF(LEN(A193)<3,CONCATENATE("[color=",Definicoes_Instrucoes!$B$5,"]",MID("000",1,3-LEN(A193)),"[/color]"),""),"[color=",Definicoes_Instrucoes!$B$1,"]",A193,"[/color]",IF(A193=1,CONCATENATE(" parceiro","[color=",Definicoes_Instrucoes!$B$5,"]","s","[/color]")," parceiros")," de hit, nota nº ",IF(LEN(C193)<6,CONCATENATE("[color=",Definicoes_Instrucoes!$B$5,"]",MID("000000",1,6-LEN(C193)),"[/color]"),""),"[color=",Definicoes_Instrucoes!$B$2,"]",C193,"[/color]","[/b]"),"") -> [size=85][b][color=#E1EBF2]0[/color][color=red]54[/color] parceiros de hit, nota nº [color=#E1EBF2]0[/color][color=black]42805[/color][/b] | L193: =IF($B193<>""," - ","") -> - | M193: =IF($B193<>"",CONCATENATE(" [b]","[color=",Definicoes_Instrucoes!$B$3,"]",$B193,"[/color]","[/b]"),"") -> [b][color=#005188]2008-05-29[/color][/b] | N193: =IF($F193<>"",CONCATENATE(" - ",$F193),"") -> - :flag-pt: | O193: =IF(AND($D193<>"",$G193<>"",$I193<>""),CONCATENATE(" ",IF($G193<>"",CONCATENATE("[url=https://pt.eurobilltracker.com/notes/?id=",$G193,"]"),""),"[color=",$I193,"][b]",$D193,"[/b][/color]",IF($G193<>"","[/url]","")),"") -> [url=https://pt.eurobilltracker.com/notes/?id=45883886][color=black][b]mpg[/b][/color][/url] | P193: =IF($H193<>"",CONCATENATE(" – [color=",Definicoes_Instrucoes!$B$4,"]",$H193,"[/color]"),"") | Q193: =IF($B193<>"","[/size]","") -> [/size] | R193: =IF(AND($A193<>"",$B193<>"",$C193<>"",$D193<>"",$F193<>"",$G193<>"",$I193<>""),CONCATENATE(K193,L193,M193,N193,O193,P193,Q193),"") -> [size=85][b][color=#E1EBF2]0[/color][color=red]54[/color] parceiros de hit, nota nº [color=#E1EBF2]0[/color][color=black]42805[/color][/b] - [b][color=#005188]2008-05-29[/color][/b] - :flag-pt: [url=https://pt.eurobilltracker.com/notes/?id=45883886][color=black][b]mpg[/b][/color][/url][/size]
A194: 53 | B194: 2008-05-03 | C194: 40080 | D194: josel | E194: 64931 | F194: :flag-pt: | G194: 43100285 | I194: black | J194: =ROW()-1 -> 193 | K194: =IF(AND($A194<>"",$C194<>""),CONCATENATE("[size=85][b]",IF(LEN(A194)<3,CONCATENATE("[color=",Definicoes_Instrucoes!$B$5,"]",MID("000",1,3-LEN(A194)),"[/color]"),""),"[color=",Definicoes_Instrucoes!$B$1,"]",A194,"[/color]",IF(A194=1,CONCATENATE(" parceiro","[color=",Definicoes_Instrucoes!$B$5,"]","s","[/color]")," parceiros")," de hit, nota nº ",IF(LEN(C194)<6,CONCATENATE("[color=",Definicoes_Instrucoes!$B$5,"]",MID("000000",1,6-LEN(C194)),"[/color]"),""),"[color=",Definicoes_Instrucoes!$B$2,"]",C194,"[/color]","[/b]"),"") -> [size=85][b][color=#E1EBF2]0[/color][color=red]53[/color] parceiros de hit, nota nº [color=#E1EBF2]0[/color][color=black]40080[/color][/b] | L194: =IF($B194<>""," - ","") -> - | M194: =IF($B194<>"",CONCATENATE(" [b]","[color=",Definicoes_Instrucoes!$B$3,"]",$B194,"[/color]","[/b]"),"") -> [b][color=#005188]2008-05-03[/color][/b] | N194: =IF($F194<>"",CONCATENATE(" - ",$F194),"") -> - :flag-pt: | O194: =IF(AND($D194<>"",$G194<>"",$I194<>""),CONCATENATE(" ",IF($G194<>"",CONCATENATE("[url=https://pt.eurobilltracker.com/notes/?id=",$G194,"]"),""),"[color=",$I194,"][b]",$D194,"[/b][/color]",IF($G194<>"","[/url]","")),"") -> [url=https://pt.eurobilltracker.com/notes/?id=43100285][color=black][b]josel[/b][/color][/url] | P194: =IF($H194<>"",CONCATENATE(" – [color=",Definicoes_Instrucoes!$B$4,"]",$H194,"[/color]"),"") | Q194: =IF($B194<>"","[/size]","") -> [/size] | R194: =IF(AND($A194<>"",$B194<>"",$C194<>"",$D194<>"",$F194<>"",$G194<>"",$I194<>""),CONCATENATE(K194,L194,M194,N194,O194,P194,Q194),"") -> [size=85][b][color=#E1EBF2]0[/color][color=red]53[/color] parceiros de hit, nota nº [color=#E1EBF2]0[/color][color=black]40080[/color][/b] - [b][color=#005188]2008-05-03[/color][/b] - :flag-pt: [url=https://pt.eurobilltracker.com/notes/?id=43100285][color=black][b]josel[/b][/color][/url][/size]
A195: 52 | B195: 2008-05-02 | C195: 42954 | D195: sevenseas | E195: 101849 | F195: :flag-pt: | G195: 45943214 | I195: black | J195: =ROW()-1 -> 194 | K195: =IF(AND($A195<>"",$C195<>""),CONCATENATE("[size=85][b]",IF(LEN(A195)<3,CONCATENATE("[color=",Definicoes_Instrucoes!$B$5,"]",MID("000",1,3-LEN(A195)),"[/color]"),""),"[color=",Definicoes_Instrucoes!$B$1,"]",A195,"[/color]",IF(A195=1,CONCATENATE(" parceiro","[color=",Definicoes_Instrucoes!$B$5,"]","s","[/color]")," parceiros")," de hit, nota nº ",IF(LEN(C195)<6,CONCATENATE("[color=",Definicoes_Instrucoes!$B$5,"]",MID("000000",1,6-LEN(C195)),"[/color]"),""),"[color=",Definicoes_Instrucoes!$B$2,"]",C195,"[/color]","[/b]"),"") -> [size=85][b][color=#E1EBF2]0[/color][color=red]52[/color] parceiros de hit, nota nº [color=#E1EBF2]0[/color][color=black]42954[/color][/b] | L195: =IF($B195<>""," - ","") -> - | M195: =IF($B195<>"",CONCATENATE(" [b]","[color=",Definicoes_Instrucoes!$B$3,"]",$B195,"[/color]","[/b]"),"") -> [b][color=#005188]2008-05-02[/color][/b] | N195: =IF($F195<>"",CONCATENATE(" - ",$F195),"") -> - :flag-pt: | O195: =IF(AND($D195<>"",$G195<>"",$I195<>""),CONCATENATE(" ",IF($G195<>"",CONCATENATE("[url=https://pt.eurobilltracker.com/notes/?id=",$G195,"]"),""),"[color=",$I195,"][b]",$D195,"[/b][/color]",IF($G195<>"","[/url]","")),"") -> [url=https://pt.eurobilltracker.com/notes/?id=45943214][color=black][b]sevenseas[/b][/color][/url] | P195: =IF($H195<>"",CONCATENATE(" – [color=",Definicoes_Instrucoes!$B$4,"]",$H195,"[/color]"),"") | Q195: =IF($B195<>"","[/size]","") -> [/size] | R195: =IF(AND($A195<>"",$B195<>"",$C195<>"",$D195<>"",$F195<>"",$G195<>"",$I195<>""),CONCATENATE(K195,L195,M195,N195,O195,P195,Q195),"") -> [size=85][b][color=#E1EBF2]0[/color][color=red]52[/color] parceiros de hit, nota nº [color=#E1EBF2]0[/color][color=black]42954[/color][/b] - [b][color=#005188]2008-05-02[/color][/b] - :flag-pt: [url=https://pt.eurobilltracker.com/notes/?id=45943214][color=black][b]sevenseas[/b][/color][/url][/size]
A196: 51 | B196: 2008-05-01 | C196: 41479 | D196: Santos Bento | E196: 68558 | F196: :flag-pt: | G196: 45028459 | I196: black | J196: =ROW()-1 -> 195 | K196: =IF(AND($A196<>"",$C196<>""),CONCATENATE("[size=85][b]",IF(LEN(A196)<3,CONCATENATE("[color=",Definicoes_Instrucoes!$B$5,"]",MID("000",1,3-LEN(A196)),"[/color]"),""),"[color=",Definicoes_Instrucoes!$B$1,"]",A196,"[/color]",IF(A196=1,CONCATENATE(" parceiro","[color=",Definicoes_Instrucoes!$B$5,"]","s","[/color]")," parceiros")," de hit, nota nº ",IF(LEN(C196)<6,CONCATENATE("[color=",Definicoes_Instrucoes!$B$5,"]",MID("000000",1,6-LEN(C196)),"[/color]"),""),"[color=",Definicoes_Instrucoes!$B$2,"]",C196,"[/color]","[/b]"),"") -> [size=85][b][color=#E1EBF2]0[/color][color=red]51[/color] parceiros de hit, nota nº [color=#E1EBF2]0[/color][color=black]41479[/color][/b] | L196: =IF($B196<>""," - ","") -> - | M196: =IF($B196<>"",CONCATENATE(" [b]","[color=",Definicoes_Instrucoes!$B$3,"]",$B196,"[/color]","[/b]"),"") -> [b][color=#005188]2008-05-01[/color][/b] | N196: =IF($F196<>"",CONCATENATE(" - ",$F196),"") -> - :flag-pt: | O196: =IF(AND($D196<>"",$G196<>"",$I196<>""),CONCATENATE(" ",IF($G196<>"",CONCATENATE("[url=https://pt.eurobilltracker.com/notes/?id=",$G196,"]"),""),"[color=",$I196,"][b]",$D196,"[/b][/color]",IF($G196<>"","[/url]","")),"") -> [url=https://pt.eurobilltracker.com/notes/?id=45028459][color=black][b]Santos Bento[/b][/color][/url] | P196: =IF($H196<>"",CONCATENATE(" – [color=",Definicoes_Instrucoes!$B$4,"]",$H196,"[/color]"),"") | Q196: =IF($B196<>"","[/size]","") -> [/size] | R196: =IF(AND($A196<>"",$B196<>"",$C196<>"",$D196<>"",$F196<>"",$G196<>"",$I196<>""),CONCATENATE(K196,L196,M196,N196,O196,P196,Q196),"") -> [size=85][b][color=#E1EBF2]0[/color][color=red]51[/color] parceiros de hit, nota nº [color=#E1EBF2]0[/color][color=black]41479[/color][/b] - [b][color=#005188]2008-05-01[/color][/b] - :flag-pt: [url=https://pt.eurobilltracker.com/notes/?id=45028459][color=black][b]Santos Bento[/b][/color][/url][/size]
A197: 50 | B197: 2008-04-12 | C197: 41800 | D197: KARR & KARRinette | E197: 17601 | F197: :flag-fr: | G197: 45082778 | I197: black | J197: =ROW()-1 -> 196 | K197: =IF(AND($A197<>"",$C197<>""),CONCATENATE("[size=85][b]",IF(LEN(A197)<3,CONCATENATE("[color=",Definicoes_Instrucoes!$B$5,"]",MID("000",1,3-LEN(A197)),"[/color]"),""),"[color=",Definicoes_Instrucoes!$B$1,"]",A197,"[/color]",IF(A197=1,CONCATENATE(" parceiro","[color=",Definicoes_Instrucoes!$B$5,"]","s","[/color]")," parceiros")," de hit, nota nº ",IF(LEN(C197)<6,CONCATENATE("[color=",Definicoes_Instrucoes!$B$5,"]",MID("000000",1,6-LEN(C197)),"[/color]"),""),"[color=",Definicoes_Instrucoes!$B$2,"]",C197,"[/color]","[/b]"),"") -> [size=85][b][color=#E1EBF2]0[/color][color=red]50[/color] parceiros de hit, nota nº [color=#E1EBF2]0[/color][color=black]41800[/color][/b] | L197: =IF($B197<>""," - ","") -> - | M197: =IF($B197<>"",CONCATENATE(" [b]","[color=",Definicoes_Instrucoes!$B$3,"]",$B197,"[/color]","[/b]"),"") -> [b][color=#005188]2008-04-12[/color][/b] | N197: =IF($F197<>"",CONCATENATE(" - ",$F197),"") -> - :flag-fr: | O197: =IF(AND($D197<>"",$G197<>"",$I197<>""),CONCATENATE(" ",IF($G197<>"",CONCATENATE("[url=https://pt.eurobilltracker.com/notes/?id=",$G197,"]"),""),"[color=",$I197,"][b]",$D197,"[/b][/color]",IF($G197<>"","[/url]","")),"") -> [url=https://pt.eurobilltracker.com/notes/?id=45082778][color=black][b]KARR & KARRinette[/b][/color][/url] | P197: =IF($H197<>"",CONCATENATE(" – [color=",Definicoes_Instrucoes!$B$4,"]",$H197,"[/color]"),"") | Q197: =IF($B197<>"","[/size]","") -> [/size] | R197: =IF(AND($A197<>"",$B197<>"",$C197<>"",$D197<>"",$F197<>"",$G197<>"",$I197<>""),CONCATENATE(K197,L197,M197,N197,O197,P197,Q197),"") -> [size=85][b][color=#E1EBF2]0[/color][color=red]50[/color] parceiros de hit, nota nº [color=#E1EBF2]0[/color][color=black]41800[/color][/b] - [b][color=#005188]2008-04-12[/color][/b] - :flag-fr: [url=https://pt.eurobilltracker.com/notes/?id=45082778][color=black][b]KARR & KARRinette[/b][/color][/url][/size]
A198: 49 | B198: 2008-03-28 | C198: 12821 | D198: artmao | E198: 70116 | F198: :flag-pt: | G198: 25849681 | I198: black | J198: =ROW()-1 -> 197 | K198: =IF(AND($A198<>"",$C198<>""),CONCATENATE("[size=85][b]",IF(LEN(A198)<3,CONCATENATE("[color=",Definicoes_Instrucoes!$B$5,"]",MID("000",1,3-LEN(A198)),"[/color]"),""),"[color=",Definicoes_Instrucoes!$B$1,"]",A198,"[/color]",IF(A198=1,CONCATENATE(" parceiro","[color=",Definicoes_Instrucoes!$B$5,"]","s","[/color]")," parceiros")," de hit, nota nº ",IF(LEN(C198)<6,CONCATENATE("[color=",Definicoes_Instrucoes!$B$5,"]",MID("000000",1,6-LEN(C198)),"[/color]"),""),"[color=",Definicoes_Instrucoes!$B$2,"]",C198,"[/color]","[/b]"),"") -> [size=85][b][color=#E1EBF2]0[/color][color=red]49[/color] parceiros de hit, nota nº [color=#E1EBF2]0[/color][color=black]12821[/color][/b] | L198: =IF($B198<>""," - ","") -> - | M198: =IF($B198<>"",CONCATENATE(" [b]","[color=",Definicoes_Instrucoes!$B$3,"]",$B198,"[/color]","[/b]"),"") -> [b][color=#005188]2008-03-28[/color][/b] | N198: =IF($F198<>"",CONCATENATE(" - ",$F198),"") -> - :flag-pt: | O198: =IF(AND($D198<>"",$G198<>"",$I198<>""),CONCATENATE(" ",IF($G198<>"",CONCATENATE("[url=https://pt.eurobilltracker.com/notes/?id=",$G198,"]"),""),"[color=",$I198,"][b]",$D198,"[/b][/color]",IF($G198<>"","[/url]","")),"") -> [url=https://pt.eurobilltracker.com/notes/?id=25849681][color=black][b]artmao[/b][/color][/url] | P198: =IF($H198<>"",CONCATENATE(" – [color=",Definicoes_Instrucoes!$B$4,"]",$H198,"[/color]"),"") | Q198: =IF($B198<>"","[/size]","") -> [/size] | R198: =IF(AND($A198<>"",$B198<>"",$C198<>"",$D198<>"",$F198<>"",$G198<>"",$I198<>""),CONCATENATE(K198,L198,M198,N198,O198,P198,Q198),"") -> [size=85][b][color=#E1EBF2]0[/color][color=red]49[/color] parceiros de hit, nota nº [color=#E1EBF2]0[/color][color=black]12821[/color][/b] - [b][color=#005188]2008-03-28[/color][/b] - :flag-pt: [url=https://pt.eurobilltracker.com/notes/?id=25849681][color=black][b]artmao[/b][/color][/url][/size]
A199: 48 | B199: 2008-02-19 | C199: 34324 | D199: eliecer | E199: 71617 | F199: :flag-es: | G199: 37778037 | I199: black | J199: =ROW()-1 -> 198 | K199: =IF(AND($A199<>"",$C199<>""),CONCATENATE("[size=85][b]",IF(LEN(A199)<3,CONCATENATE("[color=",Definicoes_Instrucoes!$B$5,"]",MID("000",1,3-LEN(A199)),"[/color]"),""),"[color=",Definicoes_Instrucoes!$B$1,"]",A199,"[/color]",IF(A199=1,CONCATENATE(" parceiro","[color=",Definicoes_Instrucoes!$B$5,"]","s","[/color]")," parceiros")," de hit, nota nº ",IF(LEN(C199)<6,CONCATENATE("[color=",Definicoes_Instrucoes!$B$5,"]",MID("000000",1,6-LEN(C199)),"[/color]"),""),"[color=",Definicoes_Instrucoes!$B$2,"]",C199,"[/color]","[/b]"),"") -> [size=85][b][color=#E1EBF2]0[/color][color=red]48[/color] parceiros de hit, nota nº [color=#E1EBF2]0[/color][color=black]34324[/color][/b] | L199: =IF($B199<>""," - ","") -> - | M199: =IF($B199<>"",CONCATENATE(" [b]","[color=",Definicoes_Instrucoes!$B$3,"]",$B199,"[/color]","[/b]"),"") -> [b][color=#005188]2008-02-19[/color][/b] | N199: =IF($F199<>"",CONCATENATE(" - ",$F199),"") -> - :flag-es: | O199: =IF(AND($D199<>"",$G199<>"",$I199<>""),CONCATENATE(" ",IF($G199<>"",CONCATENATE("[url=https://pt.eurobilltracker.com/notes/?id=",$G199,"]"),""),"[color=",$I199,"][b]",$D199,"[/b][/color]",IF($G199<>"","[/url]","")),"") -> [url=https://pt.eurobilltracker.com/notes/?id=37778037][color=black][b]eliecer[/b][/color][/url] | P199: =IF($H199<>"",CONCATENATE(" – [color=",Definicoes_Instrucoes!$B$4,"]",$H199,"[/color]"),"") | Q199: =IF($B199<>"","[/size]","") -> [/size] | R199: =IF(AND($A199<>"",$B199<>"",$C199<>"",$D199<>"",$F199<>"",$G199<>"",$I199<>""),CONCATENATE(K199,L199,M199,N199,O199,P199,Q199),"") -> [size=85][b][color=#E1EBF2]0[/color][color=red]48[/color] parceiros de hit, nota nº [color=#E1EBF2]0[/color][color=black]34324[/color][/b] - [b][color=#005188]2008-02-19[/color][/b] - :flag-es: [url=https://pt.eurobilltracker.com/notes/?id=37778037][color=black][b]eliecer[/b][/color][/url][/size]
A200: 47 | B200: 2008-02-15 | C200: 27299 | D200: 10d | E200: 109794 | F200: :flag-de: | G200: 33397345 | I200: black | J200: =ROW()-1 -> 199 | K200: =IF(AND($A200<>"",$C200<>""),CONCATENATE("[size=85][b]",IF(LEN(A200)<3,CONCATENATE("[color=",Definicoes_Instrucoes!$B$5,"]",MID("000",1,3-LEN(A200)),"[/color]"),""),"[color=",Definicoes_Instrucoes!$B$1,"]",A200,"[/color]",IF(A200=1,CONCATENATE(" parceiro","[color=",Definicoes_Instrucoes!$B$5,"]","s","[/color]")," parceiros")," de hit, nota nº ",IF(LEN(C200)<6,CONCATENATE("[color=",Definicoes_Instrucoes!$B$5,"]",MID("000000",1,6-LEN(C200)),"[/color]"),""),"[color=",Definicoes_Instrucoes!$B$2,"]",C200,"[/color]","[/b]"),"") -> [size=85][b][color=#E1EBF2]0[/color][color=red]47[/color] parceiros de hit, nota nº [color=#E1EBF2]0[/color][color=black]27299[/color][/b] | L200: =IF($B200<>""," - ","") -> - | M200: =IF($B200<>"",CONCATENATE(" [b]","[color=",Definicoes_Instrucoes!$B$3,"]",$B200,"[/color]","[/b]"),"") -> [b][color=#005188]2008-02-15[/color][/b] | N200: =IF($F200<>"",CONCATENATE(" - ",$F200),"") -> - :flag-de: | O200: =IF(AND($D200<>"",$G200<>"",$I200<>""),CONCATENATE(" ",IF($G200<>"",CONCATENATE("[url=https://pt.eurobilltracker.com/notes/?id=",$G200,"]"),""),"[color=",$I200,"][b]",$D200,"[/b][/color]",IF($G200<>"","[/url]","")),"") -> [url=https://pt.eurobilltracker.com/notes/?id=33397345][color=black][b]10d[/b][/color][/url] | P200: =IF($H200<>"",CONCATENATE(" – [color=",Definicoes_Instrucoes!$B$4,"]",$H200,"[/color]"),"") | Q200: =IF($B200<>"","[/size]","") -> [/size] | R200: =IF(AND($A200<>"",$B200<>"",$C200<>"",$D200<>"",$F200<>"",$G200<>"",$I200<>""),CONCATENATE(K200,L200,M200,N200,O200,P200,Q200),"") -> [size=85][b][color=#E1EBF2]0[/color][color=red]47[/color] parceiros de hit, nota nº [color=#E1EBF2]0[/color][color=black]27299[/color][/b] - [b][color=#005188]2008-02-15[/color][/b] - :flag-de: [url=https://pt.eurobilltracker.com/notes/?id=33397345][color=black][b]10d[/b][/color][/url][/size]
A201: 46 | B201: 2008-01-30 | C201: 34118 | D201: jomileal | E201: 118609 | F201: :flag-pt: | G201: 37591601 | I201: black | J201: =ROW()-1 -> 200 | K201: =IF(AND($A201<>"",$C201<>""),CONCATENATE("[size=85][b]",IF(LEN(A201)<3,CONCATENATE("[color=",Definicoes_Instrucoes!$B$5,"]",MID("000",1,3-LEN(A201)),"[/color]"),""),"[color=",Definicoes_Instrucoes!$B$1,"]",A201,"[/color]",IF(A201=1,CONCATENATE(" parceiro","[color=",Definicoes_Instrucoes!$B$5,"]","s","[/color]")," parceiros")," de hit, nota nº ",IF(LEN(C201)<6,CONCATENATE("[color=",Definicoes_Instrucoes!$B$5,"]",MID("000000",1,6-LEN(C201)),"[/color]"),""),"[color=",Definicoes_Instrucoes!$B$2,"]",C201,"[/color]","[/b]"),"") -> [size=85][b][color=#E1EBF2]0[/color][color=red]46[/color] parceiros de hit, nota nº [color=#E1EBF2]0[/color][color=black]34118[/color][/b] | L201: =IF($B201<>""," - ","") -> - | M201: =IF($B201<>"",CONCATENATE(" [b]","[color=",Definicoes_Instrucoes!$B$3,"]",$B201,"[/color]","[/b]"),"") -> [b][color=#005188]2008-01-30[/color][/b] | N201: =IF($F201<>"",CONCATENATE(" - ",$F201),"") -> - :flag-pt: | O201: =IF(AND($D201<>"",$G201<>"",$I201<>""),CONCATENATE(" ",IF($G201<>"",CONCATENATE("[url=https://pt.eurobilltracker.com/notes/?id=",$G201,"]"),""),"[color=",$I201,"][b]",$D201,"[/b][/color]",IF($G201<>"","[/url]","")),"") -> [url=https://pt.eurobilltracker.com/notes/?id=37591601][color=black][b]jomileal[/b][/color][/url] | P201: =IF($H201<>"",CONCATENATE(" – [color=",Definicoes_Instrucoes!$B$4,"]",$H201,"[/color]"),"") | Q201: =IF($B201<>"","[/size]","") -> [/size] | R201: =IF(AND($A201<>"",$B201<>"",$C201<>"",$D201<>"",$F201<>"",$G201<>"",$I201<>""),CONCATENATE(K201,L201,M201,N201,O201,P201,Q201),"") -> [size=85][b][color=#E1EBF2]0[/color][color=red]46[/color] parceiros de hit, nota nº [color=#E1EBF2]0[/color][color=black]34118[/color][/b] - [b][color=#005188]2008-01-30[/color][/b] - :flag-pt: [url=https://pt.eurobilltracker.com/notes/?id=37591601][color=black][b]jomileal[/b][/color][/url][/size]
A202: 45 | B202: 2008-01-08 | C202: 33681 | D202: Beeto | E202: 71448 | F202: :flag-pt: | G202: 37504597 | I202: black | J202: =ROW()-1 -> 201 | K202: =IF(AND($A202<>"",$C202<>""),CONCATENATE("[size=85][b]",IF(LEN(A202)<3,CONCATENATE("[color=",Definicoes_Instrucoes!$B$5,"]",MID("000",1,3-LEN(A202)),"[/color]"),""),"[color=",Definicoes_Instrucoes!$B$1,"]",A202,"[/color]",IF(A202=1,CONCATENATE(" parceiro","[color=",Definicoes_Instrucoes!$B$5,"]","s","[/color]")," parceiros")," de hit, nota nº ",IF(LEN(C202)<6,CONCATENATE("[color=",Definicoes_Instrucoes!$B$5,"]",MID("000000",1,6-LEN(C202)),"[/color]"),""),"[color=",Definicoes_Instrucoes!$B$2,"]",C202,"[/color]","[/b]"),"") -> [size=85][b][color=#E1EBF2]0[/color][color=red]45[/color] parceiros de hit, nota nº [color=#E1EBF2]0[/color][color=black]33681[/color][/b] | L202: =IF($B202<>""," - ","") -> - | M202: =IF($B202<>"",CONCATENATE(" [b]","[color=",Definicoes_Instrucoes!$B$3,"]",$B202,"[/color]","[/b]"),"") -> [b][color=#005188]2008-01-08[/color][/b] | N202: =IF($F202<>"",CONCATENATE(" - ",$F202),"") -> - :flag-pt: | O202: =IF(AND($D202<>"",$G202<>"",$I202<>""),CONCATENATE(" ",IF($G202<>"",CONCATENATE("[url=https://pt.eurobilltracker.com/notes/?id=",$G202,"]"),""),"[color=",$I202,"][b]",$D202,"[/b][/color]",IF($G202<>"","[/url]","")),"") -> [url=https://pt.eurobilltracker.com/notes/?id=37504597][color=black][b]Beeto[/b][/color][/url] | P202: =IF($H202<>"",CONCATENATE(" – [color=",Definicoes_Instrucoes!$B$4,"]",$H202,"[/color]"),"") | Q202: =IF($B202<>"","[/size]","") -> [/size] | R202: =IF(AND($A202<>"",$B202<>"",$C202<>"",$D202<>"",$F202<>"",$G202<>"",$I202<>""),CONCATENATE(K202,L202,M202,N202,O202,P202,Q202),"") -> [size=85][b][color=#E1EBF2]0[/color][color=red]45[/color] parceiros de hit, nota nº [color=#E1EBF2]0[/color][color=black]33681[/color][/b] - [b][color=#005188]2008-01-08[/color][/b] - :flag-pt: [url=https://pt.eurobilltracker.com/notes/?id=37504597][color=black][b]Beeto[/b][/color][/url][/size]
A203: 44 | B203: 2008-01-07 | C203: 22236 | D203: PAULO/ALGARVE-FELIZ NATAL 2007 | E203: 113114 | F203: :flag-pt: | G203: 31053375 | I203: black | J203: =ROW()-1 -> 202 | K203: =IF(AND($A203<>"",$C203<>""),CONCATENATE("[size=85][b]",IF(LEN(A203)<3,CONCATENATE("[color=",Definicoes_Instrucoes!$B$5,"]",MID("000",1,3-LEN(A203)),"[/color]"),""),"[color=",Definicoes_Instrucoes!$B$1,"]",A203,"[/color]",IF(A203=1,CONCATENATE(" parceiro","[color=",Definicoes_Instrucoes!$B$5,"]","s","[/color]")," parceiros")," de hit, nota nº ",IF(LEN(C203)<6,CONCATENATE("[color=",Definicoes_Instrucoes!$B$5,"]",MID("000000",1,6-LEN(C203)),"[/color]"),""),"[color=",Definicoes_Instrucoes!$B$2,"]",C203,"[/color]","[/b]"),"") -> [size=85][b][color=#E1EBF2]0[/color][color=red]44[/color] parceiros de hit, nota nº [color=#E1EBF2]0[/color][color=black]22236[/color][/b] | L203: =IF($B203<>""," - ","") -> - | M203: =IF($B203<>"",CONCATENATE(" [b]","[color=",Definicoes_Instrucoes!$B$3,"]",$B203,"[/color]","[/b]"),"") -> [b][color=#005188]2008-01-07[/color][/b] | N203: =IF($F203<>"",CONCATENATE(" - ",$F203),"") -> - :flag-pt: | O203: =IF(AND($D203<>"",$G203<>"",$I203<>""),CONCATENATE(" ",IF($G203<>"",CONCATENATE("[url=https://pt.eurobilltracker.com/notes/?id=",$G203,"]"),""),"[color=",$I203,"][b]",$D203,"[/b][/color]",IF($G203<>"","[/url]","")),"") -> [url=https://pt.eurobilltracker.com/notes/?id=31053375][color=black][b]PAULO/ALGARVE-FELIZ NATAL 2007[/b][/color][/url] | P203: =IF($H203<>"",CONCATENATE(" – [color=",Definicoes_Instrucoes!$B$4,"]",$H203,"[/color]"),"") | Q203: =IF($B203<>"","[/size]","") -> [/size] | R203: =IF(AND($A203<>"",$B203<>"",$C203<>"",$D203<>"",$F203<>"",$G203<>"",$I203<>""),CONCATENATE(K203,L203,M203,N203,O203,P203,Q203),"") -> [size=85][b][color=#E1EBF2]0[/color][color=red]44[/color] parceiros de hit, nota nº [color=#E1EBF2]0[/color][color=black]22236[/color][/b] - [b][color=#005188]2008-01-07[/color][/b] - :flag-pt: [url=https://pt.eurobilltracker.com/notes/?id=31053375][color=black][b]PAULO/ALGARVE-FELIZ NATAL 2007[/b][/color][/url][/size]
... A219: 28 | B219: 2007-06-27 | C219: 25799 | D219: edmelga | E219: 36593 | F219: :flag-es: | G219: 32301726 | I219: black | J219: =ROW()-1 -> 218 | K219: =IF(AND($A219<>"",$C219<>""),CONCATENATE("[size=85][b]",IF(LEN(A219)<3,CONCATENATE("[color=",Definicoes_Instrucoes!$B$5,"]",MID("000",1,3-LEN(A219)),"[/color]"),""),"[color=",Definicoes_Instrucoes!$B$1,"]",A219,"[/color]",IF(A219=1,CONCATENATE(" parceiro","[color=",Definicoes_Instrucoes!$B$5,"]","s","[/color]")," parceiros")," de hit, nota nº ",IF(LEN(C219)<6,CONCATENATE("[color=",Definicoes_Instrucoes!$B$5,"]",MID("000000",1,6-LEN(C219)),"[/color]"),""),"[color=",Definicoes_Instrucoes!$B$2,"]",C219,"[/color]","[/b]"),"") -> [size=85][b][color=#E1EBF2]0[/color][color=red]28[/color] parceiros de hit, nota nº [color=#E1EBF2]0[/color][color=black]25799[/color][/b] | L219: =IF($B219<>""," - ","") -> - | M219: =IF($B219<>"",CONCATENATE(" [b]","[color=",Definicoes_Instrucoes!$B$3,"]",$B219,"[/color]","[/b]"),"") -> [b][color=#005188]2007-06-27[/color][/b] | N219: =IF($F219<>"",CONCATENATE(" - ",$F219),"") -> - :flag-es: | O219: =IF(AND($D219<>"",$G219<>"",$I219<>""),CONCATENATE(" ",IF($G219<>"",CONCATENATE("[url=https://pt.eurobilltracker.com/notes/?id=",$G219,"]"),""),"[color=",$I219,"][b]",$D219,"[/b][/color]",IF($G219<>"","[/url]","")),"") -> [url=https://pt.eurobilltracker.com/notes/?id=32301726][color=black][b]edmelga[/b][/color][/url] | P219: =IF($H219<>"",CONCATENATE(" – [color=",Definicoes_Instrucoes!$B$4,"]",$H219,"[/color]"),"") | Q219: =IF($B219<>"","[/size]","") -> [/size] | R219: =IF(AND($A219<>"",$B219<>"",$C219<>"",$D219<>"",$F219<>"",$G219<>"",$I219<>""),CONCATENATE(K219,L219,M219,N219,O219,P219,Q219),"") -> [size=85][b][color=#E1EBF2]0[/color][color=red]28[/color] parceiros de hit, nota nº [color=#E1EBF2]0[/color][color=black]25799[/color][/b] - [b][color=#005188]2007-06-27[/color][/b] - :flag-es: [url=https://pt.eurobilltracker.com/notes/?id=32301726][color=black][b]edmelga[/b][/color][/url][/size]
A220: 27 | B220: 2007-06-10 | C220: 8246 | D220: Leofer40 | E220: 48270 | F220: :flag-pt: | G220: 23463611 | H220: Finalmente um hit com o N1 | I220: black | J220: =ROW()-1 -> 219 | K220: =IF(AND($A220<>"",$C220<>""),CONCATENATE("[size=85][b]",IF(LEN(A220)<3,CONCATENATE("[color=",Definicoes_Instrucoes!$B$5,"]",MID("000",1,3-LEN(A220)),"[/color]"),""),"[color=",Definicoes_Instrucoes!$B$1,"]",A220,"[/color]",IF(A220=1,CONCATENATE(" parceiro","[color=",Definicoes_Instrucoes!$B$5,"]","s","[/color]")," parceiros")," de hit, nota nº ",IF(LEN(C220)<6,CONCATENATE("[color=",Definicoes_Instrucoes!$B$5,"]",MID("000000",1,6-LEN(C220)),"[/color]"),""),"[color=",Definicoes_Instrucoes!$B$2,"]",C220,"[/color]","[/b]"),"") -> [size=85][b][color=#E1EBF2]0[/color][color=red]27[/color] parceiros de hit, nota nº [color=#E1EBF2]00[/color][color=black]8246[/color][/b] | L220: =IF($B220<>""," - ","") -> - | M220: =IF($B220<>"",CONCATENATE(" [b]","[color=",Definicoes_Instrucoes!$B$3,"]",$B220,"[/color]","[/b]"),"") -> [b][color=#005188]2007-06-10[/color][/b] | N220: =IF($F220<>"",CONCATENATE(" - ",$F220),"") -> - :flag-pt: | O220: =IF(AND($D220<>"",$G220<>"",$I220<>""),CONCATENATE(" ",IF($G220<>"",CONCATENATE("[url=https://pt.eurobilltracker.com/notes/?id=",$G220,"]"),""),"[color=",$I220,"][b]",$D220,"[/b][/color]",IF($G220<>"","[/url]","")),"") -> [url=https://pt.eurobilltracker.com/notes/?id=23463611][color=black][b]Leofer40[/b][/color][/url] | P220: =IF($H220<>"",CONCATENATE(" – [color=",Definicoes_Instrucoes!$B$4,"]",$H220,"[/color]"),"") -> – [color=orange]Finalmente um hit com o N1[/color] | Q220: =IF($B220<>"","[/size]","") -> [/size] | R220: =IF(AND($A220<>"",$B220<>"",$C220<>"",$D220<>"",$F220<>"",$G220<>"",$I220<>""),CONCATENATE(K220,L220,M220,N220,O220,P220,Q220),"") -> [size=85][b][color=#E1EBF2]0[/color][color=red]27[/color] parceiros de hit, nota nº [color=#E1EBF2]00[/color][color=black]8246[/color][/b] - [b][color=#005188]2007-06-10[/color][/b] - :flag-pt: [url=https://pt.eurobilltracker.com/notes/?id=23463611][color=black][b]Leofer40[/b][/color][/url] – [color=orange]Finalmente um hit com o N1[/color][/size]
A221: 26 | B221: 2007-06-02 | C221: 22936 | D221: pssmatos | E221: 42682 | F221: :flag-pt: | G221: 31271808 | I221: black | J221: =ROW()-1 -> 220 | K221: =IF(AND($A221<>"",$C221<>""),CONCATENATE("[size=85][b]",IF(LEN(A221)<3,CONCATENATE("[color=",Definicoes_Instrucoes!$B$5,"]",MID("000",1,3-LEN(A221)),"[/color]"),""),"[color=",Definicoes_Instrucoes!$B$1,"]",A221,"[/color]",IF(A221=1,CONCATENATE(" parceiro","[color=",Definicoes_Instrucoes!$B$5,"]","s","[/color]")," parceiros")," de hit, nota nº ",IF(LEN(C221)<6,CONCATENATE("[color=",Definicoes_Instrucoes!$B$5,"]",MID("000000",1,6-LEN(C221)),"[/color]"),""),"[color=",Definicoes_Instrucoes!$B$2,"]",C221,"[/color]","[/b]"),"") -> [size=85][b][color=#E1EBF2]0[/color][color=red]26[/color] parceiros de hit, nota nº [color=#E1EBF2]0[/color][color=black]22936[/color][/b] | L221: =IF($B221<>""," - ","") -> - | M221: =IF($B221<>"",CONCATENATE(" [b]","[color=",Definicoes_Instrucoes!$B$3,"]",$B221,"[/color]","[/b]"),"") -> [b][color=#005188]2007-06-02[/color][/b] | N221: =IF($F221<>"",CONCATENATE(" - ",$F221),"") -> - :flag-pt: | O221: =IF(AND($D221<>"",$G221<>"",$I221<>""),CONCATENATE(" ",IF($G221<>"",CONCATENATE("[url=https://pt.eurobilltracker.com/notes/?id=",$G221,"]"),""),"[color=",$I221,"][b]",$D221,"[/b][/color]",IF($G221<>"","[/url]","")),"") -> [url=https://pt.eurobilltracker.com/notes/?id=31271808][color=black][b]pssmatos[/b][/color][/url] | P221: =IF($H221<>"",CONCATENATE(" – [color=",Definicoes_Instrucoes!$B$4,"]",$H221,"[/color]"),"") | Q221: =IF($B221<>"","[/size]","") -> [/size] | R221: =IF(AND($A221<>"",$B221<>"",$C221<>"",$D221<>"",$F221<>"",$G221<>"",$I221<>""),CONCATENATE(K221,L221,M221,N221,O221,P221,Q221),"") -> [size=85][b][color=#E1EBF2]0[/color][color=red]26[/color] parceiros de hit, nota nº [color=#E1EBF2]0[/color][color=black]22936[/color][/b] - [b][color=#005188]2007-06-02[/color][/b] - :flag-pt: [url=https://pt.eurobilltracker.com/notes/?id=31271808][color=black][b]pssmatos[/b][/color][/url][/size]
A222: 25 | B222: 2007-05-19 | C222: 21685 | D222: Frechnase | E222: 16645 | F222: :flag-de: | G222: 30722826 | I222: black | J222: =ROW()-1 -> 221 | K222: =IF(AND($A222<>"",$C222<>""),CONCATENATE("[size=85][b]",IF(LEN(A222)<3,CONCATENATE("[color=",Definicoes_Instrucoes!$B$5,"]",MID("000",1,3-LEN(A222)),"[/color]"),""),"[color=",Definicoes_Instrucoes!$B$1,"]",A222,"[/color]",IF(A222=1,CONCATENATE(" parceiro","[color=",Definicoes_Instrucoes!$B$5,"]","s","[/color]")," parceiros")," de hit, nota nº ",IF(LEN(C222)<6,CONCATENATE("[color=",Definicoes_Instrucoes!$B$5,"]",MID("000000",1,6-LEN(C222)),"[/color]"),""),"[color=",Definicoes_Instrucoes!$B$2,"]",C222,"[/color]","[/b]"),"") -> [size=85][b][color=#E1EBF2]0[/color][color=red]25[/color] parceiros de hit, nota nº [color=#E1EBF2]0[/color][color=black]21685[/color][/b] | L222: =IF($B222<>""," - ","") -> - | M222: =IF($B222<>"",CONCATENATE(" [b]","[color=",Definicoes_Instrucoes!$B$3,"]",$B222,"[/color]","[/b]"),"") -> [b][color=#005188]2007-05-19[/color][/b] | N222: =IF($F222<>"",CONCATENATE(" - ",$F222),"") -> - :flag-de: | O222: =IF(AND($D222<>"",$G222<>"",$I222<>""),CONCATENATE(" ",IF($G222<>"",CONCATENATE("[url=https://pt.eurobilltracker.com/notes/?id=",$G222,"]"),""),"[color=",$I222,"][b]",$D222,"[/b][/color]",IF($G222<>"","[/url]","")),"") -> [url=https://pt.eurobilltracker.com/notes/?id=30722826][color=black][b]Frechnase[/b][/color][/url] | P222: =IF($H222<>"",CONCATENATE(" – [color=",Definicoes_Instrucoes!$B$4,"]",$H222,"[/color]"),"") | Q222: =IF($B222<>"","[/size]","") -> [/size] | R222: =IF(AND($A222<>"",$B222<>"",$C222<>"",$D222<>"",$F222<>"",$G222<>"",$I222<>""),CONCATENATE(K222,L222,M222,N222,O222,P222,Q222),"") -> [size=85][b][color=#E1EBF2]0[/color][color=red]25[/color] parceiros de hit, nota nº [color=#E1EBF2]0[/color][color=black]21685[/color][/b] - [b][color=#005188]2007-05-19[/color][/b] - :flag-de: [url=https://pt.eurobilltracker.com/notes/?id=30722826][color=black][b]Frechnase[/b][/color][/url][/size]
A223: 24 | B223: 2007-05-15 | C223: 20092 | D223: Xano... | E223: 105631 | F223: :flag-pt: | G223: 29829698 | I223: black | J223: =ROW()-1 -> 222 | K223: =IF(AND($A223<>"",$C223<>""),CONCATENATE("[size=85][b]",IF(LEN(A223)<3,CONCATENATE("[color=",Definicoes_Instrucoes!$B$5,"]",MID("000",1,3-LEN(A223)),"[/color]"),""),"[color=",Definicoes_Instrucoes!$B$1,"]",A223,"[/color]",IF(A223=1,CONCATENATE(" parceiro","[color=",Definicoes_Instrucoes!$B$5,"]","s","[/color]")," parceiros")," de hit, nota nº ",IF(LEN(C223)<6,CONCATENATE("[color=",Definicoes_Instrucoes!$B$5,"]",MID("000000",1,6-LEN(C223)),"[/color]"),""),"[color=",Definicoes_Instrucoes!$B$2,"]",C223,"[/color]","[/b]"),"") -> [size=85][b][color=#E1EBF2]0[/color][color=red]24[/color] parceiros de hit, nota nº [color=#E1EBF2]0[/color][color=black]20092[/color][/b] | L223: =IF($B223<>""," - ","") -> - | M223: =IF($B223<>"",CONCATENATE(" [b]","[color=",Definicoes_Instrucoes!$B$3,"]",$B223,"[/color]","[/b]"),"") -> [b][color=#005188]2007-05-15[/color][/b] | N223: =IF($F223<>"",CONCATENATE(" - ",$F223),"") -> - :flag-pt: | O223: =IF(AND($D223<>"",$G223<>"",$I223<>""),CONCATENATE(" ",IF($G223<>"",CONCATENATE("[url=https://pt.eurobilltracker.com/notes/?id=",$G223,"]"),""),"[color=",$I223,"][b]",$D223,"[/b][/color]",IF($G223<>"","[/url]","")),"") -> [url=https://pt.eurobilltracker.com/notes/?id=29829698][color=black][b]Xano...[/b][/color][/url] | P223: =IF($H223<>"",CONCATENATE(" – [color=",Definicoes_Instrucoes!$B$4,"]",$H223,"[/color]"),"") | Q223: =IF($B223<>"","[/size]","") -> [/size] | R223: =IF(AND($A223<>"",$B223<>"",$C223<>"",$D223<>"",$F223<>"",$G223<>"",$I223<>""),CONCATENATE(K223,L223,M223,N223,O223,P223,Q223),"") -> [size=85][b][color=#E1EBF2]0[/color][color=red]24[/color] parceiros de hit, nota nº [color=#E1EBF2]0[/color][color=black]20092[/color][/b] - [b][color=#005188]2007-05-15[/color][/b] - :flag-pt: [url=https://pt.eurobilltracker.com/notes/?id=29829698][color=black][b]Xano...[/b][/color][/url][/size]
A224: 23 | B224: 2007-04-16 | C224: 11205 | D224: rcsf | E224: 68909 | F224: :flag-pt: | G224: 24962152 | I224: black | J224: =ROW()-1 -> 223 | K224: =IF(AND($A224<>"",$C224<>""),CONCATENATE("[size=85][b]",IF(LEN(A224)<3,CONCATENATE("[color=",Definicoes_Instrucoes!$B$5,"]",MID("000",1,3-LEN(A224)),"[/color]"),""),"[color=",Definicoes_Instrucoes!$B$1,"]",A224,"[/color]",IF(A224=1,CONCATENATE(" parceiro","[color=",Definicoes_Instrucoes!$B$5,"]","s","[/color]")," parceiros")," de hit, nota nº ",IF(LEN(C224)<6,CONCATENATE("[color=",Definicoes_Instrucoes!$B$5,"]",MID("000000",1,6-LEN(C224)),"[/color]"),""),"[color=",Definicoes_Instrucoes!$B$2,"]",C224,"[/color]","[/b]"),"") -> [size=85][b][color=#E1EBF2]0[/color][color=red]23[/color] parceiros de hit, nota nº [color=#E1EBF2]0[/color][color=black]11205[/color][/b] | L224: =IF($B224<>""," - ","") -> - | M224: =IF($B224<>"",CONCATENATE(" [b]","[color=",Definicoes_Instrucoes!$B$3,"]",$B224,"[/color]","[/b]"),"") -> [b][color=#005188]2007-04-16[/color][/b] | N224: =IF($F224<>"",CONCATENATE(" - ",$F224),"") -> - :flag-pt: | O224: =IF(AND($D224<>"",$G224<>"",$I224<>""),CONCATENATE(" ",IF($G224<>"",CONCATENATE("[url=https://pt.eurobilltracker.com/notes/?id=",$G224,"]"),""),"[color=",$I224,"][b]",$D224,"[/b][/color]",IF($G224<>"","[/url]","")),"") -> [url=https://pt.eurobilltracker.com/notes/?id=24962152][color=black][b]rcsf[/b][/color][/url] | P224: =IF($H224<>"",CONCATENATE(" – [color=",Definicoes_Instrucoes!$B$4,"]",$H224,"[/color]"),"") | Q224: =IF($B224<>"","[/size]","") -> [/size] | R224: =IF(AND($A224<>"",$B224<>"",$C224<>"",$D224<>"",$F224<>"",$G224<>"",$I224<>""),CONCATENATE(K224,L224,M224,N224,O224,P224,Q224),"") -> [size=85][b][color=#E1EBF2]0[/color][color=red]23[/color] parceiros de hit, nota nº [color=#E1EBF2]0[/color][color=black]11205[/color][/b] - [b][color=#005188]2007-04-16[/color][/b] - :flag-pt: [url=https://pt.eurobilltracker.com/notes/?id=24962152][color=black][b]rcsf[/b][/color][/url][/size]
A225: 22 | B225: 2007-03-28 | C225: 14468 | D225: koloh | E225: 94647 | F225: :flag-es: | G225: 27227094 | I225: black | J225: =ROW()-1 -> 224 | K225: =IF(AND($A225<>"",$C225<>""),CONCATENATE("[size=85][b]",IF(LEN(A225)<3,CONCATENATE("[color=",Definicoes_Instrucoes!$B$5,"]",MID("000",1,3-LEN(A225)),"[/color]"),""),"[color=",Definicoes_Instrucoes!$B$1,"]",A225,"[/color]",IF(A225=1,CONCATENATE(" parceiro","[color=",Definicoes_Instrucoes!$B$5,"]","s","[/color]")," parceiros")," de hit, nota nº ",IF(LEN(C225)<6,CONCATENATE("[color=",Definicoes_Instrucoes!$B$5,"]",MID("000000",1,6-LEN(C225)),"[/color]"),""),"[color=",Definicoes_Instrucoes!$B$2,"]",C225,"[/color]","[/b]"),"") -> [size=85][b][color=#E1EBF2]0[/color][color=red]22[/color] parceiros de hit, nota nº [color=#E1EBF2]0[/color][color=black]14468[/color][/b] | L225: =IF($B225<>""," - ","") -> - | M225: =IF($B225<>"",CONCATENATE(" [b]","[color=",Definicoes_Instrucoes!$B$3,"]",$B225,"[/color]","[/b]"),"") -> [b][color=#005188]2007-03-28[/color][/b] | N225: =IF($F225<>"",CONCATENATE(" - ",$F225),"") -> - :flag-es: | O225: =IF(AND($D225<>"",$G225<>"",$I225<>""),CONCATENATE(" ",IF($G225<>"",CONCATENATE("[url=https://pt.eurobilltracker.com/notes/?id=",$G225,"]"),""),"[color=",$I225,"][b]",$D225,"[/b][/color]",IF($G225<>"","[/url]","")),"") -> [url=https://pt.eurobilltracker.com/notes/?id=27227094][color=black][b]koloh[/b][/color][/url] | P225: =IF($H225<>"",CONCATENATE(" – [color=",Definicoes_Instrucoes!$B$4,"]",$H225,"[/color]"),"") | Q225: =IF($B225<>"","[/size]","") -> [/size] | R225: =IF(AND($A225<>"",$B225<>"",$C225<>"",$D225<>"",$F225<>"",$G225<>"",$I225<>""),CONCATENATE(K225,L225,M225,N225,O225,P225,Q225),"") -> [size=85][b][color=#E1EBF2]0[/color][color=red]22[/color] parceiros de hit, nota nº [color=#E1EBF2]0[/color][color=black]14468[/color][/b] - [b][color=#005188]2007-03-28[/color][/b] - :flag-es: [url=https://pt.eurobilltracker.com/notes/?id=27227094][color=black][b]koloh[/b][/color][/url][/size]
A226: 21 | B226: 2007-03-20 | C226: 16678 | D226: zeviana | E226: 68209 | F226: :flag-pt: | G226: 28198638 | I226: black | J226: =ROW()-1 -> 225 | K226: =IF(AND($A226<>"",$C226<>""),CONCATENATE("[size=85][b]",IF(LEN(A226)<3,CONCATENATE("[color=",Definicoes_Instrucoes!$B$5,"]",MID("000",1,3-LEN(A226)),"[/color]"),""),"[color=",Definicoes_Instrucoes!$B$1,"]",A226,"[/color]",IF(A226=1,CONCATENATE(" parceiro","[color=",Definicoes_Instrucoes!$B$5,"]","s","[/color]")," parceiros")," de hit, nota nº ",IF(LEN(C226)<6,CONCATENATE("[color=",Definicoes_Instrucoes!$B$5,"]",MID("000000",1,6-LEN(C226)),"[/color]"),""),"[color=",Definicoes_Instrucoes!$B$2,"]",C226,"[/color]","[/b]"),"") -> [size=85][b][color=#E1EBF2]0[/color][color=red]21[/color] parceiros de hit, nota nº [color=#E1EBF2]0[/color][color=black]16678[/color][/b] | L226: =IF($B226<>""," - ","") -> - | M226: =IF($B226<>"",CONCATENATE(" [b]","[color=",Definicoes_Instrucoes!$B$3,"]",$B226,"[/color]","[/b]"),"") -> [b][color=#005188]2007-03-20[/color][/b] | N226: =IF($F226<>"",CONCATENATE(" - ",$F226),"") -> - :flag-pt: | O226: =IF(AND($D226<>"",$G226<>"",$I226<>""),CONCATENATE(" ",IF($G226<>"",CONCATENATE("[url=https://pt.eurobilltracker.com/notes/?id=",$G226,"]"),""),"[color=",$I226,"][b]",$D226,"[/b][/color]",IF($G226<>"","[/url]","")),"") -> [url=https://pt.eurobilltracker.com/notes/?id=28198638][color=black][b]zeviana[/b][/color][/url] | P226: =IF($H226<>"",CONCATENATE(" – [color=",Definicoes_Instrucoes!$B$4,"]",$H226,"[/color]"),"") | Q226: =IF($B226<>"","[/size]","") -> [/size] | R226: =IF(AND($A226<>"",$B226<>"",$C226<>"",$D226<>"",$F226<>"",$G226<>"",$I226<>""),CONCATENATE(K226,L226,M226,N226,O226,P226,Q226),"") -> [size=85][b][color=#E1EBF2]0[/color][color=red]21[/color] parceiros de hit, nota nº [color=#E1EBF2]0[/color][color=black]16678[/color][/b] - [b][color=#005188]2007-03-20[/color][/b] - :flag-pt: [url=https://pt.eurobilltracker.com/notes/?id=28198638][color=black][b]zeviana[/b][/color][/url][/size]
A227: 20 | B227: 2007-02-10 | C227: 11022 | D227: Eugen Robick | E227: 81403 | F227: :flag-pt: | G227: 24860685 | I227: black | J227: =ROW()-1 -> 226 | K227: =IF(AND($A227<>"",$C227<>""),CONCATENATE("[size=85][b]",IF(LEN(A227)<3,CONCATENATE("[color=",Definicoes_Instrucoes!$B$5,"]",MID("000",1,3-LEN(A227)),"[/color]"),""),"[color=",Definicoes_Instrucoes!$B$1,"]",A227,"[/color]",IF(A227=1,CONCATENATE(" parceiro","[color=",Definicoes_Instrucoes!$B$5,"]","s","[/color]")," parceiros")," de hit, nota nº ",IF(LEN(C227)<6,CONCATENATE("[color=",Definicoes_Instrucoes!$B$5,"]",MID("000000",1,6-LEN(C227)),"[/color]"),""),"[color=",Definicoes_Instrucoes!$B$2,"]",C227,"[/color]","[/b]"),"") -> [size=85][b][color=#E1EBF2]0[/color][color=red]20[/color] parceiros de hit, nota nº [color=#E1EBF2]0[/color][color=black]11022[/color][/b] | L227: =IF($B227<>""," - ","") -> - | M227: =IF($B227<>"",CONCATENATE(" [b]","[color=",Definicoes_Instrucoes!$B$3,"]",$B227,"[/color]","[/b]"),"") -> [b][color=#005188]2007-02-10[/color][/b] | N227: =IF($F227<>"",CONCATENATE(" - ",$F227),"") -> - :flag-pt: | O227: =IF(AND($D227<>"",$G227<>"",$I227<>""),CONCATENATE(" ",IF($G227<>"",CONCATENATE("[url=https://pt.eurobilltracker.com/notes/?id=",$G227,"]"),""),"[color=",$I227,"][b]",$D227,"[/b][/color]",IF($G227<>"","[/url]","")),"") -> [url=https://pt.eurobilltracker.com/notes/?id=24860685][color=black][b]Eugen Robick[/b][/color][/url] | P227: =IF($H227<>"",CONCATENATE(" – [color=",Definicoes_Instrucoes!$B$4,"]",$H227,"[/color]"),"") | Q227: =IF($B227<>"","[/size]","") -> [/size] | R227: =IF(AND($A227<>"",$B227<>"",$C227<>"",$D227<>"",$F227<>"",$G227<>"",$I227<>""),CONCATENATE(K227,L227,M227,N227,O227,P227,Q227),"") -> [size=85][b][color=#E1EBF2]0[/color][color=red]20[/color] parceiros de hit, nota nº [color=#E1EBF2]0[/color][color=black]11022[/color][/b] - [b][color=#005188]2007-02-10[/color][/b] - :flag-pt: [url=https://pt.eurobilltracker.com/notes/?id=24860685][color=black][b]Eugen Robick[/b][/color][/url][/size]
A228: 19 | B228: 2007-02-04 | C228: 13847 | D228: kim car | E228: 68581 | F228: :flag-pt: | G228: 26440265 | I228: black | J228: =ROW()-1 -> 227 | K228: =IF(AND($A228<>"",$C228<>""),CONCATENATE("[size=85][b]",IF(LEN(A228)<3,CONCATENATE("[color=",Definicoes_Instrucoes!$B$5,"]",MID("000",1,3-LEN(A228)),"[/color]"),""),"[color=",Definicoes_Instrucoes!$B$1,"]",A228,"[/color]",IF(A228=1,CONCATENATE(" parceiro","[color=",Definicoes_Instrucoes!$B$5,"]","s","[/color]")," parceiros")," de hit, nota nº ",IF(LEN(C228)<6,CONCATENATE("[color=",Definicoes_Instrucoes!$B$5,"]",MID("000000",1,6-LEN(C228)),"[/color]"),""),"[color=",Definicoes_Instrucoes!$B$2,"]",C228,"[/color]","[/b]"),"") -> [size=85][b][color=#E1EBF2]0[/color][color=red]19[/color] parceiros de hit, nota nº [color=#E1EBF2]0[/color][color=black]13847[/color][/b] | L228: =IF($B228<>""," - ","") -> - | M228: =IF($B228<>"",CONCATENATE(" [b]","[color=",Definicoes_Instrucoes!$B$3,"]",$B228,"[/color]","[/b]"),"") -> [b][color=#005188]2007-02-04[/color][/b] | N228: =IF($F228<>"",CONCATENATE(" - ",$F228),"") -> - :flag-pt: | O228: =IF(AND($D228<>"",$G228<>"",$I228<>""),CONCATENATE(" ",IF($G228<>"",CONCATENATE("[url=https://pt.eurobilltracker.com/notes/?id=",$G228,"]"),""),"[color=",$I228,"][b]",$D228,"[/b][/color]",IF($G228<>"","[/url]","")),"") -> [url=https://pt.eurobilltracker.com/notes/?id=26440265][color=black][b]kim car[/b][/color][/url] | P228: =IF($H228<>"",CONCATENATE(" – [color=",Definicoes_Instrucoes!$B$4,"]",$H228,"[/color]"),"") | Q228: =IF($B228<>"","[/size]","") -> [/size] | R228: =IF(AND($A228<>"",$B228<>"",$C228<>"",$D228<>"",$F228<>"",$G228<>"",$I228<>""),CONCATENATE(K228,L228,M228,N228,O228,P228,Q228),"") -> [size=85][b][color=#E1EBF2]0[/color][color=red]19[/color] parceiros de hit, nota nº [color=#E1EBF2]0[/color][color=black]13847[/color][/b] - [b][color=#005188]2007-02-04[/color][/b] - :flag-pt: [url=https://pt.eurobilltracker.com/notes/?id=26440265][color=black][b]kim car[/b][/color][/url][/size]
A229: 18 | B229: 2006-12-24 | C229: 11095 | D229: ceição | E229: 89207 | F229: :flag-pt: | G229: 24908783 | I229: black | J229: =ROW()-1 -> 228 | K229: =IF(AND($A229<>"",$C229<>""),CONCATENATE("[size=85][b]",IF(LEN(A229)<3,CONCATENATE("[color=",Definicoes_Instrucoes!$B$5,"]",MID("000",1,3-LEN(A229)),"[/color]"),""),"[color=",Definicoes_Instrucoes!$B$1,"]",A229,"[/color]",IF(A229=1,CONCATENATE(" parceiro","[color=",Definicoes_Instrucoes!$B$5,"]","s","[/color]")," parceiros")," de hit, nota nº ",IF(LEN(C229)<6,CONCATENATE("[color=",Definicoes_Instrucoes!$B$5,"]",MID("000000",1,6-LEN(C229)),"[/color]"),""),"[color=",Definicoes_Instrucoes!$B$2,"]",C229,"[/color]","[/b]"),"") -> [size=85][b][color=#E1EBF2]0[/color][color=red]18[/color] parceiros de hit, nota nº [color=#E1EBF2]0[/color][color=black]11095[/color][/b] | L229: =IF($B229<>""," - ","") -> - | M229: =IF($B229<>"",CONCATENATE(" [b]","[color=",Definicoes_Instrucoes!$B$3,"]",$B229,"[/color]","[/b]"),"") -> [b][color=#005188]2006-12-24[/color][/b] | N229: =IF($F229<>"",CONCATENATE(" - ",$F229),"") -> - :flag-pt: | O229: =IF(AND($D229<>"",$G229<>"",$I229<>""),CONCATENATE(" ",IF($G229<>"",CONCATENATE("[url=https://pt.eurobilltracker.com/notes/?id=",$G229,"]"),""),"[color=",$I229,"][b]",$D229,"[/b][/color]",IF($G229<>"","[/url]","")),"") -> [url=https://pt.eurobilltracker.com/notes/?id=24908783][color=black][b]ceição[/b][/color][/url] | P229: =IF($H229<>"",CONCATENATE(" – [color=",Definicoes_Instrucoes!$B$4,"]",$H229,"[/color]"),"") | Q229: =IF($B229<>"","[/size]","") -> [/size] | R229: =IF(AND($A229<>"",$B229<>"",$C229<>"",$D229<>"",$F229<>"",$G229<>"",$I229<>""),CONCATENATE(K229,L229,M229,N229,O229,P229,Q229),"") -> [size=85][b][color=#E1EBF2]0[/color][color=red]18[/color] parceiros de hit, nota nº [color=#E1EBF2]0[/color][color=black]11095[/color][/b] - [b][color=#005188]2006-12-24[/color][/b] - :flag-pt: [url=https://pt.eurobilltracker.com/notes/?id=24908783][color=black][b]ceição[/b][/color][/url][/size]
A230: 17 | B230: 2006-12-03 | C230: 9836 | D230: rjc | E230: 48485 | F230: :flag-pt: | G230: 24146954 | I230: black | J230: =ROW()-1 -> 229 | K230: =IF(AND($A230<>"",$C230<>""),CONCATENATE("[size=85][b]",IF(LEN(A230)<3,CONCATENATE("[color=",Definicoes_Instrucoes!$B$5,"]",MID("000",1,3-LEN(A230)),"[/color]"),""),"[color=",Definicoes_Instrucoes!$B$1,"]",A230,"[/color]",IF(A230=1,CONCATENATE(" parceiro","[color=",Definicoes_Instrucoes!$B$5,"]","s","[/color]")," parceiros")," de hit, nota nº ",IF(LEN(C230)<6,CONCATENATE("[color=",Definicoes_Instrucoes!$B$5,"]",MID("000000",1,6-LEN(C230)),"[/color]"),""),"[color=",Definicoes_Instrucoes!$B$2,"]",C230,"[/color]","[/b]"),"") -> [size=85][b][color=#E1EBF2]0[/color][color=red]17[/color] parceiros de hit, nota nº [color=#E1EBF2]00[/color][color=black]9836[/color][/b] | L230: =IF($B230<>""," - ","") -> - | M230: =IF($B230<>"",CONCATENATE(" [b]","[color=",Definicoes_Instrucoes!$B$3,"]",$B230,"[/color]","[/b]"),"") -> [b][color=#005188]2006-12-03[/color][/b] | N230: =IF($F230<>"",CONCATENATE(" - ",$F230),"") -> - :flag-pt: | O230: =IF(AND($D230<>"",$G230<>"",$I230<>""),CONCATENATE(" ",IF($G230<>"",CONCATENATE("[url=https://pt.eurobilltracker.com/notes/?id=",$G230,"]"),""),"[color=",$I230,"][b]",$D230,"[/b][/color]",IF($G230<>"","[/url]","")),"") -> [url=https://pt.eurobilltracker.com/notes/?id=24146954][color=black][b]rjc[/b][/color][/url] | P230: =IF($H230<>"",CONCATENATE(" – [color=",Definicoes_Instrucoes!$B$4,"]",$H230,"[/color]"),"") | Q230: =IF($B230<>"","[/size]","") -> [/size] | R230: =IF(AND($A230<>"",$B230<>"",$C230<>"",$D230<>"",$F230<>"",$G230<>"",$I230<>""),CONCATENATE(K230,L230,M230,N230,O230,P230,Q230),"") -> [size=85][b][color=#E1EBF2]0[/color][color=red]17[/color] parceiros de hit, nota nº [color=#E1EBF2]00[/color][color=black]9836[/color][/b] - [b][color=#005188]2006-12-03[/color][/b] - :flag-pt: [url=https://pt.eurobilltracker.com/notes/?id=24146954][color=black][b]rjc[/b][/color][/url][/size]
A231: 16 | B231: 2006-12-03 | C231: 9826 | D231: ssilva | E231: 69230 | F231: :flag-pt: | G231: 24146944 | I231: black | J231: =ROW()-1 -> 230 | K231: =IF(AND($A231<>"",$C231<>""),CONCATENATE("[size=85][b]",IF(LEN(A231)<3,CONCATENATE("[color=",Definicoes_Instrucoes!$B$5,"]",MID("000",1,3-LEN(A231)),"[/color]"),""),"[color=",Definicoes_Instrucoes!$B$1,"]",A231,"[/color]",IF(A231=1,CONCATENATE(" parceiro","[color=",Definicoes_Instrucoes!$B$5,"]","s","[/color]")," parceiros")," de hit, nota nº ",IF(LEN(C231)<6,CONCATENATE("[color=",Definicoes_Instrucoes!$B$5,"]",MID("000000",1,6-LEN(C231)),"[/color]"),""),"[color=",Definicoes_Instrucoes!$B$2,"]",C231,"[/color]","[/b]"),"") -> [size=85][b][color=#E1EBF2]0[/color][color=red]16[/color] parceiros de hit, nota nº [color=#E1EBF2]00[/color][color=black]9826[/color][/b] | L231: =IF($B231<>""," - ","") -> - | M231: =IF($B231<>"",CONCATENATE(" [b]","[color=",Definicoes_Instrucoes!$B$3,"]",$B231,"[/color]","[/b]"),"") -> [b][color=#005188]2006-12-03[/color][/b] | N231: =IF($F231<>"",CONCATENATE(" - ",$F231),"") -> - :flag-pt: | O231: =IF(AND($D231<>"",$G231<>"",$I231<>""),CONCATENATE(" ",IF($G231<>"",CONCATENATE("[url=https://pt.eurobilltracker.com/notes/?id=",$G231,"]"),""),"[color=",$I231,"][b]",$D231,"[/b][/color]",IF($G231<>"","[/url]","")),"") -> [url=https://pt.eurobilltracker.com/notes/?id=24146944][color=black][b]ssilva[/b][/color][/url] | P231: =IF($H231<>"",CONCATENATE(" – [color=",Definicoes_Instrucoes!$B$4,"]",$H231,"[/color]"),"") | Q231: =IF($B231<>"","[/size]","") -> [/size] | R231: =IF(AND($A231<>"",$B231<>"",$C231<>"",$D231<>"",$F231<>"",$G231<>"",$I231<>""),CONCATENATE(K231,L231,M231,N231,O231,P231,Q231),"") -> [size=85][b][color=#E1EBF2]0[/color][color=red]16[/color] parceiros de hit, nota nº [color=#E1EBF2]00[/color][color=black]9826[/color][/b] - [b][color=#005188]2006-12-03[/color][/b] - :flag-pt: [url=https://pt.eurobilltracker.com/notes/?id=24146944][color=black][b]ssilva[/b][/color][/url][/size]
A232: 15 | B232: 2006-11-21 | C232: 8858 | D232: Myxovirus | E232: 72277 | F232: :flag-pt: | G232: 23722950 | I232: black | J232: =ROW()-1 -> 231 | K232: =IF(AND($A232<>"",$C232<>""),CONCATENATE("[size=85][b]",IF(LEN(A232)<3,CONCATENATE("[color=",Definicoes_Instrucoes!$B$5,"]",MID("000",1,3-LEN(A232)),"[/color]"),""),"[color=",Definicoes_Instrucoes!$B$1,"]",A232,"[/color]",IF(A232=1,CONCATENATE(" parceiro","[color=",Definicoes_Instrucoes!$B$5,"]","s","[/color]")," parceiros")," de hit, nota nº ",IF(LEN(C232)<6,CONCATENATE("[color=",Definicoes_Instrucoes!$B$5,"]",MID("000000",1,6-LEN(C232)),"[/color]"),""),"[color=",Definicoes_Instrucoes!$B$2,"]",C232,"[/color]","[/b]"),"") -> [size=85][b][color=#E1EBF2]0[/color][color=red]15[/color] parceiros de hit, nota nº [color=#E1EBF2]00[/color][color=black]8858[/color][/b] | L232: =IF($B232<>""," - ","") -> - | M232: =IF($B232<>"",CONCATENATE(" [b]","[color=",Definicoes_Instrucoes!$B$3,"]",$B232,"[/color]","[/b]"),"") -> [b][color=#005188]2006-11-21[/color][/b] | N232: =IF($F232<>"",CONCATENATE(" - ",$F232),"") -> - :flag-pt: | O232: =IF(AND($D232<>"",$G232<>"",$I232<>""),CONCATENATE(" ",IF($G232<>"",CONCATENATE("[url=https://pt.eurobilltracker.com/notes/?id=",$G232,"]"),""),"[color=",$I232,"][b]",$D232,"[/b][/color]",IF($G232<>"","[/url]","")),"") -> [url=https://pt.eurobilltracker.com/notes/?id=23722950][color=black][b]Myxovirus[/b][/color][/url] | P232: =IF($H232<>"",CONCATENATE(" – [color=",Definicoes_Instrucoes!$B$4,"]",$H232,"[/color]"),"") | Q232: =IF($B232<>"","[/size]","") -> [/size] | R232: =IF(AND($A232<>"",$B232<>"",$C232<>"",$D232<>"",$F232<>"",$G232<>"",$I232<>""),CONCATENATE(K232,L232,M232,N232,O232,P232,Q232),"") -> [size=85][b][color=#E1EBF2]0[/color][color=red]15[/color] parceiros de hit, nota nº [color=#E1EBF2]00[/color][color=black]8858[/color][/b] - [b][color=#005188]2006-11-21[/color][/b] - :flag-pt: [url=https://pt.eurobilltracker.com/notes/?id=23722950][color=black][b]Myxovirus[/b][/color][/url][/size]
A233: 14 | B233: 2006-11-18 | C233: 8460 | D233: diogocanilho® | E233: 84745 | F233: :flag-pt: | G233: 23602384 | H233: O meu primeiro hit totalmente Bairradino | I233: black | J233: =ROW()-1 -> 232 | K233: =IF(AND($A233<>"",$C233<>""),CONCATENATE("[size=85][b]",IF(LEN(A233)<3,CONCATENATE("[color=",Definicoes_Instrucoes!$B$5,"]",MID("000",1,3-LEN(A233)),"[/color]"),""),"[color=",Definicoes_Instrucoes!$B$1,"]",A233,"[/color]",IF(A233=1,CONCATENATE(" parceiro","[color=",Definicoes_Instrucoes!$B$5,"]","s","[/color]")," parceiros")," de hit, nota nº ",IF(LEN(C233)<6,CONCATENATE("[color=",Definicoes_Instrucoes!$B$5,"]",MID("000000",1,6-LEN(C233)),"[/color]"),""),"[color=",Definicoes_Instrucoes!$B$2,"]",C233,"[/color]","[/b]"),"") -> [size=85][b][color=#E1EBF2]0[/color][color=red]14[/color] parceiros de hit, nota nº [color=#E1EBF2]00[/color][color=black]8460[/color][/b] | L233: =IF($B233<>""," - ","") -> - | M233: =IF($B233<>"",CONCATENATE(" [b]","[color=",Definicoes_Instrucoes!$B$3,"]",$B233,"[/color]","[/b]"),"") -> [b][color=#005188]2006-11-18[/color][/b] | N233: =IF($F233<>"",CONCATENATE(" - ",$F233),"") -> - :flag-pt: | O233: =IF(AND($D233<>"",$G233<>"",$I233<>""),CONCATENATE(" ",IF($G233<>"",CONCATENATE("[url=https://pt.eurobilltracker.com/notes/?id=",$G233,"]"),""),"[color=",$I233,"][b]",$D233,"[/b][/color]",IF($G233<>"","[/url]","")),"") -> [url=https://pt.eurobilltracker.com/notes/?id=23602384][color=black][b]diogocanilho®[/b][/color][/url] | P233: =IF($H233<>"",CONCATENATE(" – [color=",Definicoes_Instrucoes!$B$4,"]",$H233,"[/color]"),"") -> – [color=orange]O meu primeiro hit totalmente Bairradino[/color] | Q233: =IF($B233<>"","[/size]","") -> [/size] | R233: =IF(AND($A233<>"",$B233<>"",$C233<>"",$D233<>"",$F233<>"",$G233<>"",$I233<>""),CONCATENATE(K233,L233,M233,N233,O233,P233,Q233),"") -> [size=85][b][color=#E1EBF2]0[/color][color=red]14[/color] parceiros de hit, nota nº [color=#E1EBF2]00[/color][color=black]8460[/color][/b] - [b][color=#005188]2006-11-18[/color][/b] - :flag-pt: [url=https://pt.eurobilltracker.com/notes/?id=23602384][color=black][b]diogocanilho®[/b][/color][/url] – [color=orange]O meu primeiro hit totalmente Bairradino[/color][/size]
A234: 13 | B234: 2006-11-13 | C234: 4804 | D234: jose antónio alexandrino seabra | E234: 71229 | F234: :flag-pt: | G234: 21315299 | I234: black | J234: =ROW()-1 -> 233 | K234: =IF(AND($A234<>"",$C234<>""),CONCATENATE("[size=85][b]",IF(LEN(A234)<3,CONCATENATE("[color=",Definicoes_Instrucoes!$B$5,"]",MID("000",1,3-LEN(A234)),"[/color]"),""),"[color=",Definicoes_Instrucoes!$B$1,"]",A234,"[/color]",IF(A234=1,CONCATENATE(" parceiro","[color=",Definicoes_Instrucoes!$B$5,"]","s","[/color]")," parceiros")," de hit, nota nº ",IF(LEN(C234)<6,CONCATENATE("[color=",Definicoes_Instrucoes!$B$5,"]",MID("000000",1,6-LEN(C234)),"[/color]"),""),"[color=",Definicoes_Instrucoes!$B$2,"]",C234,"[/color]","[/b]"),"") -> [size=85][b][color=#E1EBF2]0[/color][color=red]13[/color] parceiros de hit, nota nº [color=#E1EBF2]00[/color][color=black]4804[/color][/b] | L234: =IF($B234<>""," - ","") -> - | M234: =IF($B234<>"",CONCATENATE(" [b]","[color=",Definicoes_Instrucoes!$B$3,"]",$B234,"[/color]","[/b]"),"") -> [b][color=#005188]2006-11-13[/color][/b] | N234: =IF($F234<>"",CONCATENATE(" - ",$F234),"") -> - :flag-pt: | O234: =IF(AND($D234<>"",$G234<>"",$I234<>""),CONCATENATE(" ",IF($G234<>"",CONCATENATE("[url=https://pt.eurobilltracker.com/notes/?id=",$G234,"]"),""),"[color=",$I234,"][b]",$D234,"[/b][/color]",IF($G234<>"","[/url]","")),"") -> [url=https://pt.eurobilltracker.com/notes/?id=21315299][color=black][b]jose antónio alexandrino seabra[/b][/color][/url] | P234: =IF($H234<>"",CONCATENATE(" – [color=",Definicoes_Instrucoes!$B$4,"]",$H234,"[/color]"),"") | Q234: =IF($B234<>"","[/size]","") -> [/size] | R234: =IF(AND($A234<>"",$B234<>"",$C234<>"",$D234<>"",$F234<>"",$G234<>"",$I234<>""),CONCATENATE(K234,L234,M234,N234,O234,P234,Q234),"") -> [size=85][b][color=#E1EBF2]0[/color][color=red]13[/color] parceiros de hit, nota nº [color=#E1EBF2]00[/color][color=black]4804[/color][/b] - [b][color=#005188]2006-11-13[/color][/b] - :flag-pt: [url=https://pt.eurobilltracker.com/notes/?id=21315299][color=black][b]jose antónio alexandrino seabra[/b][/color][/url][/size]
A235: 12 | B235: 2006-11-10 | C235: 8066 | D235: Eureka.72 | E235: 68413 | F235: :flag-pt: | G235: 23330707 | H235: O meu primeiro hit com o tinhoso de Vale de Cambra | I235: black | J235: =ROW()-1 -> 234 | K235: =IF(AND($A235<>"",$C235<>""),CONCATENATE("[size=85][b]",IF(LEN(A235)<3,CONCATENATE("[color=",Definicoes_Instrucoes!$B$5,"]",MID("000",1,3-LEN(A235)),"[/color]"),""),"[color=",Definicoes_Instrucoes!$B$1,"]",A235,"[/color]",IF(A235=1,CONCATENATE(" parceiro","[color=",Definicoes_Instrucoes!$B$5,"]","s","[/color]")," parceiros")," de hit, nota nº ",IF(LEN(C235)<6,CONCATENATE("[color=",Definicoes_Instrucoes!$B$5,"]",MID("000000",1,6-LEN(C235)),"[/color]"),""),"[color=",Definicoes_Instrucoes!$B$2,"]",C235,"[/color]","[/b]"),"") -> [size=85][b][color=#E1EBF2]0[/color][color=red]12[/color] parceiros de hit, nota nº [color=#E1EBF2]00[/color][color=black]8066[/color][/b] | L235: =IF($B235<>""," - ","") -> - | M235: =IF($B235<>"",CONCATENATE(" [b]","[color=",Definicoes_Instrucoes!$B$3,"]",$B235,"[/color]","[/b]"),"") -> [b][color=#005188]2006-11-10[/color][/b] | N235: =IF($F235<>"",CONCATENATE(" - ",$F235),"") -> - :flag-pt: | O235: =IF(AND($D235<>"",$G235<>"",$I235<>""),CONCATENATE(" ",IF($G235<>"",CONCATENATE("[url=https://pt.eurobilltracker.com/notes/?id=",$G235,"]"),""),"[color=",$I235,"][b]",$D235,"[/b][/color]",IF($G235<>"","[/url]","")),"") -> [url=https://pt.eurobilltracker.com/notes/?id=23330707][color=black][b]Eureka.72[/b][/color][/url] | P235: =IF($H235<>"",CONCATENATE(" – [color=",Definicoes_Instrucoes!$B$4,"]",$H235,"[/color]"),"") -> – [color=orange]O meu primeiro hit com o tinhoso de Vale de Cambra[/color] | Q235: =IF($B235<>"","[/size]","") -> [/size] | R235: =IF(AND($A235<>"",$B235<>"",$C235<>"",$D235<>"",$F235<>"",$G235<>"",$I235<>""),CONCATENATE(K235,L235,M235,N235,O235,P235,Q235),"") -> [size=85][b][color=#E1EBF2]0[/color][color=red]12[/color] parceiros de hit, nota nº [color=#E1EBF2]00[/color][color=black]8066[/color][/b] - [b][color=#005188]2006-11-10[/color][/b] - :flag-pt: [url=https://pt.eurobilltracker.com/notes/?id=23330707][color=black][b]Eureka.72[/b][/color][/url] – [color=orange]O meu primeiro hit com o tinhoso de Vale de Cambra[/color][/size]
A236: 11 | B236: 2006-11-03 | C236: 7106 | D236: jmrc | E236: 93684 | F236: :flag-pt: | G236: 22606367 | I236: black | J236: =ROW()-1 -> 235 | K236: =IF(AND($A236<>"",$C236<>""),CONCATENATE("[size=85][b]",IF(LEN(A236)<3,CONCATENATE("[color=",Definicoes_Instrucoes!$B$5,"]",MID("000",1,3-LEN(A236)),"[/color]"),""),"[color=",Definicoes_Instrucoes!$B$1,"]",A236,"[/color]",IF(A236=1,CONCATENATE(" parceiro","[color=",Definicoes_Instrucoes!$B$5,"]","s","[/color]")," parceiros")," de hit, nota nº ",IF(LEN(C236)<6,CONCATENATE("[color=",Definicoes_Instrucoes!$B$5,"]",MID("000000",1,6-LEN(C236)),"[/color]"),""),"[color=",Definicoes_Instrucoes!$B$2,"]",C236,"[/color]","[/b]"),"") -> [size=85][b][color=#E1EBF2]0[/color][color=red]11[/color] parceiros de hit, nota nº [color=#E1EBF2]00[/color][color=black]7106[/color][/b] | L236: =IF($B236<>""," - ","") -> - | M236: =IF($B236<>"",CONCATENATE(" [b]","[color=",Definicoes_Instrucoes!$B$3,"]",$B236,"[/color]","[/b]"),"") -> [b][color=#005188]2006-11-03[/color][/b] | N236: =IF($F236<>"",CONCATENATE(" - ",$F236),"") -> - :flag-pt: | O236: =IF(AND($D236<>"",$G236<>"",$I236<>""),CONCATENATE(" ",IF($G236<>"",CONCATENATE("[url=https://pt.eurobilltracker.com/notes/?id=",$G236,"]"),""),"[color=",$I236,"][b]",$D236,"[/b][/color]",IF($G236<>"","[/url]","")),"") -> [url=https://pt.eurobilltracker.com/notes/?id=22606367][color=black][b]jmrc[/b][/color][/url] | P236: =IF($H236<>"",CONCATENATE(" – [color=",Definicoes_Instrucoes!$B$4,"]",$H236,"[/color]"),"") | Q236: =IF($B236<>"","[/size]","") -> [/size] | R236: =IF(AND($A236<>"",$B236<>"",$C236<>"",$D236<>"",$F236<>"",$G236<>"",$I236<>""),CONCATENATE(K236,L236,M236,N236,O236,P236,Q236),"") -> [size=85][b][color=#E1EBF2]0[/color][color=red]11[/color] parceiros de hit, nota nº [color=#E1EBF2]00[/color][color=black]7106[/color][/b] - [b][color=#005188]2006-11-03[/color][/b] - :flag-pt: [url=https://pt.eurobilltracker.com/notes/?id=22606367][color=black][b]jmrc[/b][/color][/url][/size]
A237: 10 | B237: 2006-10-24 | C237: 231 | D237: jccom | E237: 49842 | F237: :flag-pt: | G237: 13043322 | I237: black | J237: =ROW()-1 -> 236 | K237: =IF(AND($A237<>"",$C237<>""),CONCATENATE("[size=85][b]",IF(LEN(A237)<3,CONCATENATE("[color=",Definicoes_Instrucoes!$B$5,"]",MID("000",1,3-LEN(A237)),"[/color]"),""),"[color=",Definicoes_Instrucoes!$B$1,"]",A237,"[/color]",IF(A237=1,CONCATENATE(" parceiro","[color=",Definicoes_Instrucoes!$B$5,"]","s","[/color]")," parceiros")," de hit, nota nº ",IF(LEN(C237)<6,CONCATENATE("[color=",Definicoes_Instrucoes!$B$5,"]",MID("000000",1,6-LEN(C237)),"[/color]"),""),"[color=",Definicoes_Instrucoes!$B$2,"]",C237,"[/color]","[/b]"),"") -> [size=85][b][color=#E1EBF2]0[/color][color=red]10[/color] parceiros de hit, nota nº [color=#E1EBF2]000[/color][color=black]231[/color][/b] | L237: =IF($B237<>""," - ","") -> - | M237: =IF($B237<>"",CONCATENATE(" [b]","[color=",Definicoes_Instrucoes!$B$3,"]",$B237,"[/color]","[/b]"),"") -> [b][color=#005188]2006-10-24[/color][/b] | N237: =IF($F237<>"",CONCATENATE(" - ",$F237),"") -> - :flag-pt: | O237: =IF(AND($D237<>"",$G237<>"",$I237<>""),CONCATENATE(" ",IF($G237<>"",CONCATENATE("[url=https://pt.eurobilltracker.com/notes/?id=",$G237,"]"),""),"[color=",$I237,"][b]",$D237,"[/b][/color]",IF($G237<>"","[/url]","")),"") -> [url=https://pt.eurobilltracker.com/notes/?id=13043322][color=black][b]jccom[/b][/color][/url] | P237: =IF($H237<>"",CONCATENATE(" – [color=",Definicoes_Instrucoes!$B$4,"]",$H237,"[/color]"),"") | Q237: =IF($B237<>"","[/size]","") -> [/size] | R237: =IF(AND($A237<>"",$B237<>"",$C237<>"",$D237<>"",$F237<>"",$G237<>"",$I237<>""),CONCATENATE(K237,L237,M237,N237,O237,P237,Q237),"") -> [size=85][b][color=#E1EBF2]0[/color][color=red]10[/color] parceiros de hit, nota nº [color=#E1EBF2]000[/color][color=black]231[/color][/b] - [b][color=#005188]2006-10-24[/color][/b] - :flag-pt: [url=https://pt.eurobilltracker.com/notes/?id=13043322][color=black][b]jccom[/b][/color][/url][/size]
A238: 9 | B238: 2006-10-10 | C238: 6648 | D238: julines | E238: 56387 | F238: :flag-pt: | G238: 22269258 | I238: black | J238: =ROW()-1 -> 237 | K238: =IF(AND($A238<>"",$C238<>""),CONCATENATE("[size=85][b]",IF(LEN(A238)<3,CONCATENATE("[color=",Definicoes_Instrucoes!$B$5,"]",MID("000",1,3-LEN(A238)),"[/color]"),""),"[color=",Definicoes_Instrucoes!$B$1,"]",A238,"[/color]",IF(A238=1,CONCATENATE(" parceiro","[color=",Definicoes_Instrucoes!$B$5,"]","s","[/color]")," parceiros")," de hit, nota nº ",IF(LEN(C238)<6,CONCATENATE("[color=",Definicoes_Instrucoes!$B$5,"]",MID("000000",1,6-LEN(C238)),"[/color]"),""),"[color=",Definicoes_Instrucoes!$B$2,"]",C238,"[/color]","[/b]"),"") -> [size=85][b][color=#E1EBF2]00[/color][color=red]9[/color] parceiros de hit, nota nº [color=#E1EBF2]00[/color][color=black]6648[/color][/b] | L238: =IF($B238<>""," - ","") -> - | M238: =IF($B238<>"",CONCATENATE(" [b]","[color=",Definicoes_Instrucoes!$B$3,"]",$B238,"[/color]","[/b]"),"") -> [b][color=#005188]2006-10-10[/color][/b] | N238: =IF($F238<>"",CONCATENATE(" - ",$F238),"") -> - :flag-pt: | O238: =IF(AND($D238<>"",$G238<>"",$I238<>""),CONCATENATE(" ",IF($G238<>"",CONCATENATE("[url=https://pt.eurobilltracker.com/notes/?id=",$G238,"]"),""),"[color=",$I238,"][b]",$D238,"[/b][/color]",IF($G238<>"","[/url]","")),"") -> [url=https://pt.eurobilltracker.com/notes/?id=22269258][color=black][b]julines[/b][/color][/url] | P238: =IF($H238<>"",CONCATENATE(" – [color=",Definicoes_Instrucoes!$B$4,"]",$H238,"[/color]"),"") | Q238: =IF($B238<>"","[/size]","") -> [/size] | R238: =IF(AND($A238<>"",$B238<>"",$C238<>"",$D238<>"",$F238<>"",$G238<>"",$I238<>""),CONCATENATE(K238,L238,M238,N238,O238,P238,Q238),"") -> [size=85][b][color=#E1EBF2]00[/color][color=red]9[/color] parceiros de hit, nota nº [color=#E1EBF2]00[/color][color=black]6648[/color][/b] - [b][color=#005188]2006-10-10[/color][/b] - :flag-pt: [url=https://pt.eurobilltracker.com/notes/?id=22269258][color=black][b]julines[/b][/color][/url][/size]
A239: 8 | B239: 2006-10-09 | C239: 6609 | D239: joergb30 | E239: 15731 | F239: :flag-de: | G239: 22244525 | H239: O meu primeiro hit internacional | I239: black | J239: =ROW()-1 -> 238 | K239: =IF(AND($A239<>"",$C239<>""),CONCATENATE("[size=85][b]",IF(LEN(A239)<3,CONCATENATE("[color=",Definicoes_Instrucoes!$B$5,"]",MID("000",1,3-LEN(A239)),"[/color]"),""),"[color=",Definicoes_Instrucoes!$B$1,"]",A239,"[/color]",IF(A239=1,CONCATENATE(" parceiro","[color=",Definicoes_Instrucoes!$B$5,"]","s","[/color]")," parceiros")," de hit, nota nº ",IF(LEN(C239)<6,CONCATENATE("[color=",Definicoes_Instrucoes!$B$5,"]",MID("000000",1,6-LEN(C239)),"[/color]"),""),"[color=",Definicoes_Instrucoes!$B$2,"]",C239,"[/color]","[/b]"),"") -> [size=85][b][color=#E1EBF2]00[/color][color=red]8[/color] parceiros de hit, nota nº [color=#E1EBF2]00[/color][color=black]6609[/color][/b] | L239: =IF($B239<>""," - ","") -> - | M239: =IF($B239<>"",CONCATENATE(" [b]","[color=",Definicoes_Instrucoes!$B$3,"]",$B239,"[/color]","[/b]"),"") -> [b][color=#005188]2006-10-09[/color][/b] | N239: =IF($F239<>"",CONCATENATE(" - ",$F239),"") -> - :flag-de: | O239: =IF(AND($D239<>"",$G239<>"",$I239<>""),CONCATENATE(" ",IF($G239<>"",CONCATENATE("[url=https://pt.eurobilltracker.com/notes/?id=",$G239,"]"),""),"[color=",$I239,"][b]",$D239,"[/b][/color]",IF($G239<>"","[/url]","")),"") -> [url=https://pt.eurobilltracker.com/notes/?id=22244525][color=black][b]joergb30[/b][/color][/url] | P239: =IF($H239<>"",CONCATENATE(" – [color=",Definicoes_Instrucoes!$B$4,"]",$H239,"[/color]"),"") -> – [color=orange]O meu primeiro hit internacional[/color] | Q239: =IF($B239<>"","[/size]","") -> [/size] | R239: =IF(AND($A239<>"",$B239<>"",$C239<>"",$D239<>"",$F239<>"",$G239<>"",$I239<>""),CONCATENATE(K239,L239,M239,N239,O239,P239,Q239),"") -> [size=85][b][color=#E1EBF2]00[/color][color=red]8[/color] parceiros de hit, nota nº [color=#E1EBF2]00[/color][color=black]6609[/color][/b] - [b][color=#005188]2006-10-09[/color][/b] - :flag-de: [url=https://pt.eurobilltracker.com/notes/?id=22244525][color=black][b]joergb30[/b][/color][/url] – [color=orange]O meu primeiro hit internacional[/color][/size]
A240: 7 | B240: 2006-10-09 | C240: 6604 | D240: JoeBill | E240: 67594 | F240: :flag-pt: | G240: 22244520 | I240: black | J240: =ROW()-1 -> 239 | K240: =IF(AND($A240<>"",$C240<>""),CONCATENATE("[size=85][b]",IF(LEN(A240)<3,CONCATENATE("[color=",Definicoes_Instrucoes!$B$5,"]",MID("000",1,3-LEN(A240)),"[/color]"),""),"[color=",Definicoes_Instrucoes!$B$1,"]",A240,"[/color]",IF(A240=1,CONCATENATE(" parceiro","[color=",Definicoes_Instrucoes!$B$5,"]","s","[/color]")," parceiros")," de hit, nota nº ",IF(LEN(C240)<6,CONCATENATE("[color=",Definicoes_Instrucoes!$B$5,"]",MID("000000",1,6-LEN(C240)),"[/color]"),""),"[color=",Definicoes_Instrucoes!$B$2,"]",C240,"[/color]","[/b]"),"") -> [size=85][b][color=#E1EBF2]00[/color][color=red]7[/color] parceiros de hit, nota nº [color=#E1EBF2]00[/color][color=black]6604[/color][/b] | L240: =IF($B240<>""," - ","") -> - | M240: =IF($B240<>"",CONCATENATE(" [b]","[color=",Definicoes_Instrucoes!$B$3,"]",$B240,"[/color]","[/b]"),"") -> [b][color=#005188]2006-10-09[/color][/b] | N240: =IF($F240<>"",CONCATENATE(" - ",$F240),"") -> - :flag-pt: | O240: =IF(AND($D240<>"",$G240<>"",$I240<>""),CONCATENATE(" ",IF($G240<>"",CONCATENATE("[url=https://pt.eurobilltracker.com/notes/?id=",$G240,"]"),""),"[color=",$I240,"][b]",$D240,"[/b][/color]",IF($G240<>"","[/url]","")),"") -> [url=https://pt.eurobilltracker.com/notes/?id=22244520][color=black][b]JoeBill[/b][/color][/url] | P240: =IF($H240<>"",CONCATENATE(" – [color=",Definicoes_Instrucoes!$B$4,"]",$H240,"[/color]"),"") | Q240: =IF($B240<>"","[/size]","") -> [/size] | R240: =IF(AND($A240<>"",$B240<>"",$C240<>"",$D240<>"",$F240<>"",$G240<>"",$I240<>""),CONCATENATE(K240,L240,M240,N240,O240,P240,Q240),"") -> [size=85][b][color=#E1EBF2]00[/color][color=red]7[/color] parceiros de hit, nota nº [color=#E1EBF2]00[/color][color=black]6604[/color][/b] - [b][color=#005188]2006-10-09[/color][/b] - :flag-pt: [url=https://pt.eurobilltracker.com/notes/?id=22244520][color=black][b]JoeBill[/b][/color][/url][/size]
A241: 6 | B241: 2006-10-07 | C241: 6349 | D241: Bananinha | E241: 50932 | F241: :flag-pt: | G241: 22186441 | I241: black | J241: =ROW()-1 -> 240 | K241: =IF(AND($A241<>"",$C241<>""),CONCATENATE("[size=85][b]",IF(LEN(A241)<3,CONCATENATE("[color=",Definicoes_Instrucoes!$B$5,"]",MID("000",1,3-LEN(A241)),"[/color]"),""),"[color=",Definicoes_Instrucoes!$B$1,"]",A241,"[/color]",IF(A241=1,CONCATENATE(" parceiro","[color=",Definicoes_Instrucoes!$B$5,"]","s","[/color]")," parceiros")," de hit, nota nº ",IF(LEN(C241)<6,CONCATENATE("[color=",Definicoes_Instrucoes!$B$5,"]",MID("000000",1,6-LEN(C241)),"[/color]"),""),"[color=",Definicoes_Instrucoes!$B$2,"]",C241,"[/color]","[/b]"),"") -> [size=85][b][color=#E1EBF2]00[/color][color=red]6[/color] parceiros de hit, nota nº [color=#E1EBF2]00[/color][color=black]6349[/color][/b] | L241: =IF($B241<>""," - ","") -> - | M241: =IF($B241<>"",CONCATENATE(" [b]","[color=",Definicoes_Instrucoes!$B$3,"]",$B241,"[/color]","[/b]"),"") -> [b][color=#005188]2006-10-07[/color][/b] | N241: =IF($F241<>"",CONCATENATE(" - ",$F241),"") -> - :flag-pt: | O241: =IF(AND($D241<>"",$G241<>"",$I241<>""),CONCATENATE(" ",IF($G241<>"",CONCATENATE("[url=https://pt.eurobilltracker.com/notes/?id=",$G241,"]"),""),"[color=",$I241,"][b]",$D241,"[/b][/color]",IF($G241<>"","[/url]","")),"") -> [url=https://pt.eurobilltracker.com/notes/?id=22186441][color=black][b]Bananinha[/b][/color][/url] | P241: =IF($H241<>"",CONCATENATE(" – [color=",Definicoes_Instrucoes!$B$4,"]",$H241,"[/color]"),"") | Q241: =IF($B241<>"","[/size]","") -> [/size] | R241: =IF(AND($A241<>"",$B241<>"",$C241<>"",$D241<>"",$F241<>"",$G241<>"",$I241<>""),CONCATENATE(K241,L241,M241,N241,O241,P241,Q241),"") -> [size=85][b][color=#E1EBF2]00[/color][color=red]6[/color] parceiros de hit, nota nº [color=#E1EBF2]00[/color][color=black]6349[/color][/b] - [b][color=#005188]2006-10-07[/color][/b] - :flag-pt: [url=https://pt.eurobilltracker.com/notes/?id=22186441][color=black][b]Bananinha[/b][/color][/url][/size]
A242: 5 | B242: 2006-09-12 | C242: 4900 | D242: PO_TRACKER | E242: 73398 | F242: :flag-pt: | G242: 21346475 | I242: black | J242: =ROW()-1 -> 241 | K242: =IF(AND($A242<>"",$C242<>""),CONCATENATE("[size=85][b]",IF(LEN(A242)<3,CONCATENATE("[color=",Definicoes_Instrucoes!$B$5,"]",MID("000",1,3-LEN(A242)),"[/color]"),""),"[color=",Definicoes_Instrucoes!$B$1,"]",A242,"[/color]",IF(A242=1,CONCATENATE(" parceiro","[color=",Definicoes_Instrucoes!$B$5,"]","s","[/color]")," parceiros")," de hit, nota nº ",IF(LEN(C242)<6,CONCATENATE("[color=",Definicoes_Instrucoes!$B$5,"]",MID("000000",1,6-LEN(C242)),"[/color]"),""),"[color=",Definicoes_Instrucoes!$B$2,"]",C242,"[/color]","[/b]"),"") -> [size=85][b][color=#E1EBF2]00[/color][color=red]5[/color] parceiros de hit, nota nº [color=#E1EBF2]00[/color][color=black]4900[/color][/b] | L242: =IF($B242<>""," - ","") -> - | M242: =IF($B242<>"",CONCATENATE(" [b]","[color=",Definicoes_Instrucoes!$B$3,"]",$B242,"[/color]","[/b]"),"") -> [b][color=#005188]2006-09-12[/color][/b] | N242: =IF($F242<>"",CONCATENATE(" - ",$F242),"") -> - :flag-pt: | O242: =IF(AND($D242<>"",$G242<>"",$I242<>""),CONCATENATE(" ",IF($G242<>"",CONCATENATE("[url=https://pt.eurobilltracker.com/notes/?id=",$G242,"]"),""),"[color=",$I242,"][b]",$D242,"[/b][/color]",IF($G242<>"","[/url]","")),"") -> [url=https://pt.eurobilltracker.com/notes/?id=21346475][color=black][b]PO_TRACKER[/b][/color][/url] | P242: =IF($H242<>"",CONCATENATE(" – [color=",Definicoes_Instrucoes!$B$4,"]",$H242,"[/color]"),"") | Q242: =IF($B242<>"","[/size]","") -> [/size] | R242: =IF(AND($A242<>"",$B242<>"",$C242<>"",$D242<>"",$F242<>"",$G242<>"",$I242<>""),CONCATENATE(K242,L242,M242,N242,O242,P242,Q242),"") -> [size=85][b][color=#E1EBF2]00[/color][color=red]5[/color] parceiros de hit, nota nº [color=#E1EBF2]00[/color][color=black]4900[/color][/b] - [b][color=#005188]2006-09-12[/color][/b] - :flag-pt: [url=https://pt.eurobilltracker.com/notes/?id=21346475][color=black][b]PO_TRACKER[/b][/color][/url][/size]
A243: 4 | B243: 2006-07-07 | C243: 2285 | D243: LUZA | E243: 67187 | F243: :flag-pt: | G243: 18150553 | I243: black | J243: =ROW()-1 -> 242 | K243: =IF(AND($A243<>"",$C243<>""),CONCATENATE("[size=85][b]",IF(LEN(A243)<3,CONCATENATE("[color=",Definicoes_Instrucoes!$B$5,"]",MID("000",1,3-LEN(A243)),"[/color]"),""),"[color=",Definicoes_Instrucoes!$B$1,"]",A243,"[/color]",IF(A243=1,CONCATENATE(" parceiro","[color=",Definicoes_Instrucoes!$B$5,"]","s","[/color]")," parceiros")," de hit, nota nº ",IF(LEN(C243)<6,CONCATENATE("[color=",Definicoes_Instrucoes!$B$5,"]",MID("000000",1,6-LEN(C243)),"[/color]"),""),"[color=",Definicoes_Instrucoes!$B$2,"]",C243,"[/color]","[/b]"),"") -> [size=85][b][color=#E1EBF2]00[/color][color=red]4[/color] parceiros de hit, nota nº [color=#E1EBF2]00[/color][color=black]2285[/color][/b] | L243: =IF($B243<>""," - ","") -> - | M243: =IF($B243<>"",CONCATENATE(" [b]","[color=",Definicoes_Instrucoes!$B$3,"]",$B243,"[/color]","[/b]"),"") -> [b][color=#005188]2006-07-07[/color][/b] | N243: =IF($F243<>"",CONCATENATE(" - ",$F243),"") -> - :flag-pt: | O243: =IF(AND($D243<>"",$G243<>"",$I243<>""),CONCATENATE(" ",IF($G243<>"",CONCATENATE("[url=https://pt.eurobilltracker.com/notes/?id=",$G243,"]"),""),"[color=",$I243,"][b]",$D243,"[/b][/color]",IF($G243<>"","[/url]","")),"") -> [url=https://pt.eurobilltracker.com/notes/?id=18150553][color=black][b]LUZA[/b][/color][/url] | P243: =IF($H243<>"",CONCATENATE(" – [color=",Definicoes_Instrucoes!$B$4,"]",$H243,"[/color]"),"") | Q243: =IF($B243<>"","[/size]","") -> [/size] | R243: =IF(AND($A243<>"",$B243<>"",$C243<>"",$D243<>"",$F243<>"",$G243<>"",$I243<>""),CONCATENATE(K243,L243,M243,N243,O243,P243,Q243),"") -> [size=85][b][color=#E1EBF2]00[/color][color=red]4[/color] parceiros de hit, nota nº [color=#E1EBF2]00[/color][color=black]2285[/color][/b] - [b][color=#005188]2006-07-07[/color][/b] - :flag-pt: [url=https://pt.eurobilltracker.com/notes/?id=18150553][color=black][b]LUZA[/b][/color][/url][/size]
A244: 3 | B244: 2006-07-02 | C244: 995 | D244: GAUDENCIO | E244: 53017 | F244: :flag-pt: | G244: 16167708 | I244: black | J244: =ROW()-1 -> 243 | K244: =IF(AND($A244<>"",$C244<>""),CONCATENATE("[size=85][b]",IF(LEN(A244)<3,CONCATENATE("[color=",Definicoes_Instrucoes!$B$5,"]",MID("000",1,3-LEN(A244)),"[/color]"),""),"[color=",Definicoes_Instrucoes!$B$1,"]",A244,"[/color]",IF(A244=1,CONCATENATE(" parceiro","[color=",Definicoes_Instrucoes!$B$5,"]","s","[/color]")," parceiros")," de hit, nota nº ",IF(LEN(C244)<6,CONCATENATE("[color=",Definicoes_Instrucoes!$B$5,"]",MID("000000",1,6-LEN(C244)),"[/color]"),""),"[color=",Definicoes_Instrucoes!$B$2,"]",C244,"[/color]","[/b]"),"") -> [size=85][b][color=#E1EBF2]00[/color][color=red]3[/color] parceiros de hit, nota nº [color=#E1EBF2]000[/color][color=black]995[/color][/b] | L244: =IF($B244<>""," - ","") -> - | M244: =IF($B244<>"",CONCATENATE(" [b]","[color=",Definicoes_Instrucoes!$B$3,"]",$B244,"[/color]","[/b]"),"") -> [b][color=#005188]2006-07-02[/color][/b] | N244: =IF($F244<>"",CONCATENATE(" - ",$F244),"") -> - :flag-pt: | O244: =IF(AND($D244<>"",$G244<>"",$I244<>""),CONCATENATE(" ",IF($G244<>"",CONCATENATE("[url=https://pt.eurobilltracker.com/notes/?id=",$G244,"]"),""),"[color=",$I244,"][b]",$D244,"[/b][/color]",IF($G244<>"","[/url]","")),"") -> [url=https://pt.eurobilltracker.com/notes/?id=16167708][color=black][b]GAUDENCIO[/b][/color][/url] | P244: =IF($H244<>"",CONCATENATE(" – [color=",Definicoes_Instrucoes!$B$4,"]",$H244,"[/color]"),"") | Q244: =IF($B244<>"","[/size]","") -> [/size] | R244: =IF(AND($A244<>"",$B244<>"",$C244<>"",$D244<>"",$F244<>"",$G244<>"",$I244<>""),CONCATENATE(K244,L244,M244,N244,O244,P244,Q244),"") -> [size=85][b][color=#E1EBF2]00[/color][color=red]3[/color] parceiros de hit, nota nº [color=#E1EBF2]000[/color][color=black]995[/color][/b] - [b][color=#005188]2006-07-02[/color][/b] - :flag-pt: [url=https://pt.eurobilltracker.com/notes/?id=16167708][color=black][b]GAUDENCIO[/b][/color][/url][/size]
A245: 2 | B245: 2006-05-26 | C245: 1231 | D245: alves | E245: 50085 | F245: :flag-pt: | G245: 16419147 | I245: black | J245: =ROW()-1 -> 244 | K245: =IF(AND($A245<>"",$C245<>""),CONCATENATE("[size=85][b]",IF(LEN(A245)<3,CONCATENATE("[color=",Definicoes_Instrucoes!$B$5,"]",MID("000",1,3-LEN(A245)),"[/color]"),""),"[color=",Definicoes_Instrucoes!$B$1,"]",A245,"[/color]",IF(A245=1,CONCATENATE(" parceiro","[color=",Definicoes_Instrucoes!$B$5,"]","s","[/color]")," parceiros")," de hit, nota nº ",IF(LEN(C245)<6,CONCATENATE("[color=",Definicoes_Instrucoes!$B$5,"]",MID("000000",1,6-LEN(C245)),"[/color]"),""),"[color=",Definicoes_Instrucoes!$B$2,"]",C245,"[/color]","[/b]"),"") -> [size=85][b][color=#E1EBF2]00[/color][color=red]2[/color] parceiros de hit, nota nº [color=#E1EBF2]00[/color][color=black]1231[/color][/b] | L245: =IF($B245<>""," - ","") -> - | M245: =IF($B245<>"",CONCATENATE(" [b]","[color=",Definicoes_Instrucoes!$B$3,"]",$B245,"[/color]","[/b]"),"") -> [b][color=#005188]2006-05-26[/color][/b] | N245: =IF($F245<>"",CONCATENATE(" - ",$F245),"") -> - :flag-pt: | O245: =IF(AND($D245<>"",$G245<>"",$I245<>""),CONCATENATE(" ",IF($G245<>"",CONCATENATE("[url=https://pt.eurobilltracker.com/notes/?id=",$G245,"]"),""),"[color=",$I245,"][b]",$D245,"[/b][/color]",IF($G245<>"","[/url]","")),"") -> [url=https://pt.eurobilltracker.com/notes/?id=16419147][color=black][b]alves[/b][/color][/url] | P245: =IF($H245<>"",CONCATENATE(" – [color=",Definicoes_Instrucoes!$B$4,"]",$H245,"[/color]"),"") | Q245: =IF($B245<>"","[/size]","") -> [/size] | R245: =IF(AND($A245<>"",$B245<>"",$C245<>"",$D245<>"",$F245<>"",$G245<>"",$I245<>""),CONCATENATE(K245,L245,M245,N245,O245,P245,Q245),"") -> [size=85][b][color=#E1EBF2]00[/color][color=red]2[/color] parceiros de hit, nota nº [color=#E1EBF2]00[/color][color=black]1231[/color][/b] - [b][color=#005188]2006-05-26[/color][/b] - :flag-pt: [url=https://pt.eurobilltracker.com/notes/?id=16419147][color=black][b]alves[/b][/color][/url][/size]
A246: 1 | B246: 2005-12-18 | C246: 87 | D246: JOMAVEMA (Jorge Pires) | E246: 46751 | F246: :flag-pt: | G246: 12612077 | H246: O meu primeiro hit | I246: black | J246: =ROW()-1 -> 245 | K246: =IF(AND($A246<>"",$C246<>""),CONCATENATE("[size=85][b]",IF(LEN(A246)<3,CONCATENATE("[color=",Definicoes_Instrucoes!$B$5,"]",MID("000",1,3-LEN(A246)),"[/color]"),""),"[color=",Definicoes_Instrucoes!$B$1,"]",A246,"[/color]",IF(A246=1,CONCATENATE(" parceiro","[color=",Definicoes_Instrucoes!$B$5,"]","s","[/color]")," parceiros")," de hit, nota nº ",IF(LEN(C246)<6,CONCATENATE("[color=",Definicoes_Instrucoes!$B$5,"]",MID("000000",1,6-LEN(C246)),"[/color]"),""),"[color=",Definicoes_Instrucoes!$B$2,"]",C246,"[/color]","[/b]"),"") -> [size=85][b][color=#E1EBF2]00[/color][color=red]1[/color] parceiro[color=#E1EBF2]s[/color] de hit, nota nº [color=#E1EBF2]0000[/color][color=black]87[/color][/b] | L246: =IF($B246<>""," - ","") -> - | M246: =IF($B246<>"",CONCATENATE(" [b]","[color=",Definicoes_Instrucoes!$B$3,"]",$B246,"[/color]","[/b]"),"") -> [b][color=#005188]2005-12-18[/color][/b] | N246: =IF($F246<>"",CONCATENATE(" - ",$F246),"") -> - :flag-pt: | O246: =IF(AND($D246<>"",$G246<>"",$I246<>""),CONCATENATE(" ",IF($G246<>"",CONCATENATE("[url=https://pt.eurobilltracker.com/notes/?id=",$G246,"]"),""),"[color=",$I246,"][b]",$D246,"[/b][/color]",IF($G246<>"","[/url]","")),"") -> [url=https://pt.eurobilltracker.com/notes/?id=12612077][color=black][b]JOMAVEMA (Jorge Pires)[/b][/color][/url] | P246: =IF($H246<>"",CONCATENATE(" – [color=",Definicoes_Instrucoes!$B$4,"]",$H246,"[/color]"),"") -> – [color=orange]O meu primeiro hit[/color] | Q246: =IF($B246<>"","[/size]","") -> [/size] | R246: =IF(AND($A246<>"",$B246<>"",$C246<>"",$D246<>"",$F246<>"",$G246<>"",$I246<>""),CONCATENATE(K246,L246,M246,N246,O246,P246,Q246),"") -> [size=85][b][color=#E1EBF2]00[/color][color=red]1[/color] parceiro[color=#E1EBF2]s[/color] de hit, nota nº [color=#E1EBF2]0000[/color][color=black]87[/color][/b] - [b][color=#005188]2005-12-18[/color][/b] - :flag-pt: [url=https://pt.eurobilltracker.com/notes/?id=12612077][color=black][b]JOMAVEMA (Jorge Pires)[/b][/color][/url] – [color=orange]O meu primeiro hit[/color][/size]

Sheet Definicoes_Instrucoes
A1: Cor para parceiros de hit = | B1: red | E1: Cor de fundo dos posts escuros = | F1: #E1EBF2
A2: Cor para notas = | B2: black | E2: Cor de fundo dos posts claros = | F2: #ECF3F7
A3: Cor para a data = | B3: #005188
A4: Cor para comentários = | B4: orange
A5: Cor para os caracteres invisíveis = | B5: #E1EBF2 | C5: (deve ser colocada aqui a cor do fundo do post que está a ser usado, ver acima)
A7: Para este "ficheiro mágico" funcionar correctamente é muito importante não alterar o conteúdo das colunas J a R, a menos que saibam o que estão a fazer. ;-)
A9: Instruções para a listagem de parceiros de hit do tópico O Meu Hit Cheira a Mofo
A11: 1. Colocar na coluna A o número sequencial de cada parceiro de hit (1 para o primeiro, 2 para o segundo, etc.)
A12: 1. Colocar na coluna B a data (aaaa-mm-dd) em que foi conseguido o primeiro hit com cada parceiro de hit
A13: 2. Colocar na coluna C o número sequencial na nossa base de dados da nota que deu o hit.
A14: 3. Colocar nas colunas D a F, o nome do parceiro de hit, que aparecerá com a cor indicada na coluna I, o número que o identifica no EBT (este dado não está a ser usado na tabela) e a bandeira do seu país.
A15: 4. Colocar na coluna G o número que identifica a nota registada por nós no EBT.
A16: 5. Colocar na coluna H outros eventuais comentários, informações ou chamadas de atenção, que serão escritos sem bold, com a cor indicada mais acima nesta página.
A17: 6. Colocar na coluna I a cor com que se deve escrever o nome do participante.
A18: 7. Para ordenar a tabela, selecionar as colunas A a I, e ordenar por ordem decrescente (ou crescente se preferirem) do número do nosso parceiro de hit (coluna A), selecionando a opção "My list has headers" para não ordenar a primeira linha (que tem os nomes das colunas).
A19: 8. Para terminar copiar para o Fórum do EBT o conteúdo da coluna R, onde se encontra a informação em formato BBCode.
A21: O número que identifica cada parceiro de hit no EBT (User ID) não está a ser usado na tabela, uma vez que se pode aceder facilmente ao seu perfil a partir do hit.
A22: Guardo-o apenas para referência futura, nomeadamente para perceber quais os parceitos de hit que perco com as limpezas, pois por vezes eles mudam de nome.
