Workbook

Sheet Utilizadores com hits
A1: Parceiro nº | B1: Data | C1: Nota nº | D1: Utilizador | E1: Utilizador ID | F1: B utilizador | G1: Nota ID | H1: Comentário | I1: Cor Utilizador | J1: Nº | R1: Copiar esta coluna para o fórum
A2: 245 | B2: 2018-03-27 | C2: 200003 | D2: Anamar | E2: 203473 | F2: :flag-pt: | G2: 184566956 | I2: black | J2: =ROW()-1 -> 1 | K2: =IF(AND($A2<>"",$C2<>""),CONCATENATE("[size=85][b]",IF(LEN(A2)<3,CONCATENATE("[color=",Definicoes_Instrucoes!$B$5,"]",MID("000",1,3-LEN(A2)),"[/color]"),""),"[color=",Definicoes_Instrucoes!$B$1,"]",A2,"[/color]",IF(A2=1,CONCATENATE(" parceiro","[color=",Definicoes_Instrucoes!$B$5,"]","s","[/color]")," parceiros")," de hit, nota nº ",IF(LEN(C2)<6,CONCATENATE("[color=",Definicoes_Instrucoes!$B$5,"]",MID("000000",1,6-LEN(C2)),"[/color]"),""),"[color=",Definicoes_Instrucoes!$B$2,"]",C2,"[/color]","[/b]"),"") -> [size=85][b][color=red]245[/color] parceiros de hit, nota nº [color=black]200003[/color][/b] | L2: =IF($B2<>""," - ","") -> - | M2: =IF($B2<>"",CONCATENATE(" [b]","[color=",Definicoes_Instrucoes!$B$3,"]",$B2,"[/color]","[/b]"),"") -> [b][color=#005188]2018-03-27[/color][/b] | N2: =IF($F2<>"",CONCATENATE(" - ",$F2),"") -> - :flag-pt: | O2: =IF(AND($D2<>"",$G2<>"",$I2<>""),CONCATENATE(" ",IF($G2<>"",CONCATENATE("[url=https://pt.eurobilltracker.com/notes/?id=",$G2,"]"),""),"[color=",$I2,"][b]",$D2,"[/b][/color]",IF($G2<>"","[/url]","")),"") -> [url=https://pt.eurobilltracker.com/notes/?id=184566956][color=black][b]Anamar[/b][/color][/url] | P2: =IF($H2<>"",CONCATENATE(" – [color=",Definicoes_Instrucoes!$B$4,"]",$H2,"[/color]"),"") | Q2: =IF($B2<>"","[/size]","") -> [/size] | R2: =IF(AND($A2<>"",$B2<>"",$C2<>"",$D2<>"",$F2<>"",$G2<>"",$I2<>""),CONCATENATE(K2,L2,M2,N2,O2,P2,Q2),"") -> [size=85][b][color=red]245[/color] parceiros de hit, nota nº [color=black]200003[/color][/b] - [b][color=#005188]2018-03-27[/color][/b] - :flag-pt: [url=https://pt.eurobilltracker.com/notes/?id=184566956][color=black][b]Anamar[/b][/color][/url][/size]
A3: 244 | B3: 2018-03-25 | C3: 180126 | D3: HelderM | E3: 135701 | F3: :flag-pt: | G3: 179418695 | I3: black | J3: =ROW()-1 -> 2 | K3: =IF(AND($A3<>"",$C3<>""),CONCATENATE("[size=85][b]",IF(LEN(A3)<3,CONCATENATE("[color=",Definicoes_Instrucoes!$B$5,"]",MID("000",1,3-LEN(A3)),"[/color]"),""),"[color=",Definicoes_Instrucoes!$B$1,"]",A3,"[/color]",IF(A3=1,CONCATENATE(" parceiro","[color=",Definicoes_Instrucoes!$B$5,"]","s","[/color]")," parceiros")," de hit, nota nº ",IF(LEN(C3)<6,CONCATENATE("[color=",Definicoes_Instrucoes!$B$5,"]",MID("000000",1,6-LEN(C3)),"[/color]"),""),"[color=",Definicoes_Instrucoes!$B$2,"]",C3,"[/color]","[/b]"),"") -> [size=85][b][color=red]244[/color] parceiros de hit, nota nº [color=black]180126[/color][/b] | L3: =IF($B3<>""," - ","") -> - | M3: =IF($B3<>"",CONCATENATE(" [b]","[color=",Definicoes_Instrucoes!$B$3,"]",$B3,"[/color]","[/b]"),"") -> [b][color=#005188]2018-03-25[/color][/b] | N3: =IF($F3<>"",CONCATENATE(" - ",$F3),"") -> - :flag-pt: | O3: =IF(AND($D3<>"",$G3<>"",$I3<>""),CONCATENATE(" ",IF($G3<>"",CONCATENATE("[url=https://pt.eurobilltracker.com/notes/?id=",$G3,"]"),""),"[color=",$I3,"][b]",$D3,"[/b][/color]",IF($G3<>"","[/url]","")),"") -> [url=https://pt.eurobilltracker.com/notes/?id=179418695][color=black][b]HelderM[/b][/color][/url] | P3: =IF($H3<>"",CONCATENATE(" – [color=",Definicoes_Instrucoes!$B$4,"]",$H3,"[/color]"),"") | Q3: =IF($B3<>"","[/size]","") -> [/size] | R3: =IF(AND($A3<>"",$B3<>"",$C3<>"",$D3<>"",$F3<>"",$G3<>"",$I3<>""),CONCATENATE(K3,L3,M3,N3,O3,P3,Q3),"") -> [size=85][b][color=red]244[/color] parceiros de hit, nota nº [color=black]180126[/color][/b] - [b][color=#005188]2018-03-25[/color][/b] - :flag-pt: [url=https://pt.eurobilltracker.com/notes/?id=179418695][color=black][b]HelderM[/b][/color][/url][/size]
A4: 243 | B4: 2018-02-10 | C4: 181258 | D4: lsc03 | E4: 186444 | F4: :flag-pt: | G4: 179683688 | I4: black | J4: =ROW()-1 -> 3 | K4: =IF(AND($A4<>"",$C4<>""),CONCATENATE("[size=85][b]",IF(LEN(A4)<3,CONCATENATE("[color=",Definicoes_Instrucoes!$B$5,"]",MID("000",1,3-LEN(A4)),"[/color]"),""),"[color=",Definicoes_Instrucoes!$B$1,"]",A4,"[/color]",IF(A4=1,CONCATENATE(" parceiro","[color=",Definicoes_Instrucoes!$B$5,"]","s","[/color]")," parceiros")," de hit, nota nº ",IF(LEN(C4)<6,CONCATENATE("[color=",Definicoes_Instrucoes!$B$5,"]",MID("000000",1,6-LEN(C4)),"[/color]"),""),"[color=",Definicoes_Instrucoes!$B$2,"]",C4,"[/color]","[/b]"),"") -> [size=85][b][color=red]243[/color] parceiros de hit, nota nº [color=black]181258[/color][/b] | L4: =IF($B4<>""," - ","") -> - | M4: =IF($B4<>"",CONCATENATE(" [b]","[color=",Definicoes_Instrucoes!$B$3,"]",$B4,"[/color]","[/b]"),"") -> [b][color=#005188]2018-02-10[/color][/b] | N4: =IF($F4<>"",CONCATENATE(" - ",$F4),"") -> - :flag-pt: | O4: =IF(AND($D4<>"",$G4<>"",$I4<>""),CONCATENATE(" ",IF($G4<>"",CONCATENATE("[url=https://pt.eurobilltracker.com/notes/?id=",$G4,"]"),""),"[color=",$I4,"][b]",$D4,"[/b][/color]",IF($G4<>"","[/url]","")),"") -> [url=https://pt.eurobilltracker.com/notes/?id=179683688][color=black][b]lsc03[/b][/color][/url] | P4: =IF($H4<>"",CONCATENATE(" – [color=",Definicoes_Instrucoes!$B$4,"]",$H4,"[/color]"),"") | Q4: =IF($B4<>"","[/size]","") -> [/size] | R4: =IF(AND($A4<>"",$B4<>"",$C4<>"",$D4<>"",$F4<>"",$G4<>"",$I4<>""),CONCATENATE(K4,L4,M4,N4,O4,P4,Q4),"") -> [size=85][b][color=red]243[/color] parceiros de hit, nota nº [color=black]181258[/color][/b] - [b][color=#005188]2018-02-10[/color][/b] - :flag-pt: [url=https://pt.eurobilltracker.com/notes/?id=179683688][color=black][b]lsc03[/b][/color][/url][/size]
A5: 242 | B5: 2018-01-20 | C5: 132475 | D5: mb99 | E5: 68868 | F5: :flag-pt: | G5: 158003620 | I5: black | J5: =ROW()-1 -> 4 | K5: =IF(AND($A5<>"",$C5<>""),CONCATENATE("[size=85][b]",IF(LEN(A5)<3,CONCATENATE("[color=",Definicoes_Instrucoes!$B$5,"]",MID("000",1,3-LEN(A5)),"[/color]"),""),"[color=",Definicoes_Instrucoes!$B$1,"]",A5,"[/color]",IF(A5=1,CONCATENATE(" parceiro","[color=",Definicoes_Instrucoes!$B$5,"]","s","[/color]")," parceiros")," de hit, nota nº ",IF(LEN(C5)<6,CONCATENATE("[color=",Definicoes_Instrucoes!$B$5,"]",MID("000000",1,6-LEN(C5)),"[/color]"),""),"[color=",Definicoes_Instrucoes!$B$2,"]",C5,"[/color]","[/b]"),"") -> [size=85][b][color=red]242[/color] parceiros de hit, nota nº [color=black]132475[/color][/b] | L5: =IF($B5<>""," - ","") -> - | M5: =IF($B5<>"",CONCATENATE(" [b]","[color=",Definicoes_Instrucoes!$B$3,"]",$B5,"[/color]","[/b]"),"") -> [b][color=#005188]2018-01-20[/color][/b] | N5: =IF($F5<>"",CONCATENATE(" - ",$F5),"") -> - :flag-pt: | O5: =IF(AND($D5<>"",$G5<>"",$I5<>""),CONCATENATE(" ",IF($G5<>"",CONCATENATE("[url=https://pt.eurobilltracker.com/notes/?id=",$G5,"]"),""),"[color=",$I5,"][b]",$D5,"[/b][/color]",IF($G5<>"","[/url]","")),"") -> [url=https://pt.eurobilltracker.com/notes/?id=158003620][color=black][b]mb99[/b][/color][/url] | P5: =IF($H5<>"",CONCATENATE(" – [color=",Definicoes_Instrucoes!$B$4,"]",$H5,"[/color]"),"") | Q5: =IF($B5<>"","[/size]","") -> [/size] | R5: =IF(AND($A5<>"",$B5<>"",$C5<>"",$D5<>"",$F5<>"",$G5<>"",$I5<>""),CONCATENATE(K5,L5,M5,N5,O5,P5,Q5),"") -> [size=85][b][color=red]242[/color] parceiros de hit, nota nº [color=black]132475[/color][/b] - [b][color=#005188]2018-01-20[/color][/b] - :flag-pt: [url=https://pt.eurobilltracker.com/notes/?id=158003620][color=black][b]mb99[/b][/color][/url][/size]
A6: 241 | B6: 2018-01-17 | C6: 195077 | D6: Paulzab | E6: 73054 | F6: :flag-be: | G6: 182874976 | I6: black | J6: =ROW()-1 -> 5 | K6: =IF(AND($A6<>"",$C6<>""),CONCATENATE("[size=85][b]",IF(LEN(A6)<3,CONCATENATE("[color=",Definicoes_Instrucoes!$B$5,"]",MID("000",1,3-LEN(A6)),"[/color]"),""),"[color=",Definicoes_Instrucoes!$B$1,"]",A6,"[/color]",IF(A6=1,CONCATENATE(" parceiro","[color=",Definicoes_Instrucoes!$B$5,"]","s","[/color]")," parceiros")," de hit, nota nº ",IF(LEN(C6)<6,CONCATENATE("[color=",Definicoes_Instrucoes!$B$5,"]",MID("000000",1,6-LEN(C6)),"[/color]"),""),"[color=",Definicoes_Instrucoes!$B$2,"]",C6,"[/color]","[/b]"),"") -> [size=85][b][color=red]241[/color] parceiros de hit, nota nº [color=black]195077[/color][/b] | L6: =IF($B6<>""," - ","") -> - | M6: =IF($B6<>"",CONCATENATE(" [b]","[color=",Definicoes_Instrucoes!$B$3,"]",$B6,"[/color]","[/b]"),"") -> [b][color=#005188]2018-01-17[/color][/b] | N6: =IF($F6<>"",CONCATENATE(" - ",$F6),"") -> - :flag-be: | O6: =IF(AND($D6<>"",$G6<>"",$I6<>""),CONCATENATE(" ",IF($G6<>"",CONCATENATE("[url=https://pt.eurobilltracker.com/notes/?id=",$G6,"]"),""),"[color=",$I6,"][b]",$D6,"[/b][/color]",IF($G6<>"","[/url]","")),"") -> [url=https://pt.eurobilltracker.com/notes/?id=182874976][color=black][b]Paulzab[/b][/color][/url] | P6: =IF($H6<>"",CONCATENATE(" – [color=",Definicoes_Instrucoes!$B$4,"]",$H6,"[/color]"),"") | Q6: =IF($B6<>"","[/size]","") -> [/size] | R6: =IF(AND($A6<>"",$B6<>"",$C6<>"",$D6<>"",$F6<>"",$G6<>"",$I6<>""),CONCATENATE(K6,L6,M6,N6,O6,P6,Q6),"") -> [size=85][b][color=red]241[/color] parceiros de hit, nota nº [color=black]195077[/color][/b] - [b][color=#005188]2018-01-17[/color][/b] - :flag-be: [url=https://pt.eurobilltracker.com/notes/?id=182874976][color=black][b]Paulzab[/b][/color][/url][/size]
A7: 240 | B7: 2018-01-14 | C7: 194863 | D7: Claudio-Rapido | E7: 104532 | F7: :flag-it: | G7: 182814245 | I7: black | J7: =ROW()-1 -> 6 | K7: =IF(AND($A7<>"",$C7<>""),CONCATENATE("[size=85][b]",IF(LEN(A7)<3,CONCATENATE("[color=",Definicoes_Instrucoes!$B$5,"]",MID("000",1,3-LEN(A7)),"[/color]"),""),"[color=",Definicoes_Instrucoes!$B$1,"]",A7,"[/color]",IF(A7=1,CONCATENATE(" parceiro","[color=",Definicoes_Instrucoes!$B$5,"]","s","[/color]")," parceiros")," de hit, nota nº ",IF(LEN(C7)<6,CONCATENATE("[color=",Definicoes_Instrucoes!$B$5,"]",MID("000000",1,6-LEN(C7)),"[/color]"),""),"[color=",Definicoes_Instrucoes!$B$2,"]",C7,"[/color]","[/b]"),"") -> [size=85][b][color=red]240[/color] parceiros de hit, nota nº [color=black]194863[/color][/b] | L7: =IF($B7<>""," - ","") -> - | M7: =IF($B7<>"",CONCATENATE(" [b]","[color=",Definicoes_Instrucoes!$B$3,"]",$B7,"[/color]","[/b]"),"") -> [b][color=#005188]2018-01-14[/color][/b] | N7: =IF($F7<>"",CONCATENATE(" - ",$F7),"") -> - :flag-it: | O7: =IF(AND($D7<>"",$G7<>"",$I7<>""),CONCATENATE(" ",IF($G7<>"",CONCATENATE("[url=https://pt.eurobilltracker.com/notes/?id=",$G7,"]"),""),"[color=",$I7,"][b]",$D7,"[/b][/color]",IF($G7<>"","[/url]","")),"") -> [url=https://pt.eurobilltracker.com/notes/?id=182814245][color=black][b]Claudio-Rapido[/b][/color][/url] | P7: =IF($H7<>"",CONCATENATE(" – [color=",Definicoes_Instrucoes!$B$4,"]",$H7,"[/color]"),"") | Q7: =IF($B7<>"","[/size]","") -> [/size] | R7: =IF(AND($A7<>"",$B7<>"",$C7<>"",$D7<>"",$F7<>"",$G7<>"",$I7<>""),CONCATENATE(K7,L7,M7,N7,O7,P7,Q7),"") -> [size=85][b][color=red]240[/color] parceiros de hit, nota nº [color=black]194863[/color][/b] - [b][color=#005188]2018-01-14[/color][/b] - :flag-it: [url=https://pt.eurobilltracker.com/notes/?id=182814245][color=black][b]Claudio-Rapido[/b][/color][/url][/size]
A8: 239 | B8: 2018-01-11 | C8: 194356 | D8: mike0958 | E8: 91448 | F8: :flag-at: | G8: 182731888 | I8: black | J8: =ROW()-1 -> 7 | K8: =IF(AND($A8<>"",$C8<>""),CONCATENATE("[size=85][b]",IF(LEN(A8)<3,CONCATENATE("[color=",Definicoes_Instrucoes!$B$5,"]",MID("000",1,3-LEN(A8)),"[/color]"),""),"[color=",Definicoes_Instrucoes!$B$1,"]",A8,"[/color]",IF(A8=1,CONCATENATE(" parceiro","[color=",Definicoes_Instrucoes!$B$5,"]","s","[/color]")," parceiros")," de hit, nota nº ",IF(LEN(C8)<6,CONCATENATE("[color=",Definicoes_Instrucoes!$B$5,"]",MID("000000",1,6-LEN(C8)),"[/color]"),""),"[color=",Definicoes_Instrucoes!$B$2,"]",C8,"[/color]","[/b]"),"") -> [size=85][b][color=red]239[/color] parceiros de hit, nota nº [color=black]194356[/color][/b] | L8: =IF($B8<>""," - ","") -> - | M8: =IF($B8<>"",CONCATENATE(" [b]","[color=",Definicoes_Instrucoes!$B$3,"]",$B8,"[/color]","[/b]"),"") -> [b][color=#005188]2018-01-11[/color][/b] | N8: =IF($F8<>"",CONCATENATE(" - ",$F8),"") -> - :flag-at: | O8: =IF(AND($D8<>"",$G8<>"",$I8<>""),CONCATENATE(" ",IF($G8<>"",CONCATENATE("[url=https://pt.eurobilltracker.com/notes/?id=",$G8,"]"),""),"[color=",$I8,"][b]",$D8,"[/b][/color]",IF($G8<>"","[/url]","")),"") -> [url=https://pt.eurobilltracker.com/notes/?id=182731888][color=black][b]mike0958[/b][/color][/url] | P8: =IF($H8<>"",CONCATENATE(" – [color=",Definicoes_Instrucoes!$B$4,"]",$H8,"[/color]"),"") | Q8: =IF($B8<>"","[/size]","") -> [/size] | R8: =IF(AND($A8<>"",$B8<>"",$C8<>"",$D8<>"",$F8<>"",$G8<>"",$I8<>""),CONCATENATE(K8,L8,M8,N8,O8,P8,Q8),"") -> [size=85][b][color=red]239[/color] parceiros de hit, nota nº [color=black]194356[/color][/b] - [b][color=#005188]2018-01-11[/color][/b] - :flag-at: [url=https://pt.eurobilltracker.com/notes/?id=182731888][color=black][b]mike0958[/b][/color][/url][/size]
A9: 238 | B9: 2018-01-09 | C9: 194017 | D9: KiloOscar | E9: 151692 | F9: :flag-at: | G9: 182671347 | I9: black | J9: =ROW()-1 -> 8 | K9: =IF(AND($A9<>"",$C9<>""),CONCATENATE("[size=85][b]",IF(LEN(A9)<3,CONCATENATE("[color=",Definicoes_Instrucoes!$B$5,"]",MID("000",1,3-LEN(A9)),"[/color]"),""),"[color=",Definicoes_Instrucoes!$B$1,"]",A9,"[/color]",IF(A9=1,CONCATENATE(" parceiro","[color=",Definicoes_Instrucoes!$B$5,"]","s","[/color]")," parceiros")," de hit, nota nº ",IF(LEN(C9)<6,CONCATENATE("[color=",Definicoes_Instrucoes!$B$5,"]",MID("000000",1,6-LEN(C9)),"[/color]"),""),"[color=",Definicoes_Instrucoes!$B$2,"]",C9,"[/color]","[/b]"),"") -> [size=85][b][color=red]238[/color] parceiros de hit, nota nº [color=black]194017[/color][/b] | L9: =IF($B9<>""," - ","") -> - | M9: =IF($B9<>"",CONCATENATE(" [b]","[color=",Definicoes_Instrucoes!$B$3,"]",$B9,"[/color]","[/b]"),"") -> [b][color=#005188]2018-01-09[/color][/b] | N9: =IF($F9<>"",CONCATENATE(" - ",$F9),"") -> - :flag-at: | O9: =IF(AND($D9<>"",$G9<>"",$I9<>""),CONCATENATE(" ",IF($G9<>"",CONCATENATE("[url=https://pt.eurobilltracker.com/notes/?id=",$G9,"]"),""),"[color=",$I9,"][b]",$D9,"[/b][/color]",IF($G9<>"","[/url]","")),"") -> [url=https://pt.eurobilltracker.com/notes/?id=182671347][color=black][b]KiloOscar[/b][/color][/url] | P9: =IF($H9<>"",CONCATENATE(" – [color=",Definicoes_Instrucoes!$B$4,"]",$H9,"[/color]"),"") | Q9: =IF($B9<>"","[/size]","") -> [/size] | R9: =IF(AND($A9<>"",$B9<>"",$C9<>"",$D9<>"",$F9<>"",$G9<>"",$I9<>""),CONCATENATE(K9,L9,M9,N9,O9,P9,Q9),"") -> [size=85][b][color=red]238[/color] parceiros de hit, nota nº [color=black]194017[/color][/b] - [b][color=#005188]2018-01-09[/color][/b] - :flag-at: [url=https://pt.eurobilltracker.com/notes/?id=182671347][color=black][b]KiloOscar[/b][/color][/url][/size]
A10: 237 | B10: 2018-01-04 | C10: 193420 | D10: sinehera | E10: 91222 | F10: :flag-at: | G10: 182536513 | I10: black | J10: =ROW()-1 -> 9 | K10: =IF(AND($A10<>"",$C10<>""),CONCATENATE("[size=85][b]",IF(LEN(A10)<3,CONCATENATE("[color=",Definicoes_Instrucoes!$B$5,"]",MID("000",1,3-LEN(A10)),"[/color]"),""),"[color=",Definicoes_Instrucoes!$B$1,"]",A10,"[/color]",IF(A10=1,CONCATENATE(" parceiro","[color=",Definicoes_Instrucoes!$B$5,"]","s","[/color]")," parceiros")," de hit, nota nº ",IF(LEN(C10)<6,CONCATENATE("[color=",Definicoes_Instrucoes!$B$5,"]",MID("000000",1,6-LEN(C10)),"[/color]"),""),"[color=",Definicoes_Instrucoes!$B$2,"]",C10,"[/color]","[/b]"),"") -> [size=85][b][color=red]237[/color] parceiros de hit, nota nº [color=black]193420[/color][/b] | L10: =IF($B10<>""," - ","") -> - | M10: =IF($B10<>"",CONCATENATE(" [b]","[color=",Definicoes_Instrucoes!$B$3,"]",$B10,"[/color]","[/b]"),"") -> [b][color=#005188]2018-01-04[/color][/b] | N10: =IF($F10<>"",CONCATENATE(" - ",$F10),"") -> - :flag-at: | O10: =IF(AND($D10<>"",$G10<>"",$I10<>""),CONCATENATE(" ",IF($G10<>"",CONCATENATE("[url=https://pt.eurobilltracker.com/notes/?id=",$G10,"]"),""),"[color=",$I10,"][b]",$D10,"[/b][/color]",IF($G10<>"","[/url]","")),"") -> [url=https://pt.eurobilltracker.com/notes/?id=182536513][color=black][b]sinehera[/b][/color][/url] | P10: =IF($H10<>"",CONCATENATE(" – [color=",Definicoes_Instrucoes!$B$4,"]",$H10,"[/color]"),"") | Q10: =IF($B10<>"","[/size]","") -> [/size] | R10: =IF(AND($A10<>"",$B10<>"",$C10<>"",$D10<>"",$F10<>"",$G10<>"",$I10<>""),CONCATENATE(K10,L10,M10,N10,O10,P10,Q10),"") -> [size=85][b][color=red]237[/color] parceiros de hit, nota nº [color=black]193420[/color][/b] - [b][color=#005188]2018-01-04[/color][/b] - :flag-at: [url=https://pt.eurobilltracker.com/notes/?id=182536513][color=black][b]sinehera[/b][/color][/url][/size]
A11: 236 | B11: 2018-01-04 | C11: 193393 | D11: Ich & Friends | E11: 191767 | F11: :flag-de: | G11: 182528889 | I11: black | J11: =ROW()-1 -> 10 | K11: =IF(AND($A11<>"",$C11<>""),CONCATENATE("[size=85][b]",IF(LEN(A11)<3,CONCATENATE("[color=",Definicoes_Instrucoes!$B$5,"]",MID("000",1,3-LEN(A11)),"[/color]"),""),"[color=",Definicoes_Instrucoes!$B$1,"]",A11,"[/color]",IF(A11=1,CONCATENATE(" parceiro","[color=",Definicoes_Instrucoes!$B$5,"]","s","[/color]")," parceiros")," de hit, nota nº ",IF(LEN(C11)<6,CONCATENATE("[color=",Definicoes_Instrucoes!$B$5,"]",MID("000000",1,6-LEN(C11)),"[/color]"),""),"[color=",Definicoes_Instrucoes!$B$2,"]",C11,"[/color]","[/b]"),"") -> [size=85][b][color=red]236[/color] parceiros de hit, nota nº [color=black]193393[/color][/b] | L11: =IF($B11<>""," - ","") -> - | M11: =IF($B11<>"",CONCATENATE(" [b]","[color=",Definicoes_Instrucoes!$B$3,"]",$B11,"[/color]","[/b]"),"") -> [b][color=#005188]2018-01-04[/color][/b] | N11: =IF($F11<>"",CONCATENATE(" - ",$F11),"") -> - :flag-de: | O11: =IF(AND($D11<>"",$G11<>"",$I11<>""),CONCATENATE(" ",IF($G11<>"",CONCATENATE("[url=https://pt.eurobilltracker.com/notes/?id=",$G11,"]"),""),"[color=",$I11,"][b]",$D11,"[/b][/color]",IF($G11<>"","[/url]","")),"") -> [url=https://pt.eurobilltracker.com/notes/?id=182528889][color=black][b]Ich & Friends[/b][/color][/url] | P11: =IF($H11<>"",CONCATENATE(" – [color=",Definicoes_Instrucoes!$B$4,"]",$H11,"[/color]"),"") | Q11: =IF($B11<>"","[/size]","") -> [/size] | R11: =IF(AND($A11<>"",$B11<>"",$C11<>"",$D11<>"",$F11<>"",$G11<>"",$I11<>""),CONCATENATE(K11,L11,M11,N11,O11,P11,Q11),"") -> [size=85][b][color=red]236[/color] parceiros de hit, nota nº [color=black]193393[/color][/b] - [b][color=#005188]2018-01-04[/color][/b] - :flag-de: [url=https://pt.eurobilltracker.com/notes/?id=182528889][color=black][b]Ich & Friends[/b][/color][/url][/size]
A12: 235 | B12: 2018-01-03 | C12: 193382 | D12: Wechsler | E12: 137399 | F12: :flag-fr: | G12: 182525136 | I12: black | J12: =ROW()-1 -> 11 | K12: =IF(AND($A12<>"",$C12<>""),CONCATENATE("[size=85][b]",IF(LEN(A12)<3,CONCATENATE("[color=",Definicoes_Instrucoes!$B$5,"]",MID("000",1,3-LEN(A12)),"[/color]"),""),"[color=",Definicoes_Instrucoes!$B$1,"]",A12,"[/color]",IF(A12=1,CONCATENATE(" parceiro","[color=",Definicoes_Instrucoes!$B$5,"]","s","[/color]")," parceiros")," de hit, nota nº ",IF(LEN(C12)<6,CONCATENATE("[color=",Definicoes_Instrucoes!$B$5,"]",MID("000000",1,6-LEN(C12)),"[/color]"),""),"[color=",Definicoes_Instrucoes!$B$2,"]",C12,"[/color]","[/b]"),"") -> [size=85][b][color=red]235[/color] parceiros de hit, nota nº [color=black]193382[/color][/b] | L12: =IF($B12<>""," - ","") -> - | M12: =IF($B12<>"",CONCATENATE(" [b]","[color=",Definicoes_Instrucoes!$B$3,"]",$B12,"[/color]","[/b]"),"") -> [b][color=#005188]2018-01-03[/color][/b] | N12: =IF($F12<>"",CONCATENATE(" - ",$F12),"") -> - :flag-fr: | O12: =IF(AND($D12<>"",$G12<>"",$I12<>""),CONCATENATE(" ",IF($G12<>"",CONCATENATE("[url=https://pt.eurobilltracker.com/notes/?id=",$G12,"]"),""),"[color=",$I12,"][b]",$D12,"[/b][/color]",IF($G12<>"","[/url]","")),"") -> [url=https://pt.eurobilltracker.com/notes/?id=182525136][color=black][b]Wechsler[/b][/color][/url] | P12: =IF($H12<>"",CONCATENATE(" – [color=",Definicoes_Instrucoes!$B$4,"]",$H12,"[/color]"),"") | Q12: =IF($B12<>"","[/size]","") -> [/size] | R12: =IF(AND($A12<>"",$B12<>"",$C12<>"",$D12<>"",$F12<>"",$G12<>"",$I12<>""),CONCATENATE(K12,L12,M12,N12,O12,P12,Q12),"") -> [size=85][b][color=red]235[/color] parceiros de hit, nota nº [color=black]193382[/color][/b] - [b][color=#005188]2018-01-03[/color][/b] - :flag-fr: [url=https://pt.eurobilltracker.com/notes/?id=182525136][color=black][b]Wechsler[/b][/color][/url][/size]
A13: 234 | B13: 2017-12-16 | C13: 192087 | D13: cornjac | E13: 28502 | F13: :flag-nl: | G13: 181985174 | I13: black | J13: =ROW()-1 -> 12 | K13: =IF(AND($A13<>"",$C13<>""),CONCATENATE("[size=85][b]",IF(LEN(A13)<3,CONCATENATE("[color=",Definicoes_Instrucoes!$B$5,"]",MID("000",1,3-LEN(A13)),"[/color]"),""),"[color=",Definicoes_Instrucoes!$B$1,"]",A13,"[/color]",IF(A13=1,CONCATENATE(" parceiro","[color=",Definicoes_Instrucoes!$B$5,"]","s","[/color]")," parceiros")," de hit, nota nº ",IF(LEN(C13)<6,CONCATENATE("[color=",Definicoes_Instrucoes!$B$5,"]",MID("000000",1,6-LEN(C13)),"[/color]"),""),"[color=",Definicoes_Instrucoes!$B$2,"]",C13,"[/color]","[/b]"),"") -> [size=85][b][color=red]234[/color] parceiros de hit, nota nº [color=black]192087[/color][/b] | L13: =IF($B13<>""," - ","") -> - | M13: =IF($B13<>"",CONCATENATE(" [b]","[color=",Definicoes_Instrucoes!$B$3,"]",$B13,"[/color]","[/b]"),"") -> [b][color=#005188]2017-12-16[/color][/b] | N13: =IF($F13<>"",CONCATENATE(" - ",$F13),"") -> - :flag-nl: | O13: =IF(AND($D13<>"",$G13<>"",$I13<>""),CONCATENATE(" ",IF($G13<>"",CONCATENATE("[url=https://pt.eurobilltracker.com/notes/?id=",$G13,"]"),""),"[color=",$I13,"][b]",$D13,"[/b][/color]",IF($G13<>"","[/url]","")),"") -> [url=https://pt.eurobilltracker.com/notes/?id=181985174][color=black][b]cornjac[/b][/color][/url] | P13: =IF($H13<>"",CONCATENATE(" – [color=",Definicoes_Instrucoes!$B$4,"]",$H13,"[/color]"),"") | Q13: =IF($B13<>"","[/size]","") -> [/size] | R13: =IF(AND($A13<>"",$B13<>"",$C13<>"",$D13<>"",$F13<>"",$G13<>"",$I13<>""),CONCATENATE(K13,L13,M13,N13,O13,P13,Q13),"") -> [size=85][b][color=red]234[/color] parceiros de hit, nota nº [color=black]192087[/color][/b] - [b][color=#005188]2017-12-16[/color][/b] - :flag-nl: [url=https://pt.eurobilltracker.com/notes/?id=181985174][color=black][b]cornjac[/b][/color][/url][/size]
... A81: 166 | B81: 2015-01-31 | C81: 113457 | D81: CAPITAO | E81: 151595 | F81: :flag-pt: | G81: 143805107 | I81: black | J81: =ROW()-1 -> 80 | K81: =IF(AND($A81<>"",$C81<>""),CONCATENATE("[size=85][b]",IF(LEN(A81)<3,CONCATENATE("[color=",Definicoes_Instrucoes!$B$5,"]",MID("000",1,3-LEN(A81)),"[/color]"),""),"[color=",Definicoes_Instrucoes!$B$1,"]",A81,"[/color]",IF(A81=1,CONCATENATE(" parceiro","[color=",Definicoes_Instrucoes!$B$5,"]","s","[/color]")," parceiros")," de hit, nota nº ",IF(LEN(C81)<6,CONCATENATE("[color=",Definicoes_Instrucoes!$B$5,"]",MID("000000",1,6-LEN(C81)),"[/color]"),""),"[color=",Definicoes_Instrucoes!$B$2,"]",C81,"[/color]","[/b]"),"") -> [size=85][b][color=red]166[/color] parceiros de hit, nota nº [color=black]113457[/color][/b] | L81: =IF($B81<>""," - ","") -> - | M81: =IF($B81<>"",CONCATENATE(" [b]","[color=",Definicoes_Instrucoes!$B$3,"]",$B81,"[/color]","[/b]"),"") -> [b][color=#005188]2015-01-31[/color][/b] | N81: =IF($F81<>"",CONCATENATE(" - ",$F81),"") -> - :flag-pt: | O81: =IF(AND($D81<>"",$G81<>"",$I81<>""),CONCATENATE(" ",IF($G81<>"",CONCATENATE("[url=https://pt.eurobilltracker.com/notes/?id=",$G81,"]"),""),"[color=",$I81,"][b]",$D81,"[/b][/color]",IF($G81<>"","[/url]","")),"") -> [url=https://pt.eurobilltracker.com/notes/?id=143805107][color=black][b]CAPITAO[/b][/color][/url] | P81: =IF($H81<>"",CONCATENATE(" – [color=",Definicoes_Instrucoes!$B$4,"]",$H81,"[/color]"),"") | Q81: =IF($B81<>"","[/size]","") -> [/size] | R81: =IF(AND($A81<>"",$B81<>"",$C81<>"",$D81<>"",$F81<>"",$G81<>"",$I81<>""),CONCATENATE(K81,L81,M81,N81,O81,P81,Q81),"") -> [size=85][b][color=red]166[/color] parceiros de hit, nota nº [color=black]113457[/color][/b] - [b][color=#005188]2015-01-31[/color][/b] - :flag-pt: [url=https://pt.eurobilltracker.com/notes/?id=143805107][color=black][b]CAPITAO[/b][/color][/url][/size]
A82: 165 | B82: 2014-11-28 | C82: 115125 | D82: Kastanhola | E82: 191596 | F82: :flag-pt: | G82: 146147587 | H82: Este foi especial... | I82: black | J82: =ROW()-1 -> 81 | K82: =IF(AND($A82<>"",$C82<>""),CONCATENATE("[size=85][b]",IF(LEN(A82)<3,CONCATENATE("[color=",Definicoes_Instrucoes!$B$5,"]",MID("000",1,3-LEN(A82)),"[/color]"),""),"[color=",Definicoes_Instrucoes!$B$1,"]",A82,"[/color]",IF(A82=1,CONCATENATE(" parceiro","[color=",Definicoes_Instrucoes!$B$5,"]","s","[/color]")," parceiros")," de hit, nota nº ",IF(LEN(C82)<6,CONCATENATE("[color=",Definicoes_Instrucoes!$B$5,"]",MID("000000",1,6-LEN(C82)),"[/color]"),""),"[color=",Definicoes_Instrucoes!$B$2,"]",C82,"[/color]","[/b]"),"") -> [size=85][b][color=red]165[/color] parceiros de hit, nota nº [color=black]115125[/color][/b] | L82: =IF($B82<>""," - ","") -> - | M82: =IF($B82<>"",CONCATENATE(" [b]","[color=",Definicoes_Instrucoes!$B$3,"]",$B82,"[/color]","[/b]"),"") -> [b][color=#005188]2014-11-28[/color][/b] | N82: =IF($F82<>"",CONCATENATE(" - ",$F82),"") -> - :flag-pt: | O82: =IF(AND($D82<>"",$G82<>"",$I82<>""),CONCATENATE(" ",IF($G82<>"",CONCATENATE("[url=https://pt.eurobilltracker.com/notes/?id=",$G82,"]"),""),"[color=",$I82,"][b]",$D82,"[/b][/color]",IF($G82<>"","[/url]","")),"") -> [url=https://pt.eurobilltracker.com/notes/?id=146147587][color=black][b]Kastanhola[/b][/color][/url] | P82: =IF($H82<>"",CONCATENATE(" – [color=",Definicoes_Instrucoes!$B$4,"]",$H82,"[/color]"),"") -> – [color=orange]Este foi especial...[/color] | Q82: =IF($B82<>"","[/size]","") -> [/size] | R82: =IF(AND($A82<>"",$B82<>"",$C82<>"",$D82<>"",$F82<>"",$G82<>"",$I82<>""),CONCATENATE(K82,L82,M82,N82,O82,P82,Q82),"") -> [size=85][b][color=red]165[/color] parceiros de hit, nota nº [color=black]115125[/color][/b] - [b][color=#005188]2014-11-28[/color][/b] - :flag-pt: [url=https://pt.eurobilltracker.com/notes/?id=146147587][color=black][b]Kastanhola[/b][/color][/url] – [color=orange]Este foi especial...[/color][/size]
A83: 164 | B83: 2014-10-03 | C83: 113563 | D83: Math Murderer | E83: 92714 | F83: :flag-de: | G83: 144082667 | I83: black | J83: =ROW()-1 -> 82 | K83: =IF(AND($A83<>"",$C83<>""),CONCATENATE("[size=85][b]",IF(LEN(A83)<3,CONCATENATE("[color=",Definicoes_Instrucoes!$B$5,"]",MID("000",1,3-LEN(A83)),"[/color]"),""),"[color=",Definicoes_Instrucoes!$B$1,"]",A83,"[/color]",IF(A83=1,CONCATENATE(" parceiro","[color=",Definicoes_Instrucoes!$B$5,"]","s","[/color]")," parceiros")," de hit, nota nº ",IF(LEN(C83)<6,CONCATENATE("[color=",Definicoes_Instrucoes!$B$5,"]",MID("000000",1,6-LEN(C83)),"[/color]"),""),"[color=",Definicoes_Instrucoes!$B$2,"]",C83,"[/color]","[/b]"),"") -> [size=85][b][color=red]164[/color] parceiros de hit, nota nº [color=black]113563[/color][/b] | L83: =IF($B83<>""," - ","") -> - | M83: =IF($B83<>"",CONCATENATE(" [b]","[color=",Definicoes_Instrucoes!$B$3,"]",$B83,"[/color]","[/b]"),"") -> [b][color=#005188]2014-10-03[/color][/b] | N83: =IF($F83<>"",CONCATENATE(" - ",$F83),"") -> - :flag-de: | O83: =IF(AND($D83<>"",$G83<>"",$I83<>""),CONCATENATE(" ",IF($G83<>"",CONCATENATE("[url=https://pt.eurobilltracker.com/notes/?id=",$G83,"]"),""),"[color=",$I83,"][b]",$D83,"[/b][/color]",IF($G83<>"","[/url]","")),"") -> [url=https://pt.eurobilltracker.com/notes/?id=144082667][color=black][b]Math Murderer[/b][/color][/url] | P83: =IF($H83<>"",CONCATENATE(" – [color=",Definicoes_Instrucoes!$B$4,"]",$H83,"[/color]"),"") | Q83: =IF($B83<>"","[/size]","") -> [/size] | R83: =IF(AND($A83<>"",$B83<>"",$C83<>"",$D83<>"",$F83<>"",$G83<>"",$I83<>""),CONCATENATE(K83,L83,M83,N83,O83,P83,Q83),"") -> [size=85][b][color=red]164[/color] parceiros de hit, nota nº [color=black]113563[/color][/b] - [b][color=#005188]2014-10-03[/color][/b] - :flag-de: [url=https://pt.eurobilltracker.com/notes/?id=144082667][color=black][b]Math Murderer[/b][/color][/url][/size]
A84: 163 | B84: 2014-08-28 | C84: 112240 | D84: Treasure | E84: 167883 | F84: :flag-lu: | G84: 142817660 | H84: O meu primeiro hit triplo | I84: black | J84: =ROW()-1 -> 83 | K84: =IF(AND($A84<>"",$C84<>""),CONCATENATE("[size=85][b]",IF(LEN(A84)<3,CONCATENATE("[color=",Definicoes_Instrucoes!$B$5,"]",MID("000",1,3-LEN(A84)),"[/color]"),""),"[color=",Definicoes_Instrucoes!$B$1,"]",A84,"[/color]",IF(A84=1,CONCATENATE(" parceiro","[color=",Definicoes_Instrucoes!$B$5,"]","s","[/color]")," parceiros")," de hit, nota nº ",IF(LEN(C84)<6,CONCATENATE("[color=",Definicoes_Instrucoes!$B$5,"]",MID("000000",1,6-LEN(C84)),"[/color]"),""),"[color=",Definicoes_Instrucoes!$B$2,"]",C84,"[/color]","[/b]"),"") -> [size=85][b][color=red]163[/color] parceiros de hit, nota nº [color=black]112240[/color][/b] | L84: =IF($B84<>""," - ","") -> - | M84: =IF($B84<>"",CONCATENATE(" [b]","[color=",Definicoes_Instrucoes!$B$3,"]",$B84,"[/color]","[/b]"),"") -> [b][color=#005188]2014-08-28[/color][/b] | N84: =IF($F84<>"",CONCATENATE(" - ",$F84),"") -> - :flag-lu: | O84: =IF(AND($D84<>"",$G84<>"",$I84<>""),CONCATENATE(" ",IF($G84<>"",CONCATENATE("[url=https://pt.eurobilltracker.com/notes/?id=",$G84,"]"),""),"[color=",$I84,"][b]",$D84,"[/b][/color]",IF($G84<>"","[/url]","")),"") -> [url=https://pt.eurobilltracker.com/notes/?id=142817660][color=black][b]Treasure[/b][/color][/url] | P84: =IF($H84<>"",CONCATENATE(" – [color=",Definicoes_Instrucoes!$B$4,"]",$H84,"[/color]"),"") -> – [color=orange]O meu primeiro hit triplo[/color] | Q84: =IF($B84<>"","[/size]","") -> [/size] | R84: =IF(AND($A84<>"",$B84<>"",$C84<>"",$D84<>"",$F84<>"",$G84<>"",$I84<>""),CONCATENATE(K84,L84,M84,N84,O84,P84,Q84),"") -> [size=85][b][color=red]163[/color] parceiros de hit, nota nº [color=black]112240[/color][/b] - [b][color=#005188]2014-08-28[/color][/b] - :flag-lu: [url=https://pt.eurobilltracker.com/notes/?id=142817660][color=black][b]Treasure[/b][/color][/url] – [color=orange]O meu primeiro hit triplo[/color][/size]
A85: 162 | B85: 2014-08-28 | C85: 112240 | D85: Mil€s66 | E85: 77674 | F85: :flag-de: | G85: 142817660 | H85: O meu primeiro hit triplo | I85: black | J85: =ROW()-1 -> 84 | K85: =IF(AND($A85<>"",$C85<>""),CONCATENATE("[size=85][b]",IF(LEN(A85)<3,CONCATENATE("[color=",Definicoes_Instrucoes!$B$5,"]",MID("000",1,3-LEN(A85)),"[/color]"),""),"[color=",Definicoes_Instrucoes!$B$1,"]",A85,"[/color]",IF(A85=1,CONCATENATE(" parceiro","[color=",Definicoes_Instrucoes!$B$5,"]","s","[/color]")," parceiros")," de hit, nota nº ",IF(LEN(C85)<6,CONCATENATE("[color=",Definicoes_Instrucoes!$B$5,"]",MID("000000",1,6-LEN(C85)),"[/color]"),""),"[color=",Definicoes_Instrucoes!$B$2,"]",C85,"[/color]","[/b]"),"") -> [size=85][b][color=red]162[/color] parceiros de hit, nota nº [color=black]112240[/color][/b] | L85: =IF($B85<>""," - ","") -> - | M85: =IF($B85<>"",CONCATENATE(" [b]","[color=",Definicoes_Instrucoes!$B$3,"]",$B85,"[/color]","[/b]"),"") -> [b][color=#005188]2014-08-28[/color][/b] | N85: =IF($F85<>"",CONCATENATE(" - ",$F85),"") -> - :flag-de: | O85: =IF(AND($D85<>"",$G85<>"",$I85<>""),CONCATENATE(" ",IF($G85<>"",CONCATENATE("[url=https://pt.eurobilltracker.com/notes/?id=",$G85,"]"),""),"[color=",$I85,"][b]",$D85,"[/b][/color]",IF($G85<>"","[/url]","")),"") -> [url=https://pt.eurobilltracker.com/notes/?id=142817660][color=black][b]Mil€s66[/b][/color][/url] | P85: =IF($H85<>"",CONCATENATE(" – [color=",Definicoes_Instrucoes!$B$4,"]",$H85,"[/color]"),"") -> – [color=orange]O meu primeiro hit triplo[/color] | Q85: =IF($B85<>"","[/size]","") -> [/size] | R85: =IF(AND($A85<>"",$B85<>"",$C85<>"",$D85<>"",$F85<>"",$G85<>"",$I85<>""),CONCATENATE(K85,L85,M85,N85,O85,P85,Q85),"") -> [size=85][b][color=red]162[/color] parceiros de hit, nota nº [color=black]112240[/color][/b] - [b][color=#005188]2014-08-28[/color][/b] - :flag-de: [url=https://pt.eurobilltracker.com/notes/?id=142817660][color=black][b]Mil€s66[/b][/color][/url] – [color=orange]O meu primeiro hit triplo[/color][/size]
A86: 161 | B86: 2014-06-25 | C86: 94103 | D86: HorstNDH | E86: 132563 | F86: :flag-de: | G86: 117821973 | I86: black | J86: =ROW()-1 -> 85 | K86: =IF(AND($A86<>"",$C86<>""),CONCATENATE("[size=85][b]",IF(LEN(A86)<3,CONCATENATE("[color=",Definicoes_Instrucoes!$B$5,"]",MID("000",1,3-LEN(A86)),"[/color]"),""),"[color=",Definicoes_Instrucoes!$B$1,"]",A86,"[/color]",IF(A86=1,CONCATENATE(" parceiro","[color=",Definicoes_Instrucoes!$B$5,"]","s","[/color]")," parceiros")," de hit, nota nº ",IF(LEN(C86)<6,CONCATENATE("[color=",Definicoes_Instrucoes!$B$5,"]",MID("000000",1,6-LEN(C86)),"[/color]"),""),"[color=",Definicoes_Instrucoes!$B$2,"]",C86,"[/color]","[/b]"),"") -> [size=85][b][color=red]161[/color] parceiros de hit, nota nº [color=#E1EBF2]0[/color][color=black]94103[/color][/b] | L86: =IF($B86<>""," - ","") -> - | M86: =IF($B86<>"",CONCATENATE(" [b]","[color=",Definicoes_Instrucoes!$B$3,"]",$B86,"[/color]","[/b]"),"") -> [b][color=#005188]2014-06-25[/color][/b] | N86: =IF($F86<>"",CONCATENATE(" - ",$F86),"") -> - :flag-de: | O86: =IF(AND($D86<>"",$G86<>"",$I86<>""),CONCATENATE(" ",IF($G86<>"",CONCATENATE("[url=https://pt.eurobilltracker.com/notes/?id=",$G86,"]"),""),"[color=",$I86,"][b]",$D86,"[/b][/color]",IF($G86<>"","[/url]","")),"") -> [url=https://pt.eurobilltracker.com/notes/?id=117821973][color=black][b]HorstNDH[/b][/color][/url] | P86: =IF($H86<>"",CONCATENATE(" – [color=",Definicoes_Instrucoes!$B$4,"]",$H86,"[/color]"),"") | Q86: =IF($B86<>"","[/size]","") -> [/size] | R86: =IF(AND($A86<>"",$B86<>"",$C86<>"",$D86<>"",$F86<>"",$G86<>"",$I86<>""),CONCATENATE(K86,L86,M86,N86,O86,P86,Q86),"") -> [size=85][b][color=red]161[/color] parceiros de hit, nota nº [color=#E1EBF2]0[/color][color=black]94103[/color][/b] - [b][color=#005188]2014-06-25[/color][/b] - :flag-de: [url=https://pt.eurobilltracker.com/notes/?id=117821973][color=black][b]HorstNDH[/b][/color][/url][/size]
A87: 160 | B87: 2014-06-22 | C87: 103122 | D87: Valdoleiros | E87: 57166 | F87: :flag-pt: | G87: 130650307 | I87: black | J87: =ROW()-1 -> 86 | K87: =IF(AND($A87<>"",$C87<>""),CONCATENATE("[size=85][b]",IF(LEN(A87)<3,CONCATENATE("[color=",Definicoes_Instrucoes!$B$5,"]",MID("000",1,3-LEN(A87)),"[/color]"),""),"[color=",Definicoes_Instrucoes!$B$1,"]",A87,"[/color]",IF(A87=1,CONCATENATE(" parceiro","[color=",Definicoes_Instrucoes!$B$5,"]","s","[/color]")," parceiros")," de hit, nota nº ",IF(LEN(C87)<6,CONCATENATE("[color=",Definicoes_Instrucoes!$B$5,"]",MID("000000",1,6-LEN(C87)),"[/color]"),""),"[color=",Definicoes_Instrucoes!$B$2,"]",C87,"[/color]","[/b]"),"") -> [size=85][b][color=red]160[/color] parceiros de hit, nota nº [color=black]103122[/color][/b] | L87: =IF($B87<>""," - ","") -> - | M87: =IF($B87<>"",CONCATENATE(" [b]","[color=",Definicoes_Instrucoes!$B$3,"]",$B87,"[/color]","[/b]"),"") -> [b][color=#005188]2014-06-22[/color][/b] | N87: =IF($F87<>"",CONCATENATE(" - ",$F87),"") -> - :flag-pt: | O87: =IF(AND($D87<>"",$G87<>"",$I87<>""),CONCATENATE(" ",IF($G87<>"",CONCATENATE("[url=https://pt.eurobilltracker.com/notes/?id=",$G87,"]"),""),"[color=",$I87,"][b]",$D87,"[/b][/color]",IF($G87<>"","[/url]","")),"") -> [url=https://pt.eurobilltracker.com/notes/?id=130650307][color=black][b]Valdoleiros[/b][/color][/url] | P87: =IF($H87<>"",CONCATENATE(" – [color=",Definicoes_Instrucoes!$B$4,"]",$H87,"[/color]"),"") | Q87: =IF($B87<>"","[/size]","") -> [/size] | R87: =IF(AND($A87<>"",$B87<>"",$C87<>"",$D87<>"",$F87<>"",$G87<>"",$I87<>""),CONCATENATE(K87,L87,M87,N87,O87,P87,Q87),"") -> [size=85][b][color=red]160[/color] parceiros de hit, nota nº [color=black]103122[/color][/b] - [b][color=#005188]2014-06-22[/color][/b] - :flag-pt: [url=https://pt.eurobilltracker.com/notes/?id=130650307][color=black][b]Valdoleiros[/b][/color][/url][/size]
A88: 159 | B88: 2014-04-26 | C88: 107613 | D88: monica84 | E88: 124628 | F88: :flag-pt: | G88: 138479184 | I88: black | J88: =ROW()-1 -> 87 | K88: =IF(AND($A88<>"",$C88<>""),CONCATENATE("[size=85][b]",IF(LEN(A88)<3,CONCATENATE("[color=",Definicoes_Instrucoes!$B$5,"]",MID("000",1,3-LEN(A88)),"[/color]"),""),"[color=",Definicoes_Instrucoes!$B$1,"]",A88,"[/color]",IF(A88=1,CONCATENATE(" parceiro","[color=",Definicoes_Instrucoes!$B$5,"]","s","[/color]")," parceiros")," de hit, nota nº ",IF(LEN(C88)<6,CONCATENATE("[color=",Definicoes_Instrucoes!$B$5,"]",MID("000000",1,6-LEN(C88)),"[/color]"),""),"[color=",Definicoes_Instrucoes!$B$2,"]",C88,"[/color]","[/b]"),"") -> [size=85][b][color=red]159[/color] parceiros de hit, nota nº [color=black]107613[/color][/b] | L88: =IF($B88<>""," - ","") -> - | M88: =IF($B88<>"",CONCATENATE(" [b]","[color=",Definicoes_Instrucoes!$B$3,"]",$B88,"[/color]","[/b]"),"") -> [b][color=#005188]2014-04-26[/color][/b] | N88: =IF($F88<>"",CONCATENATE(" - ",$F88),"") -> - :flag-pt: | O88: =IF(AND($D88<>"",$G88<>"",$I88<>""),CONCATENATE(" ",IF($G88<>"",CONCATENATE("[url=https://pt.eurobilltracker.com/notes/?id=",$G88,"]"),""),"[color=",$I88,"][b]",$D88,"[/b][/color]",IF($G88<>"","[/url]","")),"") -> [url=https://pt.eurobilltracker.com/notes/?id=138479184][color=black][b]monica84[/b][/color][/url] | P88: =IF($H88<>"",CONCATENATE(" – [color=",Definicoes_Instrucoes!$B$4,"]",$H88,"[/color]"),"") | Q88: =IF($B88<>"","[/size]","") -> [/size] | R88: =IF(AND($A88<>"",$B88<>"",$C88<>"",$D88<>"",$F88<>"",$G88<>"",$I88<>""),CONCATENATE(K88,L88,M88,N88,O88,P88,Q88),"") -> [size=85][b][color=red]159[/color] parceiros de hit, nota nº [color=black]107613[/color][/b] - [b][color=#005188]2014-04-26[/color][/b] - :flag-pt: [url=https://pt.eurobilltracker.com/notes/?id=138479184][color=black][b]monica84[/b][/color][/url][/size]
A89: 158 | B89: 2014-04-20 | C89: 83599 | D89: Aaron | E89: 10505 | F89: :flag-de: | G89: 103236411 | I89: black | J89: =ROW()-1 -> 88 | K89: =IF(AND($A89<>"",$C89<>""),CONCATENATE("[size=85][b]",IF(LEN(A89)<3,CONCATENATE("[color=",Definicoes_Instrucoes!$B$5,"]",MID("000",1,3-LEN(A89)),"[/color]"),""),"[color=",Definicoes_Instrucoes!$B$1,"]",A89,"[/color]",IF(A89=1,CONCATENATE(" parceiro","[color=",Definicoes_Instrucoes!$B$5,"]","s","[/color]")," parceiros")," de hit, nota nº ",IF(LEN(C89)<6,CONCATENATE("[color=",Definicoes_Instrucoes!$B$5,"]",MID("000000",1,6-LEN(C89)),"[/color]"),""),"[color=",Definicoes_Instrucoes!$B$2,"]",C89,"[/color]","[/b]"),"") -> [size=85][b][color=red]158[/color] parceiros de hit, nota nº [color=#E1EBF2]0[/color][color=black]83599[/color][/b] | L89: =IF($B89<>""," - ","") -> - | M89: =IF($B89<>"",CONCATENATE(" [b]","[color=",Definicoes_Instrucoes!$B$3,"]",$B89,"[/color]","[/b]"),"") -> [b][color=#005188]2014-04-20[/color][/b] | N89: =IF($F89<>"",CONCATENATE(" - ",$F89),"") -> - :flag-de: | O89: =IF(AND($D89<>"",$G89<>"",$I89<>""),CONCATENATE(" ",IF($G89<>"",CONCATENATE("[url=https://pt.eurobilltracker.com/notes/?id=",$G89,"]"),""),"[color=",$I89,"][b]",$D89,"[/b][/color]",IF($G89<>"","[/url]","")),"") -> [url=https://pt.eurobilltracker.com/notes/?id=103236411][color=black][b]Aaron[/b][/color][/url] | P89: =IF($H89<>"",CONCATENATE(" – [color=",Definicoes_Instrucoes!$B$4,"]",$H89,"[/color]"),"") | Q89: =IF($B89<>"","[/size]","") -> [/size] | R89: =IF(AND($A89<>"",$B89<>"",$C89<>"",$D89<>"",$F89<>"",$G89<>"",$I89<>""),CONCATENATE(K89,L89,M89,N89,O89,P89,Q89),"") -> [size=85][b][color=red]158[/color] parceiros de hit, nota nº [color=#E1EBF2]0[/color][color=black]83599[/color][/b] - [b][color=#005188]2014-04-20[/color][/b] - :flag-de: [url=https://pt.eurobilltracker.com/notes/?id=103236411][color=black][b]Aaron[/b][/color][/url][/size]
A90: 157 | B90: 2013-11-30 | C90: 104690 | D90: santosvitor | E90: 175506 | F90: :flag-pt: | G90: 132977201 | I90: black | J90: =ROW()-1 -> 89 | K90: =IF(AND($A90<>"",$C90<>""),CONCATENATE("[size=85][b]",IF(LEN(A90)<3,CONCATENATE("[color=",Definicoes_Instrucoes!$B$5,"]",MID("000",1,3-LEN(A90)),"[/color]"),""),"[color=",Definicoes_Instrucoes!$B$1,"]",A90,"[/color]",IF(A90=1,CONCATENATE(" parceiro","[color=",Definicoes_Instrucoes!$B$5,"]","s","[/color]")," parceiros")," de hit, nota nº ",IF(LEN(C90)<6,CONCATENATE("[color=",Definicoes_Instrucoes!$B$5,"]",MID("000000",1,6-LEN(C90)),"[/color]"),""),"[color=",Definicoes_Instrucoes!$B$2,"]",C90,"[/color]","[/b]"),"") -> [size=85][b][color=red]157[/color] parceiros de hit, nota nº [color=black]104690[/color][/b] | L90: =IF($B90<>""," - ","") -> - | M90: =IF($B90<>"",CONCATENATE(" [b]","[color=",Definicoes_Instrucoes!$B$3,"]",$B90,"[/color]","[/b]"),"") -> [b][color=#005188]2013-11-30[/color][/b] | N90: =IF($F90<>"",CONCATENATE(" - ",$F90),"") -> - :flag-pt: | O90: =IF(AND($D90<>"",$G90<>"",$I90<>""),CONCATENATE(" ",IF($G90<>"",CONCATENATE("[url=https://pt.eurobilltracker.com/notes/?id=",$G90,"]"),""),"[color=",$I90,"][b]",$D90,"[/b][/color]",IF($G90<>"","[/url]","")),"") -> [url=https://pt.eurobilltracker.com/notes/?id=132977201][color=black][b]santosvitor[/b][/color][/url] | P90: =IF($H90<>"",CONCATENATE(" – [color=",Definicoes_Instrucoes!$B$4,"]",$H90,"[/color]"),"") | Q90: =IF($B90<>"","[/size]","") -> [/size] | R90: =IF(AND($A90<>"",$B90<>"",$C90<>"",$D90<>"",$F90<>"",$G90<>"",$I90<>""),CONCATENATE(K90,L90,M90,N90,O90,P90,Q90),"") -> [size=85][b][color=red]157[/color] parceiros de hit, nota nº [color=black]104690[/color][/b] - [b][color=#005188]2013-11-30[/color][/b] - :flag-pt: [url=https://pt.eurobilltracker.com/notes/?id=132977201][color=black][b]santosvitor[/b][/color][/url][/size]
A91: 156 | B91: 2013-11-15 | C91: 104206 | D91: A. Simões | E91: 165982 | F91: :flag-pt: | G91: 132025038 | I91: black | J91: =ROW()-1 -> 90 | K91: =IF(AND($A91<>"",$C91<>""),CONCATENATE("[size=85][b]",IF(LEN(A91)<3,CONCATENATE("[color=",Definicoes_Instrucoes!$B$5,"]",MID("000",1,3-LEN(A91)),"[/color]"),""),"[color=",Definicoes_Instrucoes!$B$1,"]",A91,"[/color]",IF(A91=1,CONCATENATE(" parceiro","[color=",Definicoes_Instrucoes!$B$5,"]","s","[/color]")," parceiros")," de hit, nota nº ",IF(LEN(C91)<6,CONCATENATE("[color=",Definicoes_Instrucoes!$B$5,"]",MID("000000",1,6-LEN(C91)),"[/color]"),""),"[color=",Definicoes_Instrucoes!$B$2,"]",C91,"[/color]","[/b]"),"") -> [size=85][b][color=red]156[/color] parceiros de hit, nota nº [color=black]104206[/color][/b] | L91: =IF($B91<>""," - ","") -> - | M91: =IF($B91<>"",CONCATENATE(" [b]","[color=",Definicoes_Instrucoes!$B$3,"]",$B91,"[/color]","[/b]"),"") -> [b][color=#005188]2013-11-15[/color][/b] | N91: =IF($F91<>"",CONCATENATE(" - ",$F91),"") -> - :flag-pt: | O91: =IF(AND($D91<>"",$G91<>"",$I91<>""),CONCATENATE(" ",IF($G91<>"",CONCATENATE("[url=https://pt.eurobilltracker.com/notes/?id=",$G91,"]"),""),"[color=",$I91,"][b]",$D91,"[/b][/color]",IF($G91<>"","[/url]","")),"") -> [url=https://pt.eurobilltracker.com/notes/?id=132025038][color=black][b]A. Simões[/b][/color][/url] | P91: =IF($H91<>"",CONCATENATE(" – [color=",Definicoes_Instrucoes!$B$4,"]",$H91,"[/color]"),"") | Q91: =IF($B91<>"","[/size]","") -> [/size] | R91: =IF(AND($A91<>"",$B91<>"",$C91<>"",$D91<>"",$F91<>"",$G91<>"",$I91<>""),CONCATENATE(K91,L91,M91,N91,O91,P91,Q91),"") -> [size=85][b][color=red]156[/color] parceiros de hit, nota nº [color=black]104206[/color][/b] - [b][color=#005188]2013-11-15[/color][/b] - :flag-pt: [url=https://pt.eurobilltracker.com/notes/?id=132025038][color=black][b]A. Simões[/b][/color][/url][/size]
A92: 155 | B92: 2013-11-12 | C92: 93989 | D92: foofighta | E92: 31123 | F92: :flag-at: | G92: 117231692 | I92: black | J92: =ROW()-1 -> 91 | K92: =IF(AND($A92<>"",$C92<>""),CONCATENATE("[size=85][b]",IF(LEN(A92)<3,CONCATENATE("[color=",Definicoes_Instrucoes!$B$5,"]",MID("000",1,3-LEN(A92)),"[/color]"),""),"[color=",Definicoes_Instrucoes!$B$1,"]",A92,"[/color]",IF(A92=1,CONCATENATE(" parceiro","[color=",Definicoes_Instrucoes!$B$5,"]","s","[/color]")," parceiros")," de hit, nota nº ",IF(LEN(C92)<6,CONCATENATE("[color=",Definicoes_Instrucoes!$B$5,"]",MID("000000",1,6-LEN(C92)),"[/color]"),""),"[color=",Definicoes_Instrucoes!$B$2,"]",C92,"[/color]","[/b]"),"") -> [size=85][b][color=red]155[/color] parceiros de hit, nota nº [color=#E1EBF2]0[/color][color=black]93989[/color][/b] | L92: =IF($B92<>""," - ","") -> - | M92: =IF($B92<>"",CONCATENATE(" [b]","[color=",Definicoes_Instrucoes!$B$3,"]",$B92,"[/color]","[/b]"),"") -> [b][color=#005188]2013-11-12[/color][/b] | N92: =IF($F92<>"",CONCATENATE(" - ",$F92),"") -> - :flag-at: | O92: =IF(AND($D92<>"",$G92<>"",$I92<>""),CONCATENATE(" ",IF($G92<>"",CONCATENATE("[url=https://pt.eurobilltracker.com/notes/?id=",$G92,"]"),""),"[color=",$I92,"][b]",$D92,"[/b][/color]",IF($G92<>"","[/url]","")),"") -> [url=https://pt.eurobilltracker.com/notes/?id=117231692][color=black][b]foofighta[/b][/color][/url] | P92: =IF($H92<>"",CONCATENATE(" – [color=",Definicoes_Instrucoes!$B$4,"]",$H92,"[/color]"),"") | Q92: =IF($B92<>"","[/size]","") -> [/size] | R92: =IF(AND($A92<>"",$B92<>"",$C92<>"",$D92<>"",$F92<>"",$G92<>"",$I92<>""),CONCATENATE(K92,L92,M92,N92,O92,P92,Q92),"") -> [size=85][b][color=red]155[/color] parceiros de hit, nota nº [color=#E1EBF2]0[/color][color=black]93989[/color][/b] - [b][color=#005188]2013-11-12[/color][/b] - :flag-at: [url=https://pt.eurobilltracker.com/notes/?id=117231692][color=black][b]foofighta[/b][/color][/url][/size]
A93: 154 | B93: 2013-11-04 | C93: 104128 | D93: braga21 | E93: 133202 | F93: :flag-pt: | G93: 132024831 | I93: black | J93: =ROW()-1 -> 92 | K93: =IF(AND($A93<>"",$C93<>""),CONCATENATE("[size=85][b]",IF(LEN(A93)<3,CONCATENATE("[color=",Definicoes_Instrucoes!$B$5,"]",MID("000",1,3-LEN(A93)),"[/color]"),""),"[color=",Definicoes_Instrucoes!$B$1,"]",A93,"[/color]",IF(A93=1,CONCATENATE(" parceiro","[color=",Definicoes_Instrucoes!$B$5,"]","s","[/color]")," parceiros")," de hit, nota nº ",IF(LEN(C93)<6,CONCATENATE("[color=",Definicoes_Instrucoes!$B$5,"]",MID("000000",1,6-LEN(C93)),"[/color]"),""),"[color=",Definicoes_Instrucoes!$B$2,"]",C93,"[/color]","[/b]"),"") -> [size=85][b][color=red]154[/color] parceiros de hit, nota nº [color=black]104128[/color][/b] | L93: =IF($B93<>""," - ","") -> - | M93: =IF($B93<>"",CONCATENATE(" [b]","[color=",Definicoes_Instrucoes!$B$3,"]",$B93,"[/color]","[/b]"),"") -> [b][color=#005188]2013-11-04[/color][/b] | N93: =IF($F93<>"",CONCATENATE(" - ",$F93),"") -> - :flag-pt: | O93: =IF(AND($D93<>"",$G93<>"",$I93<>""),CONCATENATE(" ",IF($G93<>"",CONCATENATE("[url=https://pt.eurobilltracker.com/notes/?id=",$G93,"]"),""),"[color=",$I93,"][b]",$D93,"[/b][/color]",IF($G93<>"","[/url]","")),"") -> [url=https://pt.eurobilltracker.com/notes/?id=132024831][color=black][b]braga21[/b][/color][/url] | P93: =IF($H93<>"",CONCATENATE(" – [color=",Definicoes_Instrucoes!$B$4,"]",$H93,"[/color]"),"") | Q93: =IF($B93<>"","[/size]","") -> [/size] | R93: =IF(AND($A93<>"",$B93<>"",$C93<>"",$D93<>"",$F93<>"",$G93<>"",$I93<>""),CONCATENATE(K93,L93,M93,N93,O93,P93,Q93),"") -> [size=85][b][color=red]154[/color] parceiros de hit, nota nº [color=black]104128[/color][/b] - [b][color=#005188]2013-11-04[/color][/b] - :flag-pt: [url=https://pt.eurobilltracker.com/notes/?id=132024831][color=black][b]braga21[/b][/color][/url][/size]
A94: 153 | B94: 2013-07-14 | C94: 95919 | D94: lexiepexie | E94: 160785 | F94: :flag-pt: | G94: 120290117 | I94: black | J94: =ROW()-1 -> 93 | K94: =IF(AND($A94<>"",$C94<>""),CONCATENATE("[size=85][b]",IF(LEN(A94)<3,CONCATENATE("[color=",Definicoes_Instrucoes!$B$5,"]",MID("000",1,3-LEN(A94)),"[/color]"),""),"[color=",Definicoes_Instrucoes!$B$1,"]",A94,"[/color]",IF(A94=1,CONCATENATE(" parceiro","[color=",Definicoes_Instrucoes!$B$5,"]","s","[/color]")," parceiros")," de hit, nota nº ",IF(LEN(C94)<6,CONCATENATE("[color=",Definicoes_Instrucoes!$B$5,"]",MID("000000",1,6-LEN(C94)),"[/color]"),""),"[color=",Definicoes_Instrucoes!$B$2,"]",C94,"[/color]","[/b]"),"") -> [size=85][b][color=red]153[/color] parceiros de hit, nota nº [color=#E1EBF2]0[/color][color=black]95919[/color][/b] | L94: =IF($B94<>""," - ","") -> - | M94: =IF($B94<>"",CONCATENATE(" [b]","[color=",Definicoes_Instrucoes!$B$3,"]",$B94,"[/color]","[/b]"),"") -> [b][color=#005188]2013-07-14[/color][/b] | N94: =IF($F94<>"",CONCATENATE(" - ",$F94),"") -> - :flag-pt: | O94: =IF(AND($D94<>"",$G94<>"",$I94<>""),CONCATENATE(" ",IF($G94<>"",CONCATENATE("[url=https://pt.eurobilltracker.com/notes/?id=",$G94,"]"),""),"[color=",$I94,"][b]",$D94,"[/b][/color]",IF($G94<>"","[/url]","")),"") -> [url=https://pt.eurobilltracker.com/notes/?id=120290117][color=black][b]lexiepexie[/b][/color][/url] | P94: =IF($H94<>"",CONCATENATE(" – [color=",Definicoes_Instrucoes!$B$4,"]",$H94,"[/color]"),"") | Q94: =IF($B94<>"","[/size]","") -> [/size] | R94: =IF(AND($A94<>"",$B94<>"",$C94<>"",$D94<>"",$F94<>"",$G94<>"",$I94<>""),CONCATENATE(K94,L94,M94,N94,O94,P94,Q94),"") -> [size=85][b][color=red]153[/color] parceiros de hit, nota nº [color=#E1EBF2]0[/color][color=black]95919[/color][/b] - [b][color=#005188]2013-07-14[/color][/b] - :flag-pt: [url=https://pt.eurobilltracker.com/notes/?id=120290117][color=black][b]lexiepexie[/b][/color][/url][/size]
A95: 152 | B95: 2013-07-06 | C95: 98951 | D95: EnricoDB2 | E95: 58214 | F95: :flag-nl: | G95: 125706249 | I95: black | J95: =ROW()-1 -> 94 | K95: =IF(AND($A95<>"",$C95<>""),CONCATENATE("[size=85][b]",IF(LEN(A95)<3,CONCATENATE("[color=",Definicoes_Instrucoes!$B$5,"]",MID("000",1,3-LEN(A95)),"[/color]"),""),"[color=",Definicoes_Instrucoes!$B$1,"]",A95,"[/color]",IF(A95=1,CONCATENATE(" parceiro","[color=",Definicoes_Instrucoes!$B$5,"]","s","[/color]")," parceiros")," de hit, nota nº ",IF(LEN(C95)<6,CONCATENATE("[color=",Definicoes_Instrucoes!$B$5,"]",MID("000000",1,6-LEN(C95)),"[/color]"),""),"[color=",Definicoes_Instrucoes!$B$2,"]",C95,"[/color]","[/b]"),"") -> [size=85][b][color=red]152[/color] parceiros de hit, nota nº [color=#E1EBF2]0[/color][color=black]98951[/color][/b] | L95: =IF($B95<>""," - ","") -> - | M95: =IF($B95<>"",CONCATENATE(" [b]","[color=",Definicoes_Instrucoes!$B$3,"]",$B95,"[/color]","[/b]"),"") -> [b][color=#005188]2013-07-06[/color][/b] | N95: =IF($F95<>"",CONCATENATE(" - ",$F95),"") -> - :flag-nl: | O95: =IF(AND($D95<>"",$G95<>"",$I95<>""),CONCATENATE(" ",IF($G95<>"",CONCATENATE("[url=https://pt.eurobilltracker.com/notes/?id=",$G95,"]"),""),"[color=",$I95,"][b]",$D95,"[/b][/color]",IF($G95<>"","[/url]","")),"") -> [url=https://pt.eurobilltracker.com/notes/?id=125706249][color=black][b]EnricoDB2[/b][/color][/url] | P95: =IF($H95<>"",CONCATENATE(" – [color=",Definicoes_Instrucoes!$B$4,"]",$H95,"[/color]"),"") | Q95: =IF($B95<>"","[/size]","") -> [/size] | R95: =IF(AND($A95<>"",$B95<>"",$C95<>"",$D95<>"",$F95<>"",$G95<>"",$I95<>""),CONCATENATE(K95,L95,M95,N95,O95,P95,Q95),"") -> [size=85][b][color=red]152[/color] parceiros de hit, nota nº [color=#E1EBF2]0[/color][color=black]98951[/color][/b] - [b][color=#005188]2013-07-06[/color][/b] - :flag-nl: [url=https://pt.eurobilltracker.com/notes/?id=125706249][color=black][b]EnricoDB2[/b][/color][/url][/size]
A96: 151 | B96: 2013-06-01 | C96: 99618 | D96: maarsy | E96: 121187 | F96: :flag-be: | G96: 125964541 | I96: black | J96: =ROW()-1 -> 95 | K96: =IF(AND($A96<>"",$C96<>""),CONCATENATE("[size=85][b]",IF(LEN(A96)<3,CONCATENATE("[color=",Definicoes_Instrucoes!$B$5,"]",MID("000",1,3-LEN(A96)),"[/color]"),""),"[color=",Definicoes_Instrucoes!$B$1,"]",A96,"[/color]",IF(A96=1,CONCATENATE(" parceiro","[color=",Definicoes_Instrucoes!$B$5,"]","s","[/color]")," parceiros")," de hit, nota nº ",IF(LEN(C96)<6,CONCATENATE("[color=",Definicoes_Instrucoes!$B$5,"]",MID("000000",1,6-LEN(C96)),"[/color]"),""),"[color=",Definicoes_Instrucoes!$B$2,"]",C96,"[/color]","[/b]"),"") -> [size=85][b][color=red]151[/color] parceiros de hit, nota nº [color=#E1EBF2]0[/color][color=black]99618[/color][/b] | L96: =IF($B96<>""," - ","") -> - | M96: =IF($B96<>"",CONCATENATE(" [b]","[color=",Definicoes_Instrucoes!$B$3,"]",$B96,"[/color]","[/b]"),"") -> [b][color=#005188]2013-06-01[/color][/b] | N96: =IF($F96<>"",CONCATENATE(" - ",$F96),"") -> - :flag-be: | O96: =IF(AND($D96<>"",$G96<>"",$I96<>""),CONCATENATE(" ",IF($G96<>"",CONCATENATE("[url=https://pt.eurobilltracker.com/notes/?id=",$G96,"]"),""),"[color=",$I96,"][b]",$D96,"[/b][/color]",IF($G96<>"","[/url]","")),"") -> [url=https://pt.eurobilltracker.com/notes/?id=125964541][color=black][b]maarsy[/b][/color][/url] | P96: =IF($H96<>"",CONCATENATE(" – [color=",Definicoes_Instrucoes!$B$4,"]",$H96,"[/color]"),"") | Q96: =IF($B96<>"","[/size]","") -> [/size] | R96: =IF(AND($A96<>"",$B96<>"",$C96<>"",$D96<>"",$F96<>"",$G96<>"",$I96<>""),CONCATENATE(K96,L96,M96,N96,O96,P96,Q96),"") -> [size=85][b][color=red]151[/color] parceiros de hit, nota nº [color=#E1EBF2]0[/color][color=black]99618[/color][/b] - [b][color=#005188]2013-06-01[/color][/b] - :flag-be: [url=https://pt.eurobilltracker.com/notes/?id=125964541][color=black][b]maarsy[/b][/color][/url][/size]
A97: 150 | B97: 2013-05-16 | C97: 66897 | D97: Rafaelus | E97: 149073 | F97: :flag-si: | G97: 77496664 | I97: black | J97: =ROW()-1 -> 96 | K97: =IF(AND($A97<>"",$C97<>""),CONCATENATE("[size=85][b]",IF(LEN(A97)<3,CONCATENATE("[color=",Definicoes_Instrucoes!$B$5,"]",MID("000",1,3-LEN(A97)),"[/color]"),""),"[color=",Definicoes_Instrucoes!$B$1,"]",A97,"[/color]",IF(A97=1,CONCATENATE(" parceiro","[color=",Definicoes_Instrucoes!$B$5,"]","s","[/color]")," parceiros")," de hit, nota nº ",IF(LEN(C97)<6,CONCATENATE("[color=",Definicoes_Instrucoes!$B$5,"]",MID("000000",1,6-LEN(C97)),"[/color]"),""),"[color=",Definicoes_Instrucoes!$B$2,"]",C97,"[/color]","[/b]"),"") -> [size=85][b][color=red]150[/color] parceiros de hit, nota nº [color=#E1EBF2]0[/color][color=black]66897[/color][/b] | L97: =IF($B97<>""," - ","") -> - | M97: =IF($B97<>"",CONCATENATE(" [b]","[color=",Definicoes_Instrucoes!$B$3,"]",$B97,"[/color]","[/b]"),"") -> [b][color=#005188]2013-05-16[/color][/b] | N97: =IF($F97<>"",CONCATENATE(" - ",$F97),"") -> - :flag-si: | O97: =IF(AND($D97<>"",$G97<>"",$I97<>""),CONCATENATE(" ",IF($G97<>"",CONCATENATE("[url=https://pt.eurobilltracker.com/notes/?id=",$G97,"]"),""),"[color=",$I97,"][b]",$D97,"[/b][/color]",IF($G97<>"","[/url]","")),"") -> [url=https://pt.eurobilltracker.com/notes/?id=77496664][color=black][b]Rafaelus[/b][/color][/url] | P97: =IF($H97<>"",CONCATENATE(" – [color=",Definicoes_Instrucoes!$B$4,"]",$H97,"[/color]"),"") | Q97: =IF($B97<>"","[/size]","") -> [/size] | R97: =IF(AND($A97<>"",$B97<>"",$C97<>"",$D97<>"",$F97<>"",$G97<>"",$I97<>""),CONCATENATE(K97,L97,M97,N97,O97,P97,Q97),"") -> [size=85][b][color=red]150[/color] parceiros de hit, nota nº [color=#E1EBF2]0[/color][color=black]66897[/color][/b] - [b][color=#005188]2013-05-16[/color][/b] - :flag-si: [url=https://pt.eurobilltracker.com/notes/?id=77496664][color=black][b]Rafaelus[/b][/color][/url][/size]
... A190: 57 | B190: 2008-06-21 | C190: 28807 | D190: João Rodrigues Presidencial Tou | E190: 76532 | F190: :flag-pt: | G190: 34035752 | I190: black | J190: =ROW()-1 -> 189 | K190: =IF(AND($A190<>"",$C190<>""),CONCATENATE("[size=85][b]",IF(LEN(A190)<3,CONCATENATE("[color=",Definicoes_Instrucoes!$B$5,"]",MID("000",1,3-LEN(A190)),"[/color]"),""),"[color=",Definicoes_Instrucoes!$B$1,"]",A190,"[/color]",IF(A190=1,CONCATENATE(" parceiro","[color=",Definicoes_Instrucoes!$B$5,"]","s","[/color]")," parceiros")," de hit, nota nº ",IF(LEN(C190)<6,CONCATENATE("[color=",Definicoes_Instrucoes!$B$5,"]",MID("000000",1,6-LEN(C190)),"[/color]"),""),"[color=",Definicoes_Instrucoes!$B$2,"]",C190,"[/color]","[/b]"),"") -> [size=85][b][color=#E1EBF2]0[/color][color=red]57[/color] parceiros de hit, nota nº [color=#E1EBF2]0[/color][color=black]28807[/color][/b] | L190: =IF($B190<>""," - ","") -> - | M190: =IF($B190<>"",CONCATENATE(" [b]","[color=",Definicoes_Instrucoes!$B$3,"]",$B190,"[/color]","[/b]"),"") -> [b][color=#005188]2008-06-21[/color][/b] | N190: =IF($F190<>"",CONCATENATE(" - ",$F190),"") -> - :flag-pt: | O190: =IF(AND($D190<>"",$G190<>"",$I190<>""),CONCATENATE(" ",IF($G190<>"",CONCATENATE("[url=https://pt.eurobilltracker.com/notes/?id=",$G190,"]"),""),"[color=",$I190,"][b]",$D190,"[/b][/color]",IF($G190<>"","[/url]","")),"") -> [url=https://pt.eurobilltracker.com/notes/?id=34035752][color=black][b]João Rodrigues Presidencial Tou[/b][/color][/url] | P190: =IF($H190<>"",CONCATENATE(" – [color=",Definicoes_Instrucoes!$B$4,"]",$H190,"[/color]"),"") | Q190: =IF($B190<>"","[/size]","") -> [/size] | R190: =IF(AND($A190<>"",$B190<>"",$C190<>"",$D190<>"",$F190<>"",$G190<>"",$I190<>""),CONCATENATE(K190,L190,M190,N190,O190,P190,Q190),"") -> [size=85][b][color=#E1EBF2]0[/color][color=red]57[/color] parceiros de hit, nota nº [color=#E1EBF2]0[/color][color=black]28807[/color][/b] - [b][color=#005188]2008-06-21[/color][/b] - :flag-pt: [url=https://pt.eurobilltracker.com/notes/?id=34035752][color=black][b]João Rodrigues Presidencial Tou[/b][/color][/url][/size]
A191: 56 | B191: 2008-06-13 | C191: 29675 | D191: Mr & Mrs Burky | E191: 32954 | F191: :flag-at: | G191: 35369436 | H191: O meu primeiro hit totalmente internacional | I191: black | J191: =ROW()-1 -> 190 | K191: =IF(AND($A191<>"",$C191<>""),CONCATENATE("[size=85][b]",IF(LEN(A191)<3,CONCATENATE("[color=",Definicoes_Instrucoes!$B$5,"]",MID("000",1,3-LEN(A191)),"[/color]"),""),"[color=",Definicoes_Instrucoes!$B$1,"]",A191,"[/color]",IF(A191=1,CONCATENATE(" parceiro","[color=",Definicoes_Instrucoes!$B$5,"]","s","[/color]")," parceiros")," de hit, nota nº ",IF(LEN(C191)<6,CONCATENATE("[color=",Definicoes_Instrucoes!$B$5,"]",MID("000000",1,6-LEN(C191)),"[/color]"),""),"[color=",Definicoes_Instrucoes!$B$2,"]",C191,"[/color]","[/b]"),"") -> [size=85][b][color=#E1EBF2]0[/color][color=red]56[/color] parceiros de hit, nota nº [color=#E1EBF2]0[/color][color=black]29675[/color][/b] | L191: =IF($B191<>""," - ","") -> - | M191: =IF($B191<>"",CONCATENATE(" [b]","[color=",Definicoes_Instrucoes!$B$3,"]",$B191,"[/color]","[/b]"),"") -> [b][color=#005188]2008-06-13[/color][/b] | N191: =IF($F191<>"",CONCATENATE(" - ",$F191),"") -> - :flag-at: | O191: =IF(AND($D191<>"",$G191<>"",$I191<>""),CONCATENATE(" ",IF($G191<>"",CONCATENATE("[url=https://pt.eurobilltracker.com/notes/?id=",$G191,"]"),""),"[color=",$I191,"][b]",$D191,"[/b][/color]",IF($G191<>"","[/url]","")),"") -> [url=https://pt.eurobilltracker.com/notes/?id=35369436][color=black][b]Mr & Mrs Burky[/b][/color][/url] | P191: =IF($H191<>"",CONCATENATE(" – [color=",Definicoes_Instrucoes!$B$4,"]",$H191,"[/color]"),"") -> – [color=orange]O meu primeiro hit totalmente internacional[/color] | Q191: =IF($B191<>"","[/size]","") -> [/size] | R191: =IF(AND($A191<>"",$B191<>"",$C191<>"",$D191<>"",$F191<>"",$G191<>"",$I191<>""),CONCATENATE(K191,L191,M191,N191,O191,P191,Q191),"") -> [size=85][b][color=#E1EBF2]0[/color][color=red]56[/color] parceiros de hit, nota nº [color=#E1EBF2]0[/color][color=black]29675[/color][/b] - [b][color=#005188]2008-06-13[/color][/b] - :flag-at: [url=https://pt.eurobilltracker.com/notes/?id=35369436][color=black][b]Mr & Mrs Burky[/b][/color][/url] – [color=orange]O meu primeiro hit totalmente internacional[/color][/size]
